Uber Exif Photo
Keywords : Tolosa
By-line : Stefano Antonelli
Copyright Notice : (C) S.ANTONELLI
Make : Leica Camera AG
Camera Model Name : M9 Digital Camera
Software : Adobe Photoshop Lightroom 3.6 (Windows)
Modify Date : 2012:08:19 16:56:08
Artist : Stefano Antonelli
Copyright : (C) S.ANTONELLI
Exposure Time : 1/25
F Number : 3.4
Exposure Program : Aperture-priority AE
ISO : 800
Date/Time Original : 2012:08:12 21:14:59
Create Date : 2012:08:12 21:14:59
Shutter Speed Value : 1/25
Aperture Value : 3.4
Exposure Compensation : 0
Max Aperture Value : 2.0
Metering Mode : Center-weighted average
Light Source : Unknown
Flash : No Flash
Focal Length : 35.0 mm
Contrast : Normal
Sharpening : Normal
Saturation : Black & White
White Balance : Auto
JPEG Quality : Fine
WB RGB Levels : 0.4404301075 1 0.8650018478
User Profile : 90f28
JPEG Size : 5216x3472
Firmware Version : 1.176
Base ISO : 160
Sensor Width : 5270
Sensor Height : 3516
Sensor Bit Depth : 14
Camera Temperature : 26 C
Lens Type : Summicron-M 35mm f/2 (IV)
Approximate F Number : 3.5
Measured LV : 1.03
External Sensor Brightness Value : 0.20
Scene Type : Directly photographed
Exposure Mode : Manual
Digital Zoom Ratio : 0
Focal Length In 35mm Format : 35 mm
Scene Capture Type : Standard
Serial Number : 3975884
Lens Model : Leica Summicron-M 35mm f/2 (IV)
Maker Note Safety : Safe
Creator Tool : Adobe Photoshop Lightroom 3.6 (Windows)
Label : Purple
Rating : 5
Lens : Leica Summicron-M 35mm f/2 (IV)
Date Created : 2012:08:12 21:14:59
Format : image/jpeg
Version : 6.6
Process Version : 5.7
Color Temperature : 5700
Tint : -9
Exposure : 0.00
Shadows : 14
Brightness : +74
Sharpness : 25
Luminance Smoothing : 0
Color Noise Reduction : 25
Chromatic Aberration R : 0
Chromatic Aberration B : 0
Vignette Amount : 0
Shadow Tint : 0
Red Hue : 0
Red Saturation : 0
Green Hue : 0
Green Saturation : 0
Blue Hue : 0
Blue Saturation : 0
Fill Light : 12
Highlight Recovery : 0
Clarity : 0
Defringe : 0
Gray Mixer Red : -9
Gray Mixer Orange : -18
Gray Mixer Yellow : -22
Gray Mixer Green : -26
Gray Mixer Aqua : -16
Gray Mixer Blue : +14
Gray Mixer Purple : +18
Gray Mixer Magenta : +4
Split Toning Shadow Hue : 0
Split Toning Shadow Saturation : 0
Split Toning Highlight Hue : 0
Split Toning Highlight Saturation : 0
Split Toning Balance : 0
Parametric Shadows : 0
Parametric Darks : 0
Parametric Lights : 0
Parametric Highlights : 0
Parametric Shadow Split : 25
Parametric Midtone Split : 50
Parametric Highlight Split : 75
Sharpen Radius : +1.0
Sharpen Detail : 25
Sharpen Edge Masking : 0
Post Crop Vignette Amount : -44
Post Crop Vignette Midpoint : 50
Post Crop Vignette Feather : 50
Post Crop Vignette Roundness : 0
Post Crop Vignette Style : Highlight Priority
Post Crop Vignette Highlight Contrast : 0
Grain Amount : 0
Color Noise Reduction Detail : 50
Lens Profile Enable : 0
Lens Manual Distortion Amount : 0
Perspective Vertical : 0
Perspective Horizontal : 0
Perspective Rotate : 0.0
Perspective Scale : 100
Convert To Grayscale : True
Tone Curve Name : Custom
Camera Profile : Adobe Standard
Lens Profile Setup : LensDefaults
Has Settings : True
Has Crop : False
Already Applied : True
Creator : Stefano Antonelli
Rights : (C) S.ANTONELLI
Subject : Tolosa
Creator Work Email : santonelli@iol.it
Tone Curve : 0, 0, 32, 22, 64, 56, 128, 138, 193, 210, 255, 255
Image Width : 300
Image Height : 200
Bits Per Sample : 8
Color Components : 1
Aperture : 3.4
Blue Balance : 0.865002
Image Size : 300x200
Lens ID : Leica Summicron-M 35mm f/2 (IV)
Megapixels : 0.060
Red Balance : 0.44043
Scale Factor To 35 mm Equivalent : 1.0
Shutter Speed : 1/25
Circle Of Confusion : 0.030 mm
Field Of View : 54.4 deg
Focal Length : 35.0 mm (35 mm equivalent: 35.0 mm)
Hyperfocal Distance : 11.99 m
Light Value : 5.2