Uber Exif Photo
By-line : MOHANRAJ DHANAGOPAL
Copyright Notice : MOHANRAJ DHANAGOPAL
Caption-Abstract : OLYMPUS DIGITAL CAMERA
Image Description : OLYMPUS DIGITAL CAMERA
Make : OLYMPUS IMAGING CORP.
Camera Model Name : E-M5
Software : Adobe Photoshop Lightroom 3.6 (Windows)
Modify Date : 2012:09:08 17:58:05
Artist : MOHANRAJ DHANAGOPAL
Copyright : MOHANRAJ DHANAGOPAL
Exposure Time : 1/80
F Number : 2.5
Exposure Program : Aperture-priority AE
ISO : 200
Sensitivity Type : Standard Output Sensitivity
Date/Time Original : 2012:09:08 14:53:04
Create Date : 2012:09:08 14:53:04
Shutter Speed Value : 1/80
Aperture Value : 2.5
Exposure Compensation : +0.7
Max Aperture Value : 1.4
Subject Distance : 17.8 m
Metering Mode : Multi-segment
Light Source : Unknown
Flash : Auto, Did not fire
Focal Length : 25.0 mm
CFA Pattern : [Red,Green][Green,Blue]
Custom Rendered : Normal
Exposure Mode : Manual
White Balance : Auto
Digital Zoom Ratio : 1
Focal Length In 35mm Format : 50 mm
Scene Capture Type : Standard
Gain Control : None
Contrast : Normal
Saturation : Normal
Sharpness : Normal
Serial Number : BEJ501258
Lens Info : 25mm f/1.4
Lens Model : LEICA DG SUMMILUX 25/F1.4
Lens Serial Number : 11091101952
Profile Description : sRGB IEC61966-2.1
Format : image/jpeg
Creator Tool : Adobe Photoshop Lightroom 3.6 (Windows)
Lens : LEICA DG SUMMILUX 25/F1.4
Approximate Focus Distance : 17.8
Flash Compensation : 0
Date Created : 2012:09:08 14:53:04
Version : 6.6
Process Version : 5.7
Color Temperature : 4900
Tint : +38
Exposure : 0.00
Shadows : 8
Brightness : +27
Luminance Smoothing : 10
Color Noise Reduction : 25
Chromatic Aberration R : 0
Chromatic Aberration B : 0
Vignette Amount : 0
Shadow Tint : 0
Red Hue : 0
Red Saturation : 0
Green Hue : 0
Green Saturation : 0
Blue Hue : 0
Blue Saturation : 0
Fill Light : 0
Highlight Recovery : 0
Clarity : +35
Defringe : 0
Gray Mixer Red : +44
Gray Mixer Orange : +26
Gray Mixer Yellow : +20
Gray Mixer Green : -32
Gray Mixer Aqua : -32
Gray Mixer Blue : -36
Gray Mixer Purple : +42
Gray Mixer Magenta : +4
Split Toning Shadow Hue : 45
Split Toning Shadow Saturation : 10
Split Toning Highlight Hue : 50
Split Toning Highlight Saturation : 0
Split Toning Balance : 0
Parametric Shadows : 0
Parametric Darks : -60
Parametric Lights : +70
Parametric Highlights : 0
Parametric Shadow Split : 25
Parametric Midtone Split : 50
Parametric Highlight Split : 75
Sharpen Radius : +0.8
Sharpen Detail : 40
Sharpen Edge Masking : 10
Post Crop Vignette Amount : -7
Post Crop Vignette Midpoint : 50
Post Crop Vignette Feather : 50
Post Crop Vignette Roundness : 0
Post Crop Vignette Style : Highlight Priority
Post Crop Vignette Highlight Contrast : 0
Grain Amount : 0
Luminance Noise Reduction Detail : 50
Color Noise Reduction Detail : 50
Luminance Noise Reduction Contrast : 0
Lens Profile Enable : 0
Lens Manual Distortion Amount : 0
Perspective Vertical : 0
Perspective Horizontal : 0
Perspective Rotate : 0.0
Perspective Scale : 100
Convert To Grayscale : True
Tone Curve Name : Medium Contrast
Camera Profile : Adobe Standard
Lens Profile Setup : LensDefaults
Has Settings : True
Crop Top : 0.046075
Crop Left : 0.038594
Crop Bottom : 0.995519
Crop Right : 0.988038
Crop Angle : 0
Crop Constrain To Warp : 0
Crop Width : 1032
Crop Height : 774
Crop Unit : pixels
Has Crop : True
Already Applied : True
Description : OLYMPUS DIGITAL CAMERA
Creator : MOHANRAJ DHANAGOPAL
Rights : MOHANRAJ DHANAGOPAL
Tone Curve : 0, 0, 32, 22, 64, 56, 128, 128, 192, 196, 255, 255
Image Width : 225
Image Height : 300
Bits Per Sample : 8
Color Components : 3
Aperture : 2.5
Image Size : 225x300
Megapixels : 0.068
Scale Factor To 35 mm Equivalent : 2.0
Shutter Speed : 1/80
Circle Of Confusion : 0.015 mm
Depth Of Field : inf (8.61 m - inf)
Field Of View : 39.6 deg
Focal Length : 25.0 mm (35 mm equivalent: 50.0 mm)
Hyperfocal Distance : 16.64 m
Light Value : 8.0
Lens ID : LEICA DG SUMMILUX 25mm F1.4