Uber Exif Photo
Make : Apple
Camera Model Name : iPhone 4
Software : Adobe Photoshop Lightroom 4.2 (Macintosh)
Modify Date : 2012:09:09 10:13:18
Exposure Time : 1/450
F Number : 2.8
Exposure Program : Program AE
ISO : 80
Date/Time Original : 2011:11:10 15:56:36
Create Date : 2011:11:10 15:56:36
Shutter Speed Value : 1/450
Aperture Value : 2.8
Metering Mode : Spot
Flash : Off, Did not fire
Focal Length : 3.9 mm
Subject Area : 1462 1120 484 484
Sensing Method : One-chip color area
Exposure Mode : Auto
White Balance : Auto
Scene Capture Type : Standard
Sharpness : Hard
Creator Tool : Adobe Photoshop Lightroom 4.2 (Macintosh)
Date Created : 2011:11:10 15:56:36
Version : 7.2
Process Version : 6.7
Incremental Temperature : 0
Incremental Tint : 0
Luminance Smoothing : 15
Color Noise Reduction : 5
Vignette Amount : 0
Shadow Tint : 0
Red Hue : 0
Red Saturation : 0
Green Hue : 0
Green Saturation : 0
Blue Hue : 0
Blue Saturation : 0
Gray Mixer Red : +50
Gray Mixer Orange : +25
Gray Mixer Yellow : -19
Gray Mixer Green : -10
Gray Mixer Aqua : -60
Gray Mixer Blue : -35
Gray Mixer Purple : -35
Gray Mixer Magenta : 0
Split Toning Shadow Hue : 0
Split Toning Shadow Saturation : 0
Split Toning Highlight Hue : 0
Split Toning Highlight Saturation : 0
Split Toning Balance : 0
Parametric Shadows : 0
Parametric Darks : 0
Parametric Lights : 0
Parametric Highlights : 0
Parametric Shadow Split : 25
Parametric Midtone Split : 50
Parametric Highlight Split : 75
Sharpen Radius : +1.0
Sharpen Detail : 25
Sharpen Edge Masking : 0
Post Crop Vignette Amount : 0
Grain Amount : 0
Luminance Noise Reduction Detail : 50
Color Noise Reduction Detail : 50
Luminance Noise Reduction Contrast : 0
Lens Profile Enable : 0
Lens Manual Distortion Amount : 0
Perspective Vertical : 0
Perspective Horizontal : 0
Perspective Rotate : 0.0
Perspective Scale : 100
Auto Lateral CA : 0
Exposure 2012 : +0.75
Contrast 2012 : +16
Highlights 2012 : -20
Shadows 2012 : +20
Whites 2012 : -100
Blacks 2012 : -10
Clarity 2012 : +20
Convert To Grayscale : True
Tone Curve Name 2012 : Medium Contrast
Camera Profile : Embedded
Lens Profile Setup : LensDefaults
Has Settings : True
Has Crop : False
Already Applied : True
Format : image/jpeg
Tone Curve PV2012 : 0, 0, 32, 22, 64, 56, 128, 128, 192, 196, 255, 255
Tone Curve PV2012 Red : 0, 0, 255, 255
Tone Curve PV2012 Green : 0, 0, 255, 255
Tone Curve PV2012 Blue : 0, 0, 255, 255
Derived From :
Image Width : 224
Image Height : 300
Bits Per Sample : 8
Color Components : 1
Aperture : 2.8
Image Size : 224x300
Megapixels : 0.067
Shutter Speed : 1/450
Light Value : 12.1