Uber Exif Photo
Make : SONY
Camera Model Name : NEX-7
Software : Adobe Photoshop Lightroom 4.2 (Macintosh)
Modify Date : 2012:09:25 13:16:27
Exposure Time : 1/320
F Number : 2.8
Exposure Program : Aperture-priority AE
ISO : 800
Sensitivity Type : Recommended Exposure Index
Recommended Exposure Index : 800
Date/Time Original : 2012:09:13 16:58:57
Create Date : 2012:09:13 16:58:57
Shutter Speed Value : 1/320
Aperture Value : 2.8
Brightness Value : 3.49765625
Exposure Compensation : 0
Max Aperture Value : 1.8
Metering Mode : Multi-segment
Light Source : Daylight
Flash : Off, Did not fire
Focal Length : 24.0 mm
Scene Type : Directly photographed
Custom Rendered : Normal
Exposure Mode : Auto
White Balance : Manual
Focal Length In 35mm Format : 36 mm
Scene Capture Type : Standard
Contrast : Normal
Saturation : Normal
Sharpness : Normal
Lens Info : 24mm f/1.8
Lens Model : E 24mm F1.8 ZA
Profile Description : ProPhoto RGB
Creator Tool : Adobe Photoshop Lightroom 4.2 (Macintosh)
Lens : E 24mm F1.8 ZA
Date Created : 2012:09:13 16:58:57
Format : image/jpeg
Version : 7.2
Process Version : 6.7
Color Temperature : 5200
Tint : +2
Luminance Smoothing : 20
Color Noise Reduction : 25
Vignette Amount : 0
Shadow Tint : 0
Red Hue : 0
Red Saturation : 0
Green Hue : 0
Green Saturation : 0
Blue Hue : 0
Blue Saturation : 0
Gray Mixer Red : -4
Gray Mixer Orange : -11
Gray Mixer Yellow : -15
Gray Mixer Green : -22
Gray Mixer Aqua : -20
Gray Mixer Blue : +4
Gray Mixer Purple : +11
Gray Mixer Magenta : +5
Split Toning Shadow Hue : 51
Split Toning Shadow Saturation : 5
Split Toning Highlight Hue : 51
Split Toning Highlight Saturation : 5
Split Toning Balance : 0
Parametric Shadows : 0
Parametric Darks : 0
Parametric Lights : 0
Parametric Highlights : 0
Parametric Shadow Split : 25
Parametric Midtone Split : 50
Parametric Highlight Split : 75
Sharpen Radius : +0.7
Sharpen Detail : 25
Sharpen Edge Masking : 0
Post Crop Vignette Amount : 0
Grain Amount : 0
Luminance Noise Reduction Detail : 60
Color Noise Reduction Detail : 50
Luminance Noise Reduction Contrast : 5
Lens Profile Enable : 0
Lens Manual Distortion Amount : 0
Perspective Vertical : 0
Perspective Horizontal : 0
Perspective Rotate : 0.0
Perspective Scale : 100
Auto Lateral CA : 1
Exposure 2012 : 0.00
Contrast 2012 : +20
Highlights 2012 : 0
Shadows 2012 : +10
Whites 2012 : +50
Blacks 2012 : -25
Clarity 2012 : +10
Convert To Grayscale : True
Tone Curve Name 2012 : Linear
Camera Profile : Adobe Standard
Lens Profile Setup : LensDefaults
Has Settings : True
Crop Top : 0
Crop Left : 0.058739
Crop Bottom : 1
Crop Right : 0.941261
Crop Angle : 3.3777
Crop Constrain To Warp : 0
Crop Width : 2738
Crop Height : 1825
Crop Unit : pixels
Has Crop : True
Already Applied : True
Tone Curve PV2012 : 0, 0, 255, 255
Tone Curve PV2012 Red : 0, 0, 255, 255
Tone Curve PV2012 Green : 0, 0, 255, 255
Tone Curve PV2012 Blue : 0, 0, 255, 255
Image Width : 200
Image Height : 300
Bits Per Sample : 8
Color Components : 3
Aperture : 2.8
Image Size : 200x300
Megapixels : 0.060
Scale Factor To 35 mm Equivalent : 1.5
Shutter Speed : 1/320
Circle Of Confusion : 0.020 mm
Field Of View : 53.1 deg
Focal Length : 24.0 mm (35 mm equivalent: 36.0 mm)
Hyperfocal Distance : 10.27 m
Light Value : 8.3
Lens ID : E 24mm F1.8 ZA