Uber Exif Photo
By-line : Patrik Nellhag
Copyright Notice : Patrik Nellhag
Copyright Flag : True
URL : www.nellhag.com
Make : Leica Camera AG
Camera Model Name : M9 Digital Camera
Software : Adobe Photoshop Lightroom 4.0 (Macintosh)
Modify Date : 2012:09:30 20:16:15
Artist : Patrik Nellhag
Copyright : Patrik Nellhag
Exposure Time : 1/8
F Number : 4.0
Exposure Program : Aperture-priority AE
ISO : 1000
Date/Time Original : 2012:09:29 22:17:58
Create Date : 2012:09:29 22:17:58
Shutter Speed Value : 1/8
Aperture Value : 4.0
Exposure Compensation : 0
Max Aperture Value : 1.4
Metering Mode : Center-weighted average
Light Source : Unknown
Flash : No Flash
Focal Length : 50.0 mm
Contrast : Normal
Sharpening : Normal
Saturation : Normal
White Balance : Auto
JPEG Quality : Fine
WB RGB Levels : 0.6860396952 1 0.5024533857
User Profile : 35mm
JPEG Size : 5216x3472
Firmware Version : 1.176
Base ISO : 160
Sensor Width : 5270
Sensor Height : 3516
Sensor Bit Depth : 14
Camera Temperature : 16 C
Lens Type : Summilux-M 50mm f/1.4 ASPH.
Approximate F Number : 4.0
Measured LV : -0.28
External Sensor Brightness Value : -3.14
Scene Type : Directly photographed
Exposure Mode : Manual
Digital Zoom Ratio : 0
Focal Length In 35mm Format : 50 mm
Scene Capture Type : Standard
Serial Number : 3978723
Lens Model : Leica Summilux-M 50mm f/1.4 ASPH.
Maker Note Safety : Safe
Creator Tool : Adobe Photoshop Lightroom 4.0 (Macintosh)
Rating : 5
Lens : Leica Summilux-M 50mm f/1.4 ASPH.
Date Created : 2012:09:29 22:17:58
Format : image/jpeg
Marked : True
Web Statement : www.nellhag.com
Version : 7.0
Process Version : 6.7
Color Temperature : 2650
Tint : -5
Exposure : 0.00
Shadows : 5
Brightness : +50
Sharpness : 25
Luminance Smoothing : 34
Color Noise Reduction : 25
Vignette Amount : 0
Shadow Tint : 0
Red Hue : 0
Red Saturation : 0
Green Hue : 0
Green Saturation : 0
Blue Hue : 0
Blue Saturation : 0
Fill Light : 0
Highlight Recovery : 0
Clarity : 0
Defringe : 0
Gray Mixer Red : -4
Gray Mixer Orange : -5
Gray Mixer Yellow : -5
Gray Mixer Green : -11
Gray Mixer Aqua : -14
Gray Mixer Blue : -1
Gray Mixer Purple : +2
Gray Mixer Magenta : -2
Split Toning Shadow Hue : 0
Split Toning Shadow Saturation : 0
Split Toning Highlight Hue : 0
Split Toning Highlight Saturation : 0
Split Toning Balance : 0
Parametric Shadows : 0
Parametric Darks : 0
Parametric Lights : 0
Parametric Highlights : 0
Parametric Shadow Split : 25
Parametric Midtone Split : 50
Parametric Highlight Split : 75
Sharpen Radius : +1.0
Sharpen Detail : 25
Sharpen Edge Masking : 0
Post Crop Vignette Amount : 0
Grain Amount : 14
Grain Size : 25
Grain Frequency : 50
Luminance Noise Reduction Detail : 50
Color Noise Reduction Detail : 50
Luminance Noise Reduction Contrast : 0
Lens Profile Enable : 0
Lens Manual Distortion Amount : 0
Perspective Vertical : 0
Perspective Horizontal : 0
Perspective Rotate : 0.0
Perspective Scale : 100
Auto Lateral CA : 0
Exposure 2012 : +0.85
Contrast 2012 : +74
Highlights 2012 : +43
Shadows 2012 : -5
Whites 2012 : +19
Blacks 2012 : -32
Clarity 2012 : 0
Convert To Grayscale : True
Tone Curve Name : Linear
Tone Curve Name 2012 : Linear
Camera Profile : Adobe Standard
Lens Profile Setup : LensDefaults
Has Settings : True
Crop Top : 0
Crop Left : 0
Crop Bottom : 0.937555
Crop Right : 0.937555
Crop Angle : 0
Crop Constrain To Warp : 0
Crop Width : 1000
Crop Height : 665
Crop Unit : pixels
Has Crop : True
Already Applied : True
Creator : Patrik Nellhag
Rights : Patrik Nellhag
Usage Terms : Copyrighted
Creator Work Email : patrik@nellhag.com
Creator Address : www.nellhag.com
Creator Work URL : www.nellhag.com
Tone Curve : 0, 0, 255, 255
Tone Curve Red : 0, 0, 255, 255
Tone Curve Green : 0, 0, 255, 255
Tone Curve Blue : 0, 0, 255, 255
Tone Curve PV2012 : 0, 0, 255, 255
Tone Curve PV2012 Red : 0, 0, 255, 255
Tone Curve PV2012 Green : 0, 0, 255, 255
Tone Curve PV2012 Blue : 0, 0, 255, 255
Image Width : 300
Image Height : 200
Bits Per Sample : 8
Color Components : 1
Aperture : 4.0
Blue Balance : 0.502453
Image Size : 300x200
Lens ID : Leica Summilux-M 50mm f/1.4 ASPH.
Megapixels : 0.060
Red Balance : 0.68604
Scale Factor To 35 mm Equivalent : 1.0
Shutter Speed : 1/8
Circle Of Confusion : 0.030 mm
Field Of View : 39.6 deg
Focal Length : 50.0 mm (35 mm equivalent: 50.0 mm)
Hyperfocal Distance : 20.80 m
Light Value : 3.7