Uber Exif Photo
Make : LEICA CAMERA AG
Camera Model Name : LEICA X1
Software : Adobe Photoshop Lightroom 4.0 (Macintosh)
Modify Date : 2012:10:09 11:30:05
Exposure Time : 1/125
F Number : 2.8
Exposure Program : Shutter speed priority AE
ISO : 3200
Date/Time Original : 2010:10:03 14:49:28
Create Date : 2010:10:03 14:49:28
Shutter Speed Value : 1/125
Aperture Value : 2.8
Exposure Compensation : 0
Max Aperture Value : 2.8
Subject Distance : 1.13 m
Metering Mode : Multi-segment
Light Source : Unknown
Flash : Off, Did not fire
Focal Length : 24.0 mm
Original File Name : L1010800.DNG
Original Directory : 101LEICA
Focus Distance : 1.134 m
Exposure Mode : Unknown (2 1 0 0)
File Index : 800
Film Mode : Standard
WB RGB Levels : 0.7664670659 1 0.347826087
Internal Serial Number : 000000000000
Sensing Method : One-chip color area
Custom Rendered : Normal
White Balance : Auto
Digital Zoom Ratio : 1
Focal Length In 35mm Format : 35 mm
Scene Capture Type : Landscape
Contrast : Normal
Saturation : Normal
Sharpness : Normal
Serial Number : 000003817117
Lens Info : 24mm f/2.8
Lens Model : 24.0 mm f/2.8
Maker Note Safety : Safe
Creator Tool : Adobe Photoshop Lightroom 4.0 (Macintosh)
Lens : 24.0 mm f/2.8
Approximate Focus Distance : 1.13
Version : 7.0
Process Version : 6.7
Color Temperature : 3050
Tint : +28
Exposure : 0.00
Shadows : 5
Brightness : +50
Luminance Smoothing : 29
Color Noise Reduction : 25
Vignette Amount : 0
Shadow Tint : 0
Red Hue : 0
Red Saturation : 0
Green Hue : 0
Green Saturation : 0
Blue Hue : 0
Blue Saturation : 0
Fill Light : 0
Highlight Recovery : 0
Clarity : 0
Defringe : 0
Gray Mixer Red : -6
Gray Mixer Orange : -14
Gray Mixer Yellow : -18
Gray Mixer Green : -24
Gray Mixer Aqua : -19
Gray Mixer Blue : +6
Gray Mixer Purple : +13
Gray Mixer Magenta : +5
Split Toning Shadow Hue : 0
Split Toning Shadow Saturation : 0
Split Toning Highlight Hue : 0
Split Toning Highlight Saturation : 0
Split Toning Balance : 0
Parametric Shadows : 0
Parametric Darks : 0
Parametric Lights : 0
Parametric Highlights : 0
Parametric Shadow Split : 25
Parametric Midtone Split : 50
Parametric Highlight Split : 75
Sharpen Radius : +1.0
Sharpen Detail : 25
Sharpen Edge Masking : 0
Post Crop Vignette Amount : -37
Post Crop Vignette Midpoint : 50
Post Crop Vignette Feather : 50
Post Crop Vignette Roundness : 0
Post Crop Vignette Style : Highlight Priority
Post Crop Vignette Highlight Contrast : 0
Grain Amount : 0
Luminance Noise Reduction Detail : 50
Color Noise Reduction Detail : 50
Luminance Noise Reduction Contrast : 0
Lens Profile Enable : 0
Lens Manual Distortion Amount : 0
Perspective Vertical : 0
Perspective Horizontal : 0
Perspective Rotate : 0.0
Perspective Scale : 100
Auto Lateral CA : 0
Exposure 2012 : +0.46
Contrast 2012 : 0
Highlights 2012 : +62
Shadows 2012 : +29
Whites 2012 : +24
Blacks 2012 : -48
Clarity 2012 : +25
Convert To Grayscale : True
Tone Curve Name : Linear
Tone Curve Name 2012 : Linear
Camera Profile : Adobe Standard
Lens Profile Setup : LensDefaults
Has Settings : True
Has Crop : False
Already Applied : True
Format : image/jpeg
Date Created : 2010:10:03 14:49:28+02:00
Tone Curve : 0, 0, 255, 255
Tone Curve Red : 0, 0, 255, 255
Tone Curve Green : 0, 0, 255, 255
Tone Curve Blue : 0, 0, 255, 255
Tone Curve PV2012 : 0, 0, 255, 255
Tone Curve PV2012 Red : 0, 0, 255, 255
Tone Curve PV2012 Green : 0, 0, 255, 255
Tone Curve PV2012 Blue : 0, 0, 255, 255
Gradient Based Corr What : Correction
Gradient Based Corr Amount : 1.000000
Gradient Based Corr Active : true
Gradient Based Corr Saturation : 0.000000
Gradient Based Corr Sharpness : 0.000000
Gradient Based Corr Brightness : 0.000000
Gradient Based Corr Toning Hue : 233.000000
Gradient Based Corr Toning Saturation : 0.000000
Gradient Based Corr Exposure 2012 : -0.787044
Gradient Based Corr Contrast 2012 : 0.010446
Gradient Based Corr Highlights 2012 : 0.000000
Gradient Based Corr Shadows 2012 : 0.000000
Gradient Based Corr Clarity 2012 : 0.000000
Gradient Based Corr Luminance Noise : 0.000000
Gradient Based Corr Moire : 0.000000
Gradient Based Corr Temperature : 0.000000
Gradient Based Corr Tint : 0.000000
Gradient Based Corr Mask What : Mask/Gradient
Gradient Based Corr Mask Value : 1.000000
Gradient Based Corr Mask Zero X : 0.513253
Gradient Based Corr Mask Zero Y : 0.701286
Gradient Based Corr Mask Full X : 0.508001
Gradient Based Corr Mask Full Y : 1.033320
Derived From :
Image Width : 300
Image Height : 201
Bits Per Sample : 8
Color Components : 1
Aperture : 2.8
Blue Balance : 0.347826
Image Size : 300x201
Megapixels : 0.060
Red Balance : 0.766467
Scale Factor To 35 mm Equivalent : 1.5
Shutter Speed : 1/125
Circle Of Confusion : 0.021 mm
Depth Of Field : 0.26 m (1.02 - 1.28 m)
Field Of View : 53.4 deg (1.14 m)
Focal Length : 24.0 mm (35 mm equivalent: 35.0 mm)
Hyperfocal Distance : 9.98 m
Light Value : 4.9
Lens ID : 24.0mm f/2.8