Uber Exif Photo
Keywords : Camp Lake, Huntsville, cottage
Make : Leica Camera AG
Camera Model Name : M9 Digital Camera
Software : Adobe Photoshop Lightroom 4.1 (Macintosh)
Modify Date : 2012:07:31 08:59:00
Exposure Time : 1/60
F Number : 1.0
Exposure Program : Aperture-priority AE
ISO : 320
Date/Time Original : 2012:07:14 19:55:59
Create Date : 2012:07:14 19:55:59
Shutter Speed Value : 1/60
Aperture Value : 1.0
Exposure Compensation : 0
Max Aperture Value : 1.0
Metering Mode : Center-weighted average
Light Source : Unknown
Flash : No Flash
Focal Length : 50.0 mm
Scene Type : Directly photographed
Exposure Mode : Manual
White Balance : Auto
Digital Zoom Ratio : 0
Focal Length In 35mm Format : 50 mm
Scene Capture Type : Standard
Serial Number : 3973973
Lens Model : Leica Noctilux-M 50mm f/1
Creator Tool : Adobe Photoshop Lightroom 4.1 (Macintosh)
Lens : Leica Noctilux-M 50mm f/1
Date Created : 2012:07:14 19:55:59
Format : image/jpeg
Version : 7.1
Process Version : 6.7
Color Temperature : 6300
Tint : 0
Sharpness : 25
Luminance Smoothing : 0
Color Noise Reduction : 25
Vignette Amount : +53
Vignette Midpoint : 50
Shadow Tint : 0
Red Hue : 0
Red Saturation : 0
Green Hue : 0
Green Saturation : 0
Blue Hue : 0
Blue Saturation : 0
Gray Mixer Red : +30
Gray Mixer Orange : +25
Gray Mixer Yellow : -23
Gray Mixer Green : +29
Gray Mixer Aqua : -10
Gray Mixer Blue : -30
Gray Mixer Purple : -5
Gray Mixer Magenta : +5
Split Toning Shadow Hue : 0
Split Toning Shadow Saturation : 0
Split Toning Highlight Hue : 0
Split Toning Highlight Saturation : 0
Split Toning Balance : 0
Parametric Shadows : -19
Parametric Darks : -3
Parametric Lights : +11
Parametric Highlights : +37
Parametric Shadow Split : 25
Parametric Midtone Split : 50
Parametric Highlight Split : 75
Sharpen Radius : +1.0
Sharpen Detail : 25
Sharpen Edge Masking : 0
Post Crop Vignette Amount : 0
Grain Amount : 61
Grain Size : 58
Grain Frequency : 50
Color Noise Reduction Detail : 50
Lens Profile Enable : 0
Lens Manual Distortion Amount : 0
Perspective Vertical : 0
Perspective Horizontal : 0
Perspective Rotate : 0.0
Perspective Scale : 100
Auto Lateral CA : 0
Exposure 2012 : +0.10
Contrast 2012 : 0
Highlights 2012 : +26
Shadows 2012 : +20
Whites 2012 : +16
Blacks 2012 : -46
Clarity 2012 : +43
Convert To Grayscale : True
Tone Curve Name 2012 : Strong Contrast
Camera Profile : Adobe Standard
Lens Profile Setup : LensDefaults
Has Settings : True
Has Crop : False
Already Applied : True
Subject : Camp Lake, Huntsville, cottage
Tone Curve PV2012 : 0, 0, 32, 16, 64, 50, 128, 128, 192, 202, 255, 255
Tone Curve PV2012 Red : 0, 0, 255, 255
Tone Curve PV2012 Green : 0, 0, 255, 255
Tone Curve PV2012 Blue : 0, 0, 255, 255
Paint Correction What : Correction
Paint Correction Amount : 1.000000
Paint Correction Active : true
Paint Correction Saturation : 0.000000
Paint Correction Sharpness : 0.000000
Paint Correction Brightness : 0.000000
Paint Correction Toning Hue : 240.000000
Paint Correction Toning Saturation : 0.000000
Paint Correction Exposure 2012 : 0.097700
Paint Correction Contrast 2012 : 0.000000
Paint Correction Highlights 2012 : 0.125351
Paint Correction Shadows 2012 : 0.000000
Paint Correction Clarity 2012 : 0.393258
Paint Correction Luminance Noise : 0.000000
Paint Correction Moire : 0.000000
Paint Correction Defringe : 0.000000
Paint Correction Temperature : 0.000000
Paint Correction Tint : 0.000000
Paint Correction Mask What : Mask/Paint
Paint Correction Mask Value : 0.714286
Paint Correction Mask Radius : 0.035303
Paint Correction Mask Flow : 0.434286
Paint Correction Mask Center Weight : 0.181207
Image Width : 200
Image Height : 300
Bits Per Sample : 8
Color Components : 1
Aperture : 1.0
Image Size : 200x300
Megapixels : 0.060
Scale Factor To 35 mm Equivalent : 1.0
Shutter Speed : 1/60
Circle Of Confusion : 0.030 mm
Field Of View : 39.6 deg
Focal Length : 50.0 mm (35 mm equivalent: 50.0 mm)
Hyperfocal Distance : 83.21 m
Light Value : 4.2
Lens ID : Noctilux-M 50mm f/1