Uber Exif Photo
Make : Canon
Camera Model Name : Canon EOS 40D
Software : Adobe Photoshop Lightroom 4.1 (Windows)
Modify Date : 2012:12:04 15:55:48
Exposure Time : 1/50
F Number : 9.0
Exposure Program : Shutter speed priority AE
ISO : 500
Date/Time Original : 2012:11:11 12:01:06
Create Date : 2012:11:11 12:01:06
Shutter Speed Value : 1/50
Aperture Value : 9.0
Exposure Compensation : 0
Max Aperture Value : 5.0
Metering Mode : Multi-segment
Flash : Off, Did not fire
Focal Length : 14.0 mm
Custom Rendered : Normal
Exposure Mode : Auto
White Balance : Manual
Scene Capture Type : Standard
Serial Number : 820515706
Lens Info : 10-20mm f/?
Lens Model : 10-20mm
Profile Description : sRGB IEC61966-2.1
Lens : 10-20mm
Image Number : 0
Approximate Focus Distance : 4.61
Flash Compensation : 0
Firmware : 1.1.1
Creator Tool : Adobe Photoshop Lightroom 4.1 (Windows)
Date Created : 2012:11:11 12:01:06.01
Format : image/jpeg
Version : 7.1
Process Version : 5.7
Incremental Temperature : -10
Incremental Tint : -4
Exposure : -0.24
Shadows : 31
Brightness : +62
Contrast : +63
Saturation : -100
Sharpness : 25
Luminance Smoothing : 0
Color Noise Reduction : 25
Vignette Amount : -52
Vignette Midpoint : 0
Shadow Tint : -15
Red Hue : -19
Red Saturation : +49
Green Hue : 0
Green Saturation : -37
Blue Hue : -33
Blue Saturation : -66
Fill Light : 55
Vibrance : +46
Highlight Recovery : 100
Clarity : +50
Hue Adjustment Red : 0
Hue Adjustment Orange : 0
Hue Adjustment Yellow : 0
Hue Adjustment Green : 0
Hue Adjustment Aqua : 0
Hue Adjustment Blue : 0
Hue Adjustment Purple : 0
Hue Adjustment Magenta : 0
Saturation Adjustment Red : +24
Saturation Adjustment Orange : +80
Saturation Adjustment Yellow : -34
Saturation Adjustment Green : +18
Saturation Adjustment Aqua : 0
Saturation Adjustment Blue : +20
Saturation Adjustment Purple : 0
Saturation Adjustment Magenta : 0
Luminance Adjustment Red : 0
Luminance Adjustment Orange : 0
Luminance Adjustment Yellow : 0
Luminance Adjustment Green : 0
Luminance Adjustment Aqua : 0
Luminance Adjustment Blue : -64
Luminance Adjustment Purple : 0
Luminance Adjustment Magenta : 0
Split Toning Shadow Hue : 30
Split Toning Shadow Saturation : 15
Split Toning Highlight Hue : 50
Split Toning Highlight Saturation : 20
Split Toning Balance : 0
Parametric Shadows : -43
Parametric Darks : +4
Parametric Lights : -96
Parametric Highlights : 0
Parametric Shadow Split : 25
Parametric Midtone Split : 50
Parametric Highlight Split : 75
Sharpen Radius : +0.5
Sharpen Detail : 0
Sharpen Edge Masking : 0
Post Crop Vignette Amount : 0
Grain Amount : 0
Color Noise Reduction Detail : 50
Lens Profile Enable : 0
Lens Manual Distortion Amount : 0
Perspective Vertical : 0
Perspective Horizontal : 0
Perspective Rotate : 0.0
Perspective Scale : 100
Auto Lateral CA : 0
Defringe Purple Amount : 0
Defringe Purple Hue Lo : 30
Defringe Purple Hue Hi : 70
Defringe Green Amount : 0
Defringe Green Hue Lo : 40
Defringe Green Hue Hi : 60
Convert To Grayscale : False
Tone Curve Name : Linear
Camera Profile : Embedded
Lens Profile Setup : LensDefaults
Has Settings : True
Crop Top : 0
Crop Left : 0
Crop Bottom : 1
Crop Right : 0.928463
Crop Angle : 0
Crop Constrain To Warp : 0
Crop Width : 3610
Crop Height : 2592
Crop Unit : pixels
Has Crop : True
Already Applied : True
Tone Curve : 0, 0, 255, 255
Tone Curve Red : 0, 0, 255, 255
Tone Curve Green : 0, 0, 255, 255
Tone Curve Blue : 0, 0, 255, 255
Paint Correction What : Correction
Paint Correction Amount : 1.000000
Paint Correction Active : true
Paint Correction Exposure : 0.051500
Paint Correction Saturation : 0.000000
Paint Correction Contrast : 0.000000
Paint Correction Clarity : 0.000000
Paint Correction Sharpness : 0.000000
Paint Correction Brightness : 0.000000
Paint Correction Toning Hue : 0.000000
Paint Correction Toning Saturation : 0.000000
Paint Correction Mask What : Mask/Paint
Paint Correction Mask Value : 1.000000
Paint Correction Mask Radius : 0.059176
Paint Correction Mask Flow : 1.000000
Paint Correction Mask Center Weight : 0.000000
Image Width : 300
Image Height : 215
Bits Per Sample : 8
Color Components : 3
Aperture : 9.0
Image Size : 300x215
Megapixels : 0.065
Scale Factor To 35 mm Equivalent : 1.6
Shutter Speed : 1/50
Create Date : 2012:11:11 12:01:06.01
Date/Time Original : 2012:11:11 12:01:06.01
Circle Of Confusion : 0.019 mm
Depth Of Field : inf (0.94 m - inf)
Field Of View : 76.9 deg
Focal Length : 14.0 mm (35 mm equivalent: 22.7 mm)
Hyperfocal Distance : 1.17 m
Light Value : 9.7
Lens ID : Sigma 10-20mm f/4-5.6