Uber Exif Photo
Make : FUJIFILM
Camera Model Name : X10
Software : Adobe Photoshop Lightroom 3.6 (Windows)
Modify Date : 2012:11:29 16:50:17
Exposure Time : 5.3
F Number : 2.8
Exposure Program : Aperture-priority AE
ISO : 200
Sensitivity Type : Standard Output Sensitivity
Date/Time Original : 2012:10:31 20:35:10
Create Date : 2012:10:31 20:35:10
Shutter Speed Value : 5.3
Aperture Value : 2.8
Brightness Value : -5.6
Exposure Compensation : -1
Max Aperture Value : 2.0
Metering Mode : Multi-segment
Light Source : Unknown
Flash : Off, Did not fire
Focal Length : 7.1 mm
Sensing Method : One-chip color area
Scene Type : Directly photographed
Custom Rendered : Normal
Exposure Mode : Auto
White Balance : Auto
Scene Capture Type : Standard
Sharpness : Normal
Subject Distance Range : Unknown
Profile Description : sRGB IEC61966-2.1
Creator Tool : Adobe Photoshop Lightroom 3.6 (Windows)
Date Created : 2012:10:31 20:35:10
Format : image/jpeg
Version : 6.6
Process Version : 5.7
Incremental Temperature : +1
Incremental Tint : 0
Exposure : +0.20
Shadows : 1
Brightness : -22
Contrast : +5
Saturation : 0
Luminance Smoothing : 0
Color Noise Reduction : 0
Chromatic Aberration R : 0
Chromatic Aberration B : 0
Vignette Amount : 0
Shadow Tint : 0
Red Hue : 0
Red Saturation : 0
Green Hue : 0
Green Saturation : 0
Blue Hue : 0
Blue Saturation : 0
Fill Light : 23
Vibrance : 0
Highlight Recovery : 0
Clarity : +33
Defringe : 0
Hue Adjustment Red : 0
Hue Adjustment Orange : -5
Hue Adjustment Yellow : +15
Hue Adjustment Green : +20
Hue Adjustment Aqua : -30
Hue Adjustment Blue : +7
Hue Adjustment Purple : +40
Hue Adjustment Magenta : +40
Saturation Adjustment Red : -10
Saturation Adjustment Orange : 0
Saturation Adjustment Yellow : -12
Saturation Adjustment Green : -50
Saturation Adjustment Aqua : -12
Saturation Adjustment Blue : -15
Saturation Adjustment Purple : 0
Saturation Adjustment Magenta : +25
Luminance Adjustment Red : -14
Luminance Adjustment Orange : -10
Luminance Adjustment Yellow : +8
Luminance Adjustment Green : -18
Luminance Adjustment Aqua : +4
Luminance Adjustment Blue : 0
Luminance Adjustment Purple : +30
Luminance Adjustment Magenta : +30
Split Toning Shadow Hue : 60
Split Toning Shadow Saturation : 5
Split Toning Highlight Hue : 250
Split Toning Highlight Saturation : 5
Split Toning Balance : -98
Parametric Shadows : 0
Parametric Darks : 0
Parametric Lights : 0
Parametric Highlights : 0
Parametric Shadow Split : 25
Parametric Midtone Split : 50
Parametric Highlight Split : 75
Sharpen Radius : +1.0
Sharpen Detail : 25
Sharpen Edge Masking : 0
Post Crop Vignette Amount : 0
Grain Amount : 0
Lens Profile Enable : 0
Lens Manual Distortion Amount : 0
Perspective Vertical : 0
Perspective Horizontal : 0
Perspective Rotate : 0.0
Perspective Scale : 100
Convert To Grayscale : False
Tone Curve Name : Linear
Camera Profile : Embedded
Lens Profile Setup : LensDefaults
Has Settings : True
Crop Top : 0.024204
Crop Left : 0.019737
Crop Bottom : 0.952326
Crop Right : 1
Crop Angle : -1.0756
Crop Constrain To Warp : 0
Crop Width : 2723
Crop Height : 2011
Crop Unit : pixels
Has Crop : True
Already Applied : True
Tone Curve : 0, 0, 255, 255
Image Width : 300
Image Height : 222
Bits Per Sample : 8
Color Components : 3
Aperture : 2.8
Image Size : 300x222
Megapixels : 0.067
Scale Factor To 35 mm Equivalent : 37.2
Shutter Speed : 5.3
Circle Of Confusion : 0.001 mm
Field Of View : 7.8 deg
Focal Length : 7.1 mm (35 mm equivalent: 263.8 mm)
Hyperfocal Distance : 22.26 m
Light Value : -0.4