Uber Exif Photo
Caption-Abstract : PARIS.- Stravinsky Square ... Nikki's Fountain ... " Too hot days in Paris" ...
By-line : Mohsan © Paris
Object Name : THE HEAT
Keywords : France, Leica M9, Mohsan, Paris, Voigtlander Nokton 50mm f1.1, B&W
Copyright Notice : © Mohsan - This photograph may not be used in any commercial materials, emails, products, or promotions without my approval.
Copyright Flag : True
Photometric Interpretation : RGB
Image Description : PARIS.- Stravinsky Square ... Nikki's Fountain ... " Too hot days in Paris" ...
Make : Leica Camera AG
Camera Model Name : M9 Digital Camera
Orientation : Horizontal (normal)
Software : Adobe Photoshop Elements 6.0 Windows
Modify Date : 2012:12:05 00:54:21
Artist : Mohsan © Paris
Copyright : © Mohsan - This photograph may not be used in any commercial materials, emails, products, or promotions without my approval.
Exposure Time : 1/350
F Number : 6.7
Exposure Program : Aperture-priority AE
ISO : 80
Date/Time Original : 2012:07:26 17:39:12
Create Date : 2012:07:26 17:39:12
Shutter Speed Value : 1/350
Aperture Value : 6.7
Exposure Compensation : 0
Max Aperture Value : 1.2
Metering Mode : Center-weighted average
Light Source : Unknown
Focal Length : 50.0 mm
Color Space : sRGB
Exif Image Width : 3008
Exif Image Height : 2136
Scene Type : Directly photographed
Custom Rendered : Normal
Exposure Mode : Manual
White Balance : Auto
Digital Zoom Ratio : 0
Focal Length In 35mm Format : 50 mm
Scene Capture Type : Standard
Contrast : High
Saturation : Normal
Sharpness : Hard
Lens Model : Leica Noctilux-M 50mm f/1
Creator Tool : Adobe Photoshop Elements 6.0 Windows
Lens : Leica Noctilux-M 50mm f/1
Date Created : 2012:07:26
Color Mode : RGB
ICC Profile Name : sRGB IEC61966-2.1
Format : image/jpeg
Marked : True
Version : 7.1
Process Version : 6.7
Incremental Temperature : 0
Incremental Tint : 0
Luminance Smoothing : 0
Color Noise Reduction : 0
Vignette Amount : 0
Shadow Tint : 0
Red Hue : 0
Red Saturation : 0
Green Hue : 0
Green Saturation : 0
Blue Hue : 0
Blue Saturation : 0
Vibrance : 0
Hue Adjustment Red : 0
Hue Adjustment Orange : 0
Hue Adjustment Yellow : 0
Hue Adjustment Green : 0
Hue Adjustment Aqua : 0
Hue Adjustment Blue : 0
Hue Adjustment Purple : 0
Hue Adjustment Magenta : 0
Saturation Adjustment Red : 0
Saturation Adjustment Orange : 0
Saturation Adjustment Yellow : 0
Saturation Adjustment Green : 0
Saturation Adjustment Aqua : 0
Saturation Adjustment Blue : 0
Saturation Adjustment Purple : 0
Saturation Adjustment Magenta : 0
Luminance Adjustment Red : 0
Luminance Adjustment Orange : 0
Luminance Adjustment Yellow : 0
Luminance Adjustment Green : 0
Luminance Adjustment Aqua : 0
Luminance Adjustment Blue : 0
Luminance Adjustment Purple : 0
Luminance Adjustment Magenta : 0
Split Toning Shadow Hue : 0
Split Toning Shadow Saturation : 0
Split Toning Highlight Hue : 0
Split Toning Highlight Saturation : 0
Split Toning Balance : 0
Parametric Shadows : -5
Parametric Darks : -5
Parametric Lights : +16
Parametric Highlights : +16
Parametric Shadow Split : 25
Parametric Midtone Split : 50
Parametric Highlight Split : 75
Sharpen Radius : +1.2
Sharpen Detail : 25
Sharpen Edge Masking : 0
Post Crop Vignette Amount : 0
Grain Amount : 0
Lens Profile Enable : 0
Lens Manual Distortion Amount : 0
Perspective Vertical : 0
Perspective Horizontal : 0
Perspective Rotate : 0.0
Perspective Scale : 100
Auto Lateral CA : 0
Exposure 2012 : -0.38
Contrast 2012 : +8
Highlights 2012 : -23
Shadows 2012 : +17
Whites 2012 : +11
Blacks 2012 : +38
Clarity 2012 : +26
Defringe Purple Amount : 0
Defringe Purple Hue Lo : 30
Defringe Purple Hue Hi : 70
Defringe Green Amount : 0
Defringe Green Hue Lo : 40
Defringe Green Hue Hi : 60
Convert To Grayscale : False
Tone Curve Name 2012 : Linear
Camera Profile : Embedded
Lens Profile Setup : LensDefaults
Has Settings : True
Has Crop : False
Already Applied : True
Samples Per Pixel : 3
Date/Time Digitized : 2012:07:26 17:39:12+02:00
Creator : Mohsan © Paris
Title : THE HEAT
Rights : © Mohsan - This photograph may not be used in any commercial materials, emails, products, or promotions without my approval.
Description : PARIS.- Stravinsky Square ... Nikki's Fountain ... " Too hot days in Paris" ...
Subject : France, Leica M9, Mohsan, Paris, Voigtlander Nokton 50mm f1.1, B&W
Tone Curve PV2012 : 0, 0, 255, 255
Tone Curve PV2012 Red : 0, 0, 255, 255
Tone Curve PV2012 Green : 0, 0, 255, 255
Tone Curve PV2012 Blue : 0, 0, 255, 255
Creator Country : France
Creator City : Paris
Creator Work Email : mohsan [at] gmail.com
Creator Work URL : http://www.flickr.com/mohsan/
Flash Fired : False
Flash Return : No return detection
Flash Mode : Unknown
Flash Function : False
Flash Red Eye Mode : False
Image Width : 300
Image Height : 213
Bits Per Sample : 8
Color Components : 1
Aperture : 6.7
Image Size : 300x213
Megapixels : 0.064
Scale Factor To 35 mm Equivalent : 1.0
Shutter Speed : 1/350
Flash : No Flash
Circle Of Confusion : 0.030 mm
Field Of View : 39.6 deg
Focal Length : 50.0 mm (35 mm equivalent: 50.0 mm)
Hyperfocal Distance : 12.42 m
Light Value : 14.3
Lens ID : Noctilux-M 50mm f/1