Uber Exif Photo
Make : FUJIFILM
Camera Model Name : X10
Software : Adobe Photoshop Lightroom 3.4.1
Modify Date : 2012:10:23 20:05:00
Exposure Time : 1/125
F Number : 2.2
Exposure Program : Aperture-priority AE
ISO : 400
Sensitivity Type : Standard Output Sensitivity
Date/Time Original : 2012:10:13 18:30:51
Create Date : 2012:10:13 18:30:51
Shutter Speed Value : 1/125
Aperture Value : 2.2
Brightness Value : 3.11
Exposure Compensation : -0.33
Max Aperture Value : 2.0
Metering Mode : Multi-segment
Light Source : Unknown
Flash : Off, Did not fire
Focal Length : 10.8 mm
Sensing Method : One-chip color area
Scene Type : Directly photographed
Custom Rendered : Normal
Exposure Mode : Auto
White Balance : Auto
Scene Capture Type : Standard
Sharpness : Normal
Subject Distance Range : Unknown
Profile Description : sRGB IEC61966-2.1
Creator Tool : Adobe Photoshop Lightroom 3.4.1
Date Created : 2012:10:13 18:30:51
Version : 6.4.1
Process Version : 5.7
Incremental Temperature : +1
Incremental Tint : +2
Exposure : -0.05
Shadows : 2
Brightness : -9
Contrast : +10
Saturation : -1
Luminance Smoothing : 10
Color Noise Reduction : 0
Chromatic Aberration R : 0
Chromatic Aberration B : 0
Vignette Amount : -36
Vignette Midpoint : 40
Shadow Tint : 0
Red Hue : 0
Red Saturation : 0
Green Hue : 0
Green Saturation : 0
Blue Hue : 0
Blue Saturation : 0
Fill Light : 51
Vibrance : +6
Highlight Recovery : 38
Clarity : 0
Defringe : 0
Hue Adjustment Red : 0
Hue Adjustment Orange : 0
Hue Adjustment Yellow : 0
Hue Adjustment Green : 0
Hue Adjustment Aqua : 0
Hue Adjustment Blue : 0
Hue Adjustment Purple : 0
Hue Adjustment Magenta : 0
Saturation Adjustment Red : -9
Saturation Adjustment Orange : -5
Saturation Adjustment Yellow : -7
Saturation Adjustment Green : 0
Saturation Adjustment Aqua : 0
Saturation Adjustment Blue : 0
Saturation Adjustment Purple : 0
Saturation Adjustment Magenta : 0
Luminance Adjustment Red : 0
Luminance Adjustment Orange : 0
Luminance Adjustment Yellow : 0
Luminance Adjustment Green : 0
Luminance Adjustment Aqua : 0
Luminance Adjustment Blue : 0
Luminance Adjustment Purple : 0
Luminance Adjustment Magenta : 0
Split Toning Shadow Hue : 0
Split Toning Shadow Saturation : 0
Split Toning Highlight Hue : 0
Split Toning Highlight Saturation : 0
Split Toning Balance : 0
Parametric Shadows : 0
Parametric Darks : 0
Parametric Lights : 0
Parametric Highlights : 0
Parametric Shadow Split : 25
Parametric Midtone Split : 50
Parametric Highlight Split : 75
Sharpen Radius : +1.0
Sharpen Detail : 25
Sharpen Edge Masking : 0
Post Crop Vignette Amount : 0
Grain Amount : 0
Luminance Noise Reduction Detail : 50
Luminance Noise Reduction Contrast : 0
Lens Profile Enable : 0
Lens Manual Distortion Amount : 0
Perspective Vertical : 0
Perspective Horizontal : 0
Perspective Rotate : 0.0
Perspective Scale : 100
Convert To Grayscale : False
Tone Curve Name : Custom
Camera Profile : Embedded
Lens Profile Setup : LensDefaults
Has Settings : True
Crop Top : 0.025698
Crop Left : 0.031224
Crop Bottom : 0.951835
Crop Right : 0.968776
Crop Angle : 2.75903
Crop Constrain To Warp : 0
Crop Width : 3880
Crop Height : 2595
Crop Unit : pixels
Has Crop : True
Already Applied : True
Tone Curve : 0, 0, 65, 52, 194, 208, 255, 255
Paint Correction What : Correction
Paint Correction Amount : 1.000000
Paint Correction Active : true
Paint Correction Exposure : 0.098000
Paint Correction Saturation : 0.098000
Paint Correction Contrast : 0.100000
Paint Correction Clarity : 0.200000
Paint Correction Sharpness : 0.098000
Paint Correction Brightness : 0.024000
Paint Correction Toning Hue : 237.000000
Paint Correction Toning Saturation : 0.000000
Paint Correction Mask What : Mask/Paint
Paint Correction Mask Value : 1.000000
Paint Correction Mask Radius : 0.002422
Paint Correction Mask Flow : 1.000000
Paint Correction Mask Center Weight : 1.000000
Gradient Based Corr What : Correction
Gradient Based Corr Amount : 1.000000
Gradient Based Corr Active : true
Gradient Based Corr Exposure : -0.049000
Gradient Based Corr Saturation : 0.000000
Gradient Based Corr Contrast : 0.098000
Gradient Based Corr Clarity : 0.341000
Gradient Based Corr Sharpness : 0.000000
Gradient Based Corr Brightness : -0.024000
Gradient Based Corr Toning Hue : 237.000000
Gradient Based Corr Toning Saturation : 0.000000
Gradient Based Corr Mask What : Mask/Gradient
Gradient Based Corr Mask Value : 1.000000
Gradient Based Corr Mask Zero X : 0.480313
Gradient Based Corr Mask Zero Y : 0.342801
Gradient Based Corr Mask Full X : 0.992246
Gradient Based Corr Mask Full Y : 0.379804
Image Width : 300
Image Height : 201
Bits Per Sample : 8
Color Components : 3
Aperture : 2.2
Image Size : 300x201
Megapixels : 0.060
Shutter Speed : 1/125
Light Value : 7.2