Uber Exif Photo
Make : FUJIFILM
Camera Model Name : X10
Software : Adobe Photoshop Lightroom 3.6 (Windows)
Modify Date : 2012:11:28 15:49:07
Exposure Time : 1/10
F Number : 3.6
Exposure Program : Aperture-priority AE
ISO : 800
Sensitivity Type : Standard Output Sensitivity
Date/Time Original : 2012:10:31 18:41:13
Create Date : 2012:10:31 18:41:13
Shutter Speed Value : 1/10
Aperture Value : 3.6
Brightness Value : -0.36
Exposure Compensation : 0
Max Aperture Value : 2.0
Metering Mode : Multi-segment
Light Source : Unknown
Flash : Off, Did not fire
Focal Length : 9.6 mm
Sensing Method : One-chip color area
Scene Type : Directly photographed
Custom Rendered : Normal
Exposure Mode : Auto
White Balance : Auto
Scene Capture Type : Standard
Sharpness : Normal
Subject Distance Range : Unknown
Creator Tool : Adobe Photoshop Lightroom 3.6 (Windows)
Date Created : 2012:10:31 18:41:13
Format : image/jpeg
Version : 6.6
Process Version : 5.7
Incremental Temperature : 0
Incremental Tint : 0
Exposure : -0.14
Shadows : 3
Brightness : 0
Contrast : +10
Luminance Smoothing : 0
Color Noise Reduction : 0
Chromatic Aberration R : 0
Chromatic Aberration B : 0
Vignette Amount : 0
Shadow Tint : 0
Red Hue : 0
Red Saturation : 0
Green Hue : 0
Green Saturation : 0
Blue Hue : 0
Blue Saturation : 0
Fill Light : 7
Highlight Recovery : 0
Clarity : +43
Defringe : 0
Gray Mixer Red : -10
Gray Mixer Orange : -6
Gray Mixer Yellow : -15
Gray Mixer Green : -20
Gray Mixer Aqua : -18
Gray Mixer Blue : +10
Gray Mixer Purple : +20
Gray Mixer Magenta : +15
Split Toning Shadow Hue : 0
Split Toning Shadow Saturation : 0
Split Toning Highlight Hue : 0
Split Toning Highlight Saturation : 0
Split Toning Balance : 0
Parametric Shadows : +5
Parametric Darks : 0
Parametric Lights : 0
Parametric Highlights : 0
Parametric Shadow Split : 25
Parametric Midtone Split : 50
Parametric Highlight Split : 75
Sharpen Radius : +1.0
Sharpen Detail : 25
Sharpen Edge Masking : 0
Post Crop Vignette Amount : 0
Grain Amount : 0
Lens Profile Enable : 0
Lens Manual Distortion Amount : 0
Perspective Vertical : 0
Perspective Horizontal : 0
Perspective Rotate : 0.0
Perspective Scale : 100
Convert To Grayscale : True
Tone Curve Name : Custom
Camera Profile : Embedded
Lens Profile Setup : LensDefaults
Has Settings : True
Crop Top : 0.059784
Crop Left : 0.004781
Crop Bottom : 0.97884
Crop Right : 0.963385
Crop Angle : -0.577803
Crop Constrain To Warp : 0
Crop Width : 2680
Crop Height : 1968
Crop Unit : pixels
Has Crop : True
Already Applied : True
Tone Curve : 0, 11, 255, 255
Gradient Based Corr What : Correction
Gradient Based Corr Amount : 1.000000
Gradient Based Corr Active : true
Gradient Based Corr Exposure : 0.048750
Gradient Based Corr Saturation : 0.000000
Gradient Based Corr Contrast : 0.317070
Gradient Based Corr Clarity : 0.658540
Gradient Based Corr Sharpness : 0.000000
Gradient Based Corr Brightness : -0.243900
Gradient Based Corr Toning Hue : 237.000000
Gradient Based Corr Toning Saturation : 0.000000
Gradient Based Corr Mask What : Mask/Gradient
Gradient Based Corr Mask Value : 1.000000
Gradient Based Corr Mask Zero X : 0.504456
Gradient Based Corr Mask Zero Y : 0.524941
Gradient Based Corr Mask Full X : 0.502673
Gradient Based Corr Mask Full Y : 0.439430
Image Width : 300
Image Height : 220
Bits Per Sample : 8
Color Components : 1
Aperture : 3.6
Image Size : 300x220
Megapixels : 0.066
Scale Factor To 35 mm Equivalent : 37.3
Shutter Speed : 1/10
Circle Of Confusion : 0.001 mm
Field Of View : 5.8 deg
Focal Length : 9.6 mm (35 mm equivalent: 357.8 mm)
Hyperfocal Distance : 31.76 m
Light Value : 4.0