Uber Exif Photo
Caption-Abstract : PARIS.- Quai Saint-Bernard ...
By-line : M.Sahnoun © Paris
Object Name : ON THE QUAYSIDE
Province-State : Île-de-France
Country-Primary Location Name : France
Keywords : France, Leica M9, Mohsan, Paris, Voigtlander Ultron 28mm f/2, la seine, B&W
Copyright Notice : © Mohsan - This photograph may not be used in any commercial materials, emails, products, or promotions without my approval.
Sub-location : Arsenal
Copyright Flag : True
Image Description : PARIS.- Quai Saint-Bernard ...
Make : Leica Camera AG
Camera Model Name : M9 Digital Camera
Orientation : Horizontal (normal)
Software : Adobe Photoshop Elements 6.0 Windows
Modify Date : 2012:12:06 13:21:58
Artist : M.Sahnoun © Paris
Copyright : © Mohsan - This photograph may not be used in any commercial materials, emails, products, or promotions without my approval.
Exposure Time : 1/3000
F Number : 2.4
Exposure Program : Aperture-priority AE
ISO : 80
Date/Time Original : 2012:07:16 17:20:18
Create Date : 2012:07:16 17:20:18
Shutter Speed Value : 1/3000
Aperture Value : 2.4
Exposure Compensation : 0
Max Aperture Value : 2.0
Metering Mode : Center-weighted average
Light Source : Unknown
Focal Length : 28.0 mm
Color Space : sRGB
Exif Image Width : 3083
Exif Image Height : 2211
Scene Type : Directly photographed
Custom Rendered : Normal
Exposure Mode : Manual
White Balance : Auto
Digital Zoom Ratio : 0
Focal Length In 35mm Format : 28 mm
Scene Capture Type : Standard
Contrast : High
Saturation : Normal
Sharpness : Hard
Lens Model : Leica Summicron-M 28mm f/2 ASPH.
GPS Version ID : 2.2.0.0
Creator Tool : Adobe Photoshop Elements 6.0 Windows
Lens : Leica Summicron-M 28mm f/2 ASPH.
Date Created : 2012:07:16
City : Paris
State : Île-de-France
Country : France
Color Mode : RGB
ICC Profile Name : sRGB IEC61966-2.1
Format : image/jpeg
Marked : True
Location : Arsenal
Version : 7.2
Process Version : 6.7
Incremental Temperature : 0
Incremental Tint : 0
Luminance Smoothing : 0
Color Noise Reduction : 0
Vignette Amount : 0
Shadow Tint : 0
Red Hue : 0
Red Saturation : 0
Green Hue : 0
Green Saturation : 0
Blue Hue : 0
Blue Saturation : 0
Vibrance : 0
Hue Adjustment Red : 0
Hue Adjustment Orange : 0
Hue Adjustment Yellow : 0
Hue Adjustment Green : 0
Hue Adjustment Aqua : 0
Hue Adjustment Blue : 0
Hue Adjustment Purple : 0
Hue Adjustment Magenta : 0
Saturation Adjustment Red : 0
Saturation Adjustment Orange : 0
Saturation Adjustment Yellow : 0
Saturation Adjustment Green : 0
Saturation Adjustment Aqua : 0
Saturation Adjustment Blue : 0
Saturation Adjustment Purple : 0
Saturation Adjustment Magenta : 0
Luminance Adjustment Red : 0
Luminance Adjustment Orange : 0
Luminance Adjustment Yellow : 0
Luminance Adjustment Green : 0
Luminance Adjustment Aqua : 0
Luminance Adjustment Blue : 0
Luminance Adjustment Purple : 0
Luminance Adjustment Magenta : 0
Split Toning Shadow Hue : 0
Split Toning Shadow Saturation : 0
Split Toning Highlight Hue : 0
Split Toning Highlight Saturation : 0
Split Toning Balance : 0
Parametric Shadows : -5
Parametric Darks : -5
Parametric Lights : +10
Parametric Highlights : +10
Parametric Shadow Split : 25
Parametric Midtone Split : 50
Parametric Highlight Split : 75
Sharpen Radius : +1.2
Sharpen Detail : 25
Sharpen Edge Masking : 0
Post Crop Vignette Amount : -17
Post Crop Vignette Midpoint : 50
Post Crop Vignette Feather : 50
Post Crop Vignette Roundness : 0
Post Crop Vignette Style : Highlight Priority
Post Crop Vignette Highlight Contrast : 0
Grain Amount : 0
Lens Profile Enable : 0
Lens Manual Distortion Amount : 0
Perspective Vertical : 0
Perspective Horizontal : 0
Perspective Rotate : 0.0
Perspective Scale : 100
Auto Lateral CA : 0
Exposure 2012 : +1.60
Contrast 2012 : 0
Highlights 2012 : -74
Shadows 2012 : +45
Whites 2012 : +27
Blacks 2012 : -2
Clarity 2012 : +27
Defringe Purple Amount : 0
Defringe Purple Hue Lo : 30
Defringe Purple Hue Hi : 70
Defringe Green Amount : 0
Defringe Green Hue Lo : 40
Defringe Green Hue Hi : 60
Convert To Grayscale : False
Tone Curve Name 2012 : Linear
Camera Profile : Embedded
Lens Profile Setup : LensDefaults
Has Settings : True
Has Crop : False
Already Applied : True
Date/Time Digitized : 2012:07:16 17:20:18+02:00
Title : ON THE QUAYSIDE
Creator : M.Sahnoun © Paris
Rights : © Mohsan - This photograph may not be used in any commercial materials, emails, products, or promotions without my approval.
Subject : France, Leica M9, Mohsan, Paris, Voigtlander Ultron 28mm f/2, la seine, B&W
Description : PARIS.- Quai Saint-Bernard ...
Creator Country : France
Creator City : Paris
Creator Work Email : mohsan [at] gmail.com
Creator Work URL : http://www.flickr.com/mohsan/
Tone Curve PV2012 : 0, 0, 255, 255
Tone Curve PV2012 Red : 0, 0, 255, 255
Tone Curve PV2012 Green : 0, 0, 255, 255
Tone Curve PV2012 Blue : 0, 0, 255, 255
Flash Fired : False
Flash Return : No return detection
Flash Mode : Unknown
Flash Function : False
Flash Red Eye Mode : False
Image Width : 300
Image Height : 215
Bits Per Sample : 8
Color Components : 1
Aperture : 2.4
Image Size : 300x215
Megapixels : 0.065
Scale Factor To 35 mm Equivalent : 1.0
Shutter Speed : 1/3000
GPS Latitude : 48 deg 50' 52.09" N
GPS Longitude : 2 deg 21' 39.04" E
Flash : No Flash
GPS Latitude Ref : North
GPS Longitude Ref : East
Circle Of Confusion : 0.030 mm
Field Of View : 65.5 deg
Focal Length : 28.0 mm (35 mm equivalent: 28.0 mm)
GPS Position : 48 deg 50' 52.09" N, 2 deg 21' 39.04" E
Hyperfocal Distance : 10.87 m
Light Value : 14.4
Lens ID : Summicron-M 28mm f/2 ASPH.