Uber Exif Photo
Make : FUJIFILM
Camera Model Name : X10
Software : Adobe Photoshop Lightroom 3.6 (Windows)
Modify Date : 2012:11:30 20:00:43
Exposure Time : 2.3
F Number : 3.2
Exposure Program : Aperture-priority AE
ISO : 200
Sensitivity Type : Standard Output Sensitivity
Date/Time Original : 2012:11:01 22:49:23
Create Date : 2012:11:01 22:49:23
Shutter Speed Value : 2.3
Aperture Value : 3.2
Brightness Value : -3.56
Exposure Compensation : -1
Max Aperture Value : 2.0
Metering Mode : Multi-segment
Light Source : Unknown
Flash : Off, Did not fire
Focal Length : 7.1 mm
Sensing Method : One-chip color area
Scene Type : Directly photographed
Custom Rendered : Normal
Exposure Mode : Auto
White Balance : Auto
Scene Capture Type : Standard
Sharpness : Normal
Subject Distance Range : Unknown
Creator Tool : Adobe Photoshop Lightroom 3.6 (Windows)
Date Created : 2012:11:01 22:49:23
Format : image/jpeg
Version : 6.6
Process Version : 5.7
Incremental Temperature : 0
Incremental Tint : 0
Exposure : +0.14
Shadows : 0
Brightness : 0
Contrast : +10
Luminance Smoothing : 0
Color Noise Reduction : 0
Chromatic Aberration R : 0
Chromatic Aberration B : 0
Vignette Amount : 0
Shadow Tint : 0
Red Hue : 0
Red Saturation : 0
Green Hue : 0
Green Saturation : 0
Blue Hue : 0
Blue Saturation : 0
Fill Light : 31
Highlight Recovery : 0
Clarity : +43
Defringe : 0
Gray Mixer Red : 0
Gray Mixer Orange : -5
Gray Mixer Yellow : -15
Gray Mixer Green : -20
Gray Mixer Aqua : -10
Gray Mixer Blue : +15
Gray Mixer Purple : +30
Gray Mixer Magenta : +20
Split Toning Shadow Hue : 0
Split Toning Shadow Saturation : 0
Split Toning Highlight Hue : 0
Split Toning Highlight Saturation : 0
Split Toning Balance : 0
Parametric Shadows : +5
Parametric Darks : 0
Parametric Lights : 0
Parametric Highlights : 0
Parametric Shadow Split : 70
Parametric Midtone Split : 80
Parametric Highlight Split : 90
Sharpen Radius : +1.0
Sharpen Detail : 25
Sharpen Edge Masking : 0
Post Crop Vignette Amount : 0
Grain Amount : 0
Lens Profile Enable : 0
Lens Manual Distortion Amount : 0
Perspective Vertical : 0
Perspective Horizontal : 0
Perspective Rotate : 0.0
Perspective Scale : 100
Convert To Grayscale : True
Tone Curve Name : Linear
Camera Profile : Embedded
Lens Profile Setup : LensDefaults
Has Settings : True
Crop Top : 0.043755
Crop Left : 0.004253
Crop Bottom : 0.951531
Crop Right : 0.97805
Crop Angle : -0.086347
Crop Constrain To Warp : 0
Crop Width : 2739
Crop Height : 1921
Crop Unit : pixels
Has Crop : True
Already Applied : True
Tone Curve : 0, 0, 255, 255
Image Width : 300
Image Height : 210
Bits Per Sample : 8
Color Components : 1
Aperture : 3.2
Image Size : 300x210
Megapixels : 0.063
Scale Factor To 35 mm Equivalent : 37.9
Shutter Speed : 2.3
Circle Of Confusion : 0.001 mm
Field Of View : 7.7 deg
Focal Length : 7.1 mm (35 mm equivalent: 268.9 mm)
Hyperfocal Distance : 19.85 m
Light Value : 1.2