Uber Exif Photo
Make : Canon
Camera Model Name : Canon EOS DIGITAL REBEL XSi
Software : Adobe Photoshop Lightroom 4.2 (Macintosh)
Modify Date : 2012:12:10 10:16:20
Exposure Time : 1/500
F Number : 8.0
Exposure Program : Manual
ISO : 400
Date/Time Original : 2012:10:16 14:38:55
Create Date : 2012:10:16 14:38:55
Shutter Speed Value : 1/500
Aperture Value : 8.0
Exposure Compensation : 0
Max Aperture Value : 2.7
Metering Mode : Center-weighted average
Flash : Off, Did not fire
Focal Length : 17.0 mm
Custom Rendered : Normal
Exposure Mode : Manual
White Balance : Auto
Scene Capture Type : Standard
Serial Number : 2370516149
Lens Info : 17-50mm f/?
Lens Model : 17-50mm
Profile Description : sRGB IEC61966-2.1
Lens : 17-50mm
Image Number : 0
Approximate Focus Distance : 361
Flash Compensation : 0
Firmware : 1.0.9
Creator Tool : Adobe Photoshop Lightroom 4.2 (Macintosh)
Date Created : 2012:10:16 14:38:55.03
Format : image/jpeg
Version : 7.2
Process Version : 6.7
Color Temperature : 4350
Tint : +8
Saturation : 0
Sharpness : 25
Luminance Smoothing : 0
Color Noise Reduction : 25
Vignette Amount : 0
Shadow Tint : 0
Red Hue : 0
Red Saturation : 0
Green Hue : 0
Green Saturation : 0
Blue Hue : 0
Blue Saturation : 0
Vibrance : 0
Hue Adjustment Red : 0
Hue Adjustment Orange : 0
Hue Adjustment Yellow : 0
Hue Adjustment Green : 0
Hue Adjustment Aqua : 0
Hue Adjustment Blue : 0
Hue Adjustment Purple : 0
Hue Adjustment Magenta : 0
Saturation Adjustment Red : 0
Saturation Adjustment Orange : 0
Saturation Adjustment Yellow : 0
Saturation Adjustment Green : 0
Saturation Adjustment Aqua : 0
Saturation Adjustment Blue : 0
Saturation Adjustment Purple : 0
Saturation Adjustment Magenta : 0
Luminance Adjustment Red : 0
Luminance Adjustment Orange : 0
Luminance Adjustment Yellow : 0
Luminance Adjustment Green : 0
Luminance Adjustment Aqua : 0
Luminance Adjustment Blue : 0
Luminance Adjustment Purple : 0
Luminance Adjustment Magenta : 0
Split Toning Shadow Hue : 0
Split Toning Shadow Saturation : 0
Split Toning Highlight Hue : 0
Split Toning Highlight Saturation : 0
Split Toning Balance : 0
Parametric Shadows : +35
Parametric Darks : +57
Parametric Lights : 0
Parametric Highlights : 0
Parametric Shadow Split : 10
Parametric Midtone Split : 20
Parametric Highlight Split : 75
Sharpen Radius : +1.0
Sharpen Detail : 25
Sharpen Edge Masking : 0
Post Crop Vignette Amount : 0
Grain Amount : 0
Color Noise Reduction Detail : 50
Lens Profile Enable : 1
Lens Manual Distortion Amount : 0
Perspective Vertical : 0
Perspective Horizontal : 0
Perspective Rotate : 0.0
Perspective Scale : 100
Auto Lateral CA : 0
Exposure 2012 : +0.10
Contrast 2012 : +58
Highlights 2012 : -29
Shadows 2012 : -7
Whites 2012 : +71
Blacks 2012 : -78
Clarity 2012 : 0
Defringe Purple Amount : 0
Defringe Purple Hue Lo : 30
Defringe Purple Hue Hi : 70
Defringe Green Amount : 0
Defringe Green Hue Lo : 40
Defringe Green Hue Hi : 60
Convert To Grayscale : False
Tone Curve Name 2012 : Linear
Camera Profile : Adobe Standard
Lens Profile Setup : Custom
Lens Profile Name : Adobe (TAMRON SP 17-50mm F/2.8 DiII VC B005E, Canon)
Lens Profile Filename : Canon (TAMRON SP 17-50mm F2.8 DiII VC B005E) - RAW.lcp
Lens Profile Distortion Scale : 100
Lens Profile Chromatic Aberration Scale : 100
Lens Profile Vignetting Scale : 0
Has Settings : True
Crop Top : 0.117478
Crop Left : 0.048566
Crop Bottom : 1
Crop Right : 0.931086
Crop Angle : 0
Crop Constrain To Warp : 0
Crop Width : 1000
Crop Height : 667
Crop Unit : pixels
Has Crop : True
Already Applied : True
Tone Curve PV2012 : 0, 0, 255, 255
Tone Curve PV2012 Red : 0, 0, 255, 255
Tone Curve PV2012 Green : 0, 0, 255, 255
Tone Curve PV2012 Blue : 0, 0, 255, 255
Paint Correction What : Correction
Paint Correction Amount : 1.000000
Paint Correction Active : true
Paint Correction Saturation : 0.000000
Paint Correction Sharpness : 0.000000
Paint Correction Brightness : 0.000000
Paint Correction Toning Hue : 168.000000
Paint Correction Toning Saturation : 0.000000
Paint Correction Exposure 2012 : 0.123508
Paint Correction Contrast 2012 : 0.000000
Paint Correction Highlights 2012 : 0.003950
Paint Correction Shadows 2012 : 0.000000
Paint Correction Clarity 2012 : 0.000000
Paint Correction Luminance Noise : 0.000000
Paint Correction Moire : 0.000000
Paint Correction Defringe : 0.000000
Paint Correction Temperature : 0.000000
Paint Correction Tint : 0.000000
Paint Correction Mask What : Mask/Paint
Paint Correction Mask Value : 1.000000
Paint Correction Mask Radius : 0.006959
Paint Correction Mask Flow : 1.000000
Paint Correction Mask Center Weight : 0.103596
Image Width : 300
Image Height : 200
Bits Per Sample : 8
Color Components : 3
Aperture : 8.0
Image Size : 300x200
Megapixels : 0.060
Scale Factor To 35 mm Equivalent : 1.6
Shutter Speed : 1/500
Create Date : 2012:10:16 14:38:55.03
Date/Time Original : 2012:10:16 14:38:55.03
Circle Of Confusion : 0.019 mm
Depth Of Field : inf (1.93 m - inf)
Field Of View : 66.5 deg
Focal Length : 17.0 mm (35 mm equivalent: 27.5 mm)
Hyperfocal Distance : 1.94 m
Light Value : 13.0
Lens ID : Sigma 17-50mm f/2.8 OS HSM or Tamron SP 17-50mm f/2.8 XR Di II VC (B005)