Uber Exif Photo
Make : FUJIFILM
Camera Model Name : X10
Software : Adobe Photoshop Lightroom 3.6 (Windows)
Modify Date : 2012:12:03 22:00:21
Exposure Time : 1/750
F Number : 3.6
Exposure Program : Aperture-priority AE
ISO : 400
Sensitivity Type : Standard Output Sensitivity
Date/Time Original : 2012:11:02 16:57:18
Create Date : 2012:11:02 16:57:18
Shutter Speed Value : 1/750
Aperture Value : 3.6
Brightness Value : 5.78
Exposure Compensation : -1
Max Aperture Value : 2.0
Metering Mode : Multi-segment
Light Source : Unknown
Flash : Off, Did not fire
Focal Length : 7.1 mm
Sensing Method : One-chip color area
Scene Type : Directly photographed
Custom Rendered : Normal
Exposure Mode : Auto
White Balance : Auto
Scene Capture Type : Standard
Sharpness : Normal
Subject Distance Range : Unknown
Creator Tool : Adobe Photoshop Lightroom 3.6 (Windows)
Date Created : 2012:11:02 16:57:18
Format : image/jpeg
Version : 6.6
Process Version : 5.7
Incremental Temperature : 0
Incremental Tint : 0
Exposure : +0.32
Shadows : 15
Brightness : +26
Contrast : +22
Saturation : -100
Luminance Smoothing : 51
Color Noise Reduction : 0
Chromatic Aberration R : 0
Chromatic Aberration B : 0
Vignette Amount : -70
Vignette Midpoint : 7
Shadow Tint : 0
Red Hue : 0
Red Saturation : 0
Green Hue : 0
Green Saturation : 0
Blue Hue : 0
Blue Saturation : 0
Fill Light : 16
Vibrance : +31
Highlight Recovery : 54
Clarity : +49
Defringe : 0
Hue Adjustment Red : 0
Hue Adjustment Orange : 0
Hue Adjustment Yellow : 0
Hue Adjustment Green : 0
Hue Adjustment Aqua : 0
Hue Adjustment Blue : 0
Hue Adjustment Purple : 0
Hue Adjustment Magenta : 0
Saturation Adjustment Red : 0
Saturation Adjustment Orange : 0
Saturation Adjustment Yellow : 0
Saturation Adjustment Green : 0
Saturation Adjustment Aqua : 0
Saturation Adjustment Blue : 0
Saturation Adjustment Purple : 0
Saturation Adjustment Magenta : 0
Luminance Adjustment Red : 0
Luminance Adjustment Orange : 0
Luminance Adjustment Yellow : 0
Luminance Adjustment Green : 0
Luminance Adjustment Aqua : 0
Luminance Adjustment Blue : 0
Luminance Adjustment Purple : 0
Luminance Adjustment Magenta : 0
Split Toning Shadow Hue : 0
Split Toning Shadow Saturation : 0
Split Toning Highlight Hue : 0
Split Toning Highlight Saturation : 0
Split Toning Balance : 0
Parametric Shadows : 0
Parametric Darks : 0
Parametric Lights : 0
Parametric Highlights : 0
Parametric Shadow Split : 25
Parametric Midtone Split : 50
Parametric Highlight Split : 75
Sharpen Radius : +1.0
Sharpen Detail : 25
Sharpen Edge Masking : 0
Post Crop Vignette Amount : 0
Grain Amount : 0
Luminance Noise Reduction Detail : 50
Luminance Noise Reduction Contrast : 0
Lens Profile Enable : 0
Lens Manual Distortion Amount : 0
Perspective Vertical : 0
Perspective Horizontal : 0
Perspective Rotate : 0.0
Perspective Scale : 100
Convert To Grayscale : False
Tone Curve Name : Custom
Camera Profile : Embedded
Lens Profile Setup : LensDefaults
Has Settings : True
Has Crop : False
Already Applied : True
Tone Curve : 0, 0, 40, 30, 66, 58, 195, 201, 255, 255
Gradient Based Corr What : Correction
Gradient Based Corr Amount : 1.000000
Gradient Based Corr Active : true
Gradient Based Corr Exposure : 0.097500
Gradient Based Corr Saturation : 0.000000
Gradient Based Corr Contrast : 0.146340
Gradient Based Corr Clarity : 1.000000
Gradient Based Corr Sharpness : 0.000000
Gradient Based Corr Brightness : -0.097560
Gradient Based Corr Toning Hue : 237.000000
Gradient Based Corr Toning Saturation : 0.000000
Gradient Based Corr Mask What : Mask/Gradient
Gradient Based Corr Mask Value : 1.000000
Gradient Based Corr Mask Zero X : 0.593825
Gradient Based Corr Mask Zero Y : 0.591773
Gradient Based Corr Mask Full X : 0.710214
Gradient Based Corr Mask Full Y : 0.515823
Image Width : 225
Image Height : 300
Bits Per Sample : 8
Color Components : 1
Aperture : 3.6
Image Size : 225x300
Megapixels : 0.068
Scale Factor To 35 mm Equivalent : 37.0
Shutter Speed : 1/750
Circle Of Confusion : 0.001 mm
Field Of View : 7.8 deg
Focal Length : 7.1 mm (35 mm equivalent: 262.5 mm)
Hyperfocal Distance : 17.23 m
Light Value : 11.2