Uber Exif Photo
By-line : ruggeroranzani
Copyright Notice : Copyright 2012
Copyright Flag : True
Make : Leica Camera AG
Camera Model Name : M9 Digital Camera
Software : Adobe Photoshop Lightroom 4.0 (Windows)
Modify Date : 2015:12:29 17:08:55
Artist : ruggeroranzani
Copyright : Copyright 2012
Exposure Time : 1/90
F Number : 9.5
Exposure Program : Manual
ISO : 160
Date/Time Original : 2015:12:17 15:32:51
Create Date : 2015:12:17 15:32:51
Shutter Speed Value : 1/90
Aperture Value : 9.5
Exposure Compensation : +0.332
Max Aperture Value : 1.4
Metering Mode : Center-weighted average
Light Source : Daylight
Flash : No Flash
Focal Length : 50.0 mm
Scene Type : Directly photographed
Exposure Mode : Manual
White Balance : Manual
Digital Zoom Ratio : 0
Focal Length In 35mm Format : 50 mm
Scene Capture Type : Standard
Serial Number : 4422048
Lens Model : Leica Summilux-M 50mm f/1.4 ASPH.
Profile Description : sRGB IEC61966-2.1
Creator Tool : Adobe Photoshop Lightroom 4.0 (Windows)
Lens : Leica Summilux-M 50mm f/1.4 ASPH.
Date Created : 2015:12:17 15:32:51
Category : people
Format : image/jpeg
Marked : True
Version : 7.0
Process Version : 6.7
Color Temperature : 4550
Tint : -4
Exposure : 0.00
Shadows : 5
Brightness : +50
Contrast : +25
Saturation : 0
Sharpness : 25
Luminance Smoothing : 0
Color Noise Reduction : 25
Vignette Amount : 0
Shadow Tint : 0
Red Hue : 0
Red Saturation : 0
Green Hue : 0
Green Saturation : 0
Blue Hue : 0
Blue Saturation : 0
Fill Light : 0
Vibrance : 0
Highlight Recovery : 0
Clarity : 0
Defringe : 0
Hue Adjustment Red : +26
Hue Adjustment Orange : +4
Hue Adjustment Yellow : -15
Hue Adjustment Green : 0
Hue Adjustment Aqua : 0
Hue Adjustment Blue : -11
Hue Adjustment Purple : +11
Hue Adjustment Magenta : +17
Saturation Adjustment Red : +2
Saturation Adjustment Orange : 0
Saturation Adjustment Yellow : 0
Saturation Adjustment Green : 0
Saturation Adjustment Aqua : 0
Saturation Adjustment Blue : -4
Saturation Adjustment Purple : 0
Saturation Adjustment Magenta : 0
Luminance Adjustment Red : -2
Luminance Adjustment Orange : 0
Luminance Adjustment Yellow : 0
Luminance Adjustment Green : 0
Luminance Adjustment Aqua : 0
Luminance Adjustment Blue : 0
Luminance Adjustment Purple : 0
Luminance Adjustment Magenta : 0
Split Toning Shadow Hue : 0
Split Toning Shadow Saturation : 0
Split Toning Highlight Hue : 0
Split Toning Highlight Saturation : 0
Split Toning Balance : 0
Parametric Shadows : 0
Parametric Darks : 0
Parametric Lights : 0
Parametric Highlights : 0
Parametric Shadow Split : 25
Parametric Midtone Split : 50
Parametric Highlight Split : 75
Sharpen Radius : +1.0
Sharpen Detail : 25
Sharpen Edge Masking : 0
Post Crop Vignette Amount : 0
Grain Amount : 0
Color Noise Reduction Detail : 50
Lens Profile Enable : 0
Lens Manual Distortion Amount : 0
Perspective Vertical : 0
Perspective Horizontal : 0
Perspective Rotate : 0.0
Perspective Scale : 100
Auto Lateral CA : 0
Exposure 2012 : +0.93
Contrast 2012 : 0
Highlights 2012 : -26
Shadows 2012 : -49
Whites 2012 : 0
Blacks 2012 : -44
Clarity 2012 : +21
Convert To Grayscale : False
Tone Curve Name : Linear
Tone Curve Name 2012 : Medium Contrast
Camera Profile : Adobe Standard
Lens Profile Setup : LensDefaults
Has Settings : True
Has Crop : False
Already Applied : True
Creator : ruggeroranzani
Rights : Copyright 2012
Tone Curve : 0, 0, 255, 255
Tone Curve Red : 0, 0, 255, 255
Tone Curve Green : 0, 0, 255, 255
Tone Curve Blue : 0, 0, 255, 255
Tone Curve PV2012 : 0, 0, 32, 22, 64, 56, 128, 128, 192, 196, 255, 255
Tone Curve PV2012 Red : 0, 0, 255, 255
Tone Curve PV2012 Green : 0, 0, 255, 255
Tone Curve PV2012 Blue : 0, 0, 255, 255
Image Width : 300
Image Height : 200
Bits Per Sample : 8
Color Components : 3
Aperture : 9.5
Image Size : 300x200
Megapixels : 0.060
Scale Factor To 35 mm Equivalent : 1.0
Shutter Speed : 1/90
Circle Of Confusion : 0.030 mm
Field Of View : 39.6 deg
Focal Length : 50.0 mm (35 mm equivalent: 50.0 mm)
Hyperfocal Distance : 8.76 m
Light Value : 12.3
Lens ID : Summilux-M 50mm f/1.4 ASPH.