Uber Exif Photo
Photometric Interpretation : RGB
Make : SONY
Camera Model Name : NEX-5N
Orientation : Horizontal (normal)
Samples Per Pixel : 3
Software : Adobe Photoshop CC 2015 (Macintosh)
Modify Date : 2016:01:31 14:14:21
Exposure Time : 1/125
F Number : 4.5
Exposure Program : Shutter speed priority AE
ISO : 100
Sensitivity Type : Recommended Exposure Index
Recommended Exposure Index : 100
Date/Time Original : 2016:01:09 17:02:48
Create Date : 2016:01:09 17:02:48
Shutter Speed Value : 1/125
Aperture Value : 4.5
Brightness Value : 5.1109375
Exposure Compensation : -0.3
Max Aperture Value : 4.5
Metering Mode : Multi-segment
Light Source : Unknown
Flash : Off, Did not fire
Focal Length : 40.0 mm
Color Space : Uncalibrated
Exif Image Width : 4730
Exif Image Height : 3143
Scene Type : Directly photographed
Custom Rendered : Normal
Exposure Mode : Auto
White Balance : Auto
Focal Length In 35mm Format : 60 mm
Scene Capture Type : Standard
Contrast : Normal
Saturation : Normal
Sharpness : Normal
Lens Info : 18-55mm f/3.5-5.6
Lens Model : E 18-55mm F3.5-5.6 OSS
Profile Description : ProPhoto RGB
Rating : 0
Label :
Creator Tool : Adobe Photoshop CC 2015 (Macintosh)
Lens : E 18-55mm F3.5-5.6 OSS
Lens Distort Info : 1045219106/1073741824 23834021/1073741824 3473231/1073741824 1194517/1073741824
Distortion Correction Already Applied : True
Lateral Chromatic Aberration Correction Already Applied:
True
Vignette Correction Already Applied : True
Date Created : 2016:01:09 17:02:48
Color Mode : RGB
ICC Profile Name : ProPhoto RGB
Format : image/jpeg
Raw File Name : DSC09968.ARW
Version : 9.3.1
Process Version : 6.7
Auto White Version : 134348800
Color Temperature : 14611
Tint : +3
Luminance Smoothing : 0
Color Noise Reduction : 0
Vignette Amount : 0
Shadow Tint : 0
Red Hue : 0
Red Saturation : 0
Green Hue : 0
Green Saturation : 0
Blue Hue : 0
Blue Saturation : 0
Vibrance : +41
Hue Adjustment Red : 0
Hue Adjustment Orange : 0
Hue Adjustment Yellow : 0
Hue Adjustment Green : 0
Hue Adjustment Aqua : 0
Hue Adjustment Blue : 0
Hue Adjustment Purple : 0
Hue Adjustment Magenta : 0
Saturation Adjustment Red : 0
Saturation Adjustment Orange : +87
Saturation Adjustment Yellow : 0
Saturation Adjustment Green : 0
Saturation Adjustment Aqua : 0
Saturation Adjustment Blue : 0
Saturation Adjustment Purple : 0
Saturation Adjustment Magenta : 0
Luminance Adjustment Red : 0
Luminance Adjustment Orange : 0
Luminance Adjustment Yellow : -54
Luminance Adjustment Green : 0
Luminance Adjustment Aqua : 0
Luminance Adjustment Blue : 0
Luminance Adjustment Purple : 0
Luminance Adjustment Magenta : 0
Split Toning Shadow Hue : 0
Split Toning Shadow Saturation : 0
Split Toning Highlight Hue : 0
Split Toning Highlight Saturation : 0
Split Toning Balance : 0
Parametric Shadows : 0
Parametric Darks : 0
Parametric Lights : 0
Parametric Highlights : 0
Parametric Shadow Split : 25
Parametric Midtone Split : 50
Parametric Highlight Split : 75
Sharpen Radius : +1.0
Sharpen Detail : 25
Sharpen Edge Masking : 0
Post Crop Vignette Amount : 0
Grain Amount : 0
Lens Profile Enable : 1
Lens Manual Distortion Amount : 0
Perspective Vertical : 0
Perspective Horizontal : 0
Perspective Rotate : 0.0
Perspective Scale : 100
Perspective Aspect : 0
Perspective Upright : Off
Auto Lateral CA : 1
Exposure 2012 : -0.20
Contrast 2012 : -7
Highlights 2012 : 0
Shadows 2012 : +64
Whites 2012 : 0
Blacks 2012 : 0
Clarity 2012 : +99
Defringe Purple Amount : 2
Defringe Purple Hue Lo : 43
Defringe Purple Hue Hi : 86
Defringe Green Amount : 0
Defringe Green Hue Lo : 23
Defringe Green Hue Hi : 60
Dehaze : 0
Tone Map Strength : 0
Convert To Grayscale : False
Tone Curve Name : Medium Contrast
Tone Curve Name 2012 : Linear
Camera Profile : Adobe Standard
Lens Profile Setup : LensDefaults
Lens Profile Name : Adobe (Sony E 18-55mm F3.5-5.6 OSS)
Lens Profile Filename : Sony NEX-5 (Sony E 18-55mm F3.5-5.6 OSS) - RAW.lcp
Lens Profile Distortion Scale : 100
Lens Profile Chromatic Aberration Scale : 100
Lens Profile Vignetting Scale : 100
Has Settings : True
Crop Top : 0
Crop Left : 0.030462
Crop Bottom : 1
Crop Right : 0.969538
Crop Angle : 1.67958
Crop Constrain To Warp : 0
Has Crop : True
Already Applied : True
Tone Curve : 0, 0, 32, 22, 64, 56, 128, 128, 192, 196, 255, 255
Tone Curve Red : 0, 0, 255, 255
Tone Curve Green : 0, 0, 255, 255
Tone Curve Blue : 0, 0, 255, 255
Tone Curve PV2012 : 0, 0, 255, 255
Tone Curve PV2012 Red : 0, 0, 255, 255
Tone Curve PV2012 Green : 0, 0, 255, 255
Tone Curve PV2012 Blue : 0, 0, 255, 255
Paint Correction What : Correction
Paint Correction Amount : 1.000000
Paint Correction Active : true
Paint Correction Exposure : 0.000000
Paint Correction Saturation : 0.000000
Paint Correction Contrast : 0.000000
Paint Correction Clarity : 0.000000
Paint Correction Sharpness : 0.000000
Paint Correction Brightness : 0.000000
Paint Correction Toning Hue : 0.000000
Paint Correction Toning Saturation : 0.000000
Paint Correction Exposure 2012 : 0.135447
Paint Correction Contrast 2012 : 0.000000
Paint Correction Highlights 2012 : 0.000000
Paint Correction Shadows 2012 : 0.000000
Paint Correction Whites 2012 : 0.000000
Paint Correction Blacks 2012 : 0.000000
Paint Correction Clarity 2012 : 0.000000
Paint Correction Dehaze : 0.000000
Paint Correction Luminance Noise : 0.000000
Paint Correction Moire : 0.000000
Paint Correction Defringe : 0.000000
Paint Correction Temperature : 0.005996
Paint Correction Tint : 0.000000
Paint Correction Mask What : Mask/Paint
Paint Correction Mask Value : 1.000000
Paint Correction Mask Radius : 0.070803
Paint Correction Mask Flow : 1.000000
Paint Correction Mask Center Weight : 0.000000
Gradient Based Corr What : Correction
Gradient Based Corr Amount : 1.000000
Gradient Based Corr Active : true
Gradient Based Corr Exposure : 0.000000
Gradient Based Corr Saturation : 0.000000
Gradient Based Corr Contrast : 0.000000
Gradient Based Corr Clarity : 0.000000
Gradient Based Corr Sharpness : 0.000000
Gradient Based Corr Brightness : 0.000000
Gradient Based Corr Toning Hue : 0.000000
Gradient Based Corr Toning Saturation : 0.000000
Gradient Based Corr Exposure 2012 : 0.132358
Gradient Based Corr Contrast 2012 : 0.580305
Gradient Based Corr Highlights 2012 : 0.000000
Gradient Based Corr Shadows 2012 : 0.000000
Gradient Based Corr Whites 2012 : 0.000000
Gradient Based Corr Blacks 2012 : 0.000000
Gradient Based Corr Clarity 2012 : 0.000000
Gradient Based Corr Dehaze : 0.000000
Gradient Based Corr Luminance Noise : 0.000000
Gradient Based Corr Moire : 0.000000
Gradient Based Corr Defringe : 0.000000
Gradient Based Corr Temperature : 0.005996
Gradient Based Corr Tint : 0.000000
Gradient Based Corr Mask What : Mask/Gradient
Gradient Based Corr Mask Value : 1.000000
Gradient Based Corr Mask Zero X : 0.612792
Gradient Based Corr Mask Zero Y : 0.726828
Gradient Based Corr Mask Full X : 0.612004
Gradient Based Corr Mask Full Y : 0.811536
Image Width : 300
Image Height : 199
Bits Per Sample : 8
Color Components : 3
Aperture : 4.5
Image Size : 300x199
Megapixels : 0.060
Scale Factor To 35 mm Equivalent : 1.5
Shutter Speed : 1/125
Circle Of Confusion : 0.020 mm
Field Of View : 33.4 deg
Focal Length : 40.0 mm (35 mm equivalent: 60.0 mm)
Hyperfocal Distance : 17.75 m
Light Value : 11.3
Lens ID : E 18-55mm F3.5-5.6 OSS