Uber Exif Photo
Object Name :
Make : NIKON CORPORATION
Camera Model Name : NIKON D80
Software : Ver.1.10
Modify Date : 2012:12:26 11:01:30
Exposure Time : 1/400
F Number : 5.0
Exposure Program : Aperture-priority AE
ISO : 100
Sensitivity Type : Unknown
Date/Time Original : 2012:07:27 21:47:41
Create Date : 2012:07:27 21:47:41
Shutter Speed Value : 1/400
Aperture Value : 5.0
Exposure Compensation : +1/3
Max Aperture Value : 3.5
Subject Distance : 2 m
Metering Mode : Multi-segment
Light Source : Fine Weather
Focal Length : 18.0 mm
User Comment :
Sensing Method : One-chip color area
Scene Type : Directly photographed
CFA Pattern : [Green,Blue][Red,Green]
Custom Rendered : Normal
Exposure Mode : Auto
White Balance : Manual
Digital Zoom Ratio : 1
Focal Length In 35mm Format : 27 mm
Scene Capture Type : Standard
Gain Control : None
Contrast : Normal
Saturation : Normal
Sharpness : Normal
Subject Distance Range : Unknown
Serial Number : 4484758
Lens Info : 18-135mm f/3.5-5.6
Lens Model : 18.0-135.0 mm f/3.5-5.6
Profile Description : sRGB IEC61966-2.1
Rawrppused : True
Creator Tool : Adobe Photoshop Lightroom
Date/Time Digitized : 2012:07:27 21:47:41.80+3:00
Exif Image Width : 1000
Exif Image Height : 669
Lens : 18.0-135.0 mm f/3.5-5.6
Image Number : 55818
Approximate Focus Distance : 2
Version : 6.2
Process Version : 5.7
Color Temperature : 4900
Tint : -1
Exposure : +0.20
Shadows : 7
Brightness : +60
Luminance Smoothing : 0
Color Noise Reduction : 25
Chromatic Aberration R : 0
Chromatic Aberration B : 0
Vignette Amount : 0
Shadow Tint : 0
Red Hue : 0
Red Saturation : 0
Green Hue : 0
Green Saturation : 0
Blue Hue : 0
Blue Saturation : 0
Fill Light : 16
Vibrance : 0
Highlight Recovery : 0
Clarity : -20
Defringe : 0
Hue Adjustment Red : 0
Hue Adjustment Orange : 0
Hue Adjustment Yellow : 0
Hue Adjustment Green : 0
Hue Adjustment Aqua : 0
Hue Adjustment Blue : 0
Hue Adjustment Purple : 0
Hue Adjustment Magenta : 0
Saturation Adjustment Red : 0
Saturation Adjustment Orange : 0
Saturation Adjustment Yellow : 0
Saturation Adjustment Green : 0
Saturation Adjustment Aqua : 0
Saturation Adjustment Blue : 0
Saturation Adjustment Purple : 0
Saturation Adjustment Magenta : 0
Luminance Adjustment Red : 0
Luminance Adjustment Orange : 0
Luminance Adjustment Yellow : 0
Luminance Adjustment Green : 0
Luminance Adjustment Aqua : 0
Luminance Adjustment Blue : 0
Luminance Adjustment Purple : 0
Luminance Adjustment Magenta : 0
Split Toning Shadow Hue : 0
Split Toning Shadow Saturation : 0
Split Toning Highlight Hue : 0
Split Toning Highlight Saturation : 0
Split Toning Balance : 0
Parametric Shadows : 0
Parametric Darks : 0
Parametric Lights : 0
Parametric Highlights : 0
Parametric Shadow Split : 25
Parametric Midtone Split : 50
Parametric Highlight Split : 75
Sharpen Radius : +1.0
Sharpen Detail : 25
Sharpen Edge Masking : 0
Post Crop Vignette Amount : 0
Grain Amount : 0
Color Noise Reduction Detail : 50
Lens Profile Enable : 0
Lens Manual Distortion Amount : 0
Perspective Vertical : 0
Perspective Horizontal : 0
Perspective Rotate : 0.0
Perspective Scale : 100
Convert To Grayscale : False
Tone Curve Name : Custom
Camera Profile : ACR 4.4
Lens Profile Setup : LensDefaults
Has Settings : True
Has Crop : False
Already Applied : True
Reference Black White : 0
Flash Fired : False
Flash Return : No return detection
Flash Mode : Unknown
Flash Function : False
Flash Red Eye Mode : False
Title :
Tone Curve : 0, 0, 33, 16, 64, 56, 128, 128, 192, 196, 255, 255
Image Width : 300
Image Height : 201
Bits Per Sample : 8
Color Components : 3
Aperture : 5.0
Image Size : 300x201
Megapixels : 0.060
Scale Factor To 35 mm Equivalent : 1.5
Shutter Speed : 1/400
Create Date : 2012:07:27 21:47:41.80
Date/Time Original : 2012:07:27 21:47:41.80
Flash : No Flash
Circle Of Confusion : 0.020 mm
Depth Of Field : 3.92 m (1.24 - 5.16 m)
Field Of View : 67.4 deg
Focal Length : 18.0 mm (35 mm equivalent: 27.0 mm)
Hyperfocal Distance : 3.24 m
Light Value : 13.3
Lens ID : AF-S DX Zoom-Nikkor 18-135mm f/3.5-5.6G IF-ED