Uber Exif Photo
Make : NIKON
Camera Model Name : COOLPIX P500
Software : Adobe Photoshop Lightroom 3.6 (Macintosh)
Modify Date : 2013:01:19 13:29:25
Exposure Time : 1/1500
F Number : 5.6
Exposure Program : Program AE
ISO : 160
Sensitivity Type : Standard Output Sensitivity
Date/Time Original : 2012:12:08 13:56:03
Create Date : 2012:12:08 13:56:03
Shutter Speed Value : 1/1500
Aperture Value : 5.6
Exposure Compensation : 0
Max Aperture Value : 3.4
Metering Mode : Multi-segment
Light Source : Unknown
Flash : Off, Did not fire
Focal Length : 4.0 mm
Scene Type : Directly photographed
Custom Rendered : Normal
Exposure Mode : Auto
White Balance : Auto
Digital Zoom Ratio : 0
Focal Length In 35mm Format : 23 mm
Scene Capture Type : Standard
Gain Control : None
Contrast : Normal
Saturation : Normal
Sharpness : Normal
Subject Distance Range : Unknown
Profile Description : sRGB IEC61966-2.1
Creator Tool : Adobe Photoshop Lightroom 3.6 (Macintosh)
Date Created : 2012:12:08 13:56:03
Format : image/jpeg
Version : 6.6
Process Version : 5.7
Incremental Temperature : 0
Incremental Tint : 0
Exposure : -2.60
Shadows : 5
Brightness : +50
Luminance Smoothing : 64
Color Noise Reduction : 66
Chromatic Aberration R : 0
Chromatic Aberration B : 0
Vignette Amount : -50
Vignette Midpoint : 20
Shadow Tint : 0
Red Hue : 0
Red Saturation : 0
Green Hue : 0
Green Saturation : 0
Blue Hue : 0
Blue Saturation : 0
Fill Light : 0
Vibrance : +23
Highlight Recovery : 0
Clarity : 0
Defringe : 0
Hue Adjustment Red : 0
Hue Adjustment Orange : 0
Hue Adjustment Yellow : 0
Hue Adjustment Green : 0
Hue Adjustment Aqua : 0
Hue Adjustment Blue : 0
Hue Adjustment Purple : 0
Hue Adjustment Magenta : 0
Saturation Adjustment Red : 0
Saturation Adjustment Orange : +15
Saturation Adjustment Yellow : +27
Saturation Adjustment Green : +12
Saturation Adjustment Aqua : +11
Saturation Adjustment Blue : +3
Saturation Adjustment Purple : 0
Saturation Adjustment Magenta : 0
Luminance Adjustment Red : 0
Luminance Adjustment Orange : +9
Luminance Adjustment Yellow : +17
Luminance Adjustment Green : +8
Luminance Adjustment Aqua : 0
Luminance Adjustment Blue : 0
Luminance Adjustment Purple : 0
Luminance Adjustment Magenta : 0
Split Toning Shadow Hue : 165
Split Toning Shadow Saturation : 74
Split Toning Highlight Hue : 38
Split Toning Highlight Saturation : 74
Split Toning Balance : 0
Parametric Shadows : -14
Parametric Darks : -42
Parametric Lights : +74
Parametric Highlights : +83
Parametric Shadow Split : 15
Parametric Midtone Split : 35
Parametric Highlight Split : 79
Sharpen Radius : +1.0
Sharpen Detail : 25
Sharpen Edge Masking : 0
Post Crop Vignette Amount : 0
Grain Amount : 0
Luminance Noise Reduction Detail : 50
Color Noise Reduction Detail : 50
Luminance Noise Reduction Contrast : 0
Lens Profile Enable : 0
Lens Manual Distortion Amount : 0
Perspective Vertical : 0
Perspective Horizontal : 0
Perspective Rotate : 0.0
Perspective Scale : 100
Convert To Grayscale : False
Tone Curve Name : Linear
Camera Profile : Embedded
Lens Profile Setup : LensDefaults
Has Settings : True
Crop Top : 0
Crop Left : 0
Crop Bottom : 0.928818
Crop Right : 0.928818
Crop Angle : 0
Crop Constrain To Warp : 0
Crop Width : 3715
Crop Height : 2786
Crop Unit : pixels
Has Crop : True
Already Applied : True
Tone Curve : 0, 0, 255, 255
Image Width : 300
Image Height : 225
Bits Per Sample : 8
Color Components : 3
Aperture : 5.6
Image Size : 300x225
Megapixels : 0.068
Scale Factor To 35 mm Equivalent : 5.8
Shutter Speed : 1/1500
Circle Of Confusion : 0.005 mm
Field Of View : 76.1 deg
Focal Length : 4.0 mm (35 mm equivalent: 23.0 mm)
Hyperfocal Distance : 0.55 m
Light Value : 14.8