Uber Exif Photo
Make : NIKON
Camera Model Name : COOLPIX P500
Software : Adobe Photoshop Lightroom 3.6 (Macintosh)
Modify Date : 2013:01:18 01:15:31
Exposure Time : 1/13
F Number : 3.4
Exposure Program : Program AE
ISO : 800
Sensitivity Type : Standard Output Sensitivity
Date/Time Original : 2012:09:20 12:15:56
Create Date : 2012:09:20 12:15:56
Shutter Speed Value : 1/13
Aperture Value : 3.4
Exposure Compensation : 0
Max Aperture Value : 3.4
Metering Mode : Multi-segment
Light Source : Unknown
Flash : Off, Did not fire
Focal Length : 4.0 mm
Scene Type : Directly photographed
Custom Rendered : Normal
Exposure Mode : Auto
White Balance : Auto
Digital Zoom Ratio : 0
Focal Length In 35mm Format : 23 mm
Scene Capture Type : Standard
Gain Control : High gain up
Contrast : Normal
Saturation : Normal
Sharpness : Normal
Subject Distance Range : Unknown
Profile Description : sRGB IEC61966-2.1
Creator Tool : Adobe Photoshop Lightroom 3.6 (Macintosh)
Date Created : 2012:09:20 12:15:56
Format : image/jpeg
Version : 6.6
Process Version : 5.7
Incremental Temperature : -20
Incremental Tint : -35
Exposure : +0.66
Shadows : 10
Brightness : +50
Luminance Smoothing : 0
Color Noise Reduction : 25
Chromatic Aberration R : 0
Chromatic Aberration B : 0
Vignette Amount : -42
Vignette Midpoint : 30
Shadow Tint : 0
Red Hue : 0
Red Saturation : -34
Green Hue : 0
Green Saturation : 0
Blue Hue : 0
Blue Saturation : +63
Fill Light : 10
Vibrance : -10
Highlight Recovery : 10
Clarity : +45
Defringe : 0
Hue Adjustment Red : 0
Hue Adjustment Orange : 0
Hue Adjustment Yellow : 0
Hue Adjustment Green : 0
Hue Adjustment Aqua : 0
Hue Adjustment Blue : 0
Hue Adjustment Purple : 0
Hue Adjustment Magenta : 0
Saturation Adjustment Red : -60
Saturation Adjustment Orange : -55
Saturation Adjustment Yellow : -50
Saturation Adjustment Green : -70
Saturation Adjustment Aqua : -60
Saturation Adjustment Blue : -40
Saturation Adjustment Purple : -55
Saturation Adjustment Magenta : -20
Luminance Adjustment Red : 0
Luminance Adjustment Orange : 0
Luminance Adjustment Yellow : 0
Luminance Adjustment Green : 0
Luminance Adjustment Aqua : 0
Luminance Adjustment Blue : 0
Luminance Adjustment Purple : 0
Luminance Adjustment Magenta : 0
Split Toning Shadow Hue : 0
Split Toning Shadow Saturation : 0
Split Toning Highlight Hue : 0
Split Toning Highlight Saturation : 0
Split Toning Balance : 0
Parametric Shadows : 0
Parametric Darks : 0
Parametric Lights : 0
Parametric Highlights : 0
Parametric Shadow Split : 25
Parametric Midtone Split : 50
Parametric Highlight Split : 75
Sharpen Radius : +1.0
Sharpen Detail : 25
Sharpen Edge Masking : 0
Post Crop Vignette Amount : 0
Grain Amount : 0
Color Noise Reduction Detail : 50
Lens Profile Enable : 0
Lens Manual Distortion Amount : 0
Perspective Vertical : 0
Perspective Horizontal : 0
Perspective Rotate : 0.0
Perspective Scale : 100
Convert To Grayscale : False
Tone Curve Name : Medium Contrast
Camera Profile : Embedded
Lens Profile Setup : LensDefaults
Has Settings : True
Has Crop : False
Already Applied : True
Tone Curve : 0, 0, 32, 22, 64, 56, 128, 128, 192, 196, 255, 255
Image Width : 300
Image Height : 225
Bits Per Sample : 8
Color Components : 3
Aperture : 3.4
Image Size : 300x225
Megapixels : 0.068
Scale Factor To 35 mm Equivalent : 5.8
Shutter Speed : 1/13
Circle Of Confusion : 0.005 mm
Field Of View : 76.1 deg
Focal Length : 4.0 mm (35 mm equivalent: 23.0 mm)
Hyperfocal Distance : 0.90 m
Light Value : 4.2