Uber Exif Photo
By-line : ruggeroranzani
Copyright Notice : Copyright 2012
Copyright Flag : True
Make : Leica Camera AG
Camera Model Name : M9 Digital Camera
Orientation : Horizontal (normal)
Software : Adobe Photoshop Lightroom 4.0 (Windows)
Modify Date : 2016:02:04 17:19:39
Artist : ruggeroranzani
Copyright : Copyright 2012
Exposure Time : 1/125
F Number : 8.0
Exposure Program : Manual
ISO : 160
Date/Time Original : 2016:02:04 13:37:22
Shutter Speed Value : 1/125
Aperture Value : 8.0
Exposure Compensation : +0.332
Max Aperture Value : 1.4
Metering Mode : Center-weighted average
Light Source : Other
Flash : No Flash
Focal Length : 50.0 mm
Scene Type : Directly photographed
Exposure Mode : Manual
White Balance : Manual
Digital Zoom Ratio : 0
Focal Length In 35mm Format : 50 mm
Scene Capture Type : Standard
Lens : Leica Summilux-M 50mm f/1.4 ASPH.
Serial Number : 4422048
Already Applied : True
Auto Lateral CA : 0
Blacks 2012 : -12
Blue Hue : 0
Blue Saturation : 0
Brightness : +50
Camera Profile : Adobe Standard
Clarity : 0
Clarity 2012 : +21
Color Noise Reduction : 15
Color Noise Reduction Detail : 50
Contrast : +25
Contrast 2012 : -8
Convert To Grayscale : True
Defringe : 0
Exposure : 0.00
Exposure 2012 : +0.85
Fill Light : 0
Grain Amount : 0
Gray Mixer Aqua : +96
Gray Mixer Blue : -26
Gray Mixer Green : +11
Gray Mixer Magenta : +17
Gray Mixer Orange : -35
Gray Mixer Purple : +54
Gray Mixer Red : +41
Gray Mixer Yellow : -54
Green Hue : 0
Green Saturation : 0
Has Crop : False
Has Settings : True
Highlight Recovery : 0
Highlights 2012 : -38
Lens Manual Distortion Amount : 0
Lens Profile Enable : 0
Lens Profile Setup : LensDefaults
Luminance Noise Reduction Contrast : 0
Luminance Noise Reduction Detail : 50
Luminance Smoothing : 15
Parametric Darks : 0
Parametric Highlight Split : 75
Parametric Highlights : 0
Parametric Lights : 0
Parametric Midtone Split : 50
Parametric Shadow Split : 25
Parametric Shadows : 0
Perspective Horizontal : 0
Perspective Rotate : 0.0
Perspective Scale : 100
Perspective Vertical : 0
Post Crop Vignette Amount : 0
Process Version : 6.7
Red Hue : 0
Red Saturation : 0
Shadow Tint : 0
Shadows : 5
Shadows 2012 : +38
Sharpen Detail : 44
Sharpen Edge Masking : 10
Sharpen Radius : +1.0
Sharpness : 68
Split Toning Balance : 0
Split Toning Highlight Hue : 0
Split Toning Highlight Saturation : 6
Split Toning Shadow Hue : 0
Split Toning Shadow Saturation : 0
Color Temperature : 4550
Tint : -4
Tone Curve Name : Linear
Tone Curve Name 2012 : Medium Contrast
Version : 7.0
Vignette Amount : 0
Whites 2012 : +8
Format : image/jpeg
Create Date : 2016:02:04 13:37:22
Creator Tool : Adobe Photoshop Lightroom 4.0 (Windows)
Category : people
Date Created : 2016:02:04 13:37:22
Marked : True
Tone Curve : 0, 0, 255, 255
Tone Curve Blue : 0, 0, 255, 255
Tone Curve Green : 0, 0, 255, 255
Tone Curve PV2012 : 0, 0, 32, 22, 64, 56, 128, 128, 192, 196, 255, 255
Tone Curve PV2012 Blue : 0, 0, 255, 255
Tone Curve PV2012 Green : 0, 0, 255, 255
Tone Curve PV2012 Red : 0, 0, 255, 255
Tone Curve Red : 0, 0, 255, 255
Creator : ruggeroranzani
Rights : Copyright 2012
Image Width : 308
Image Height : 208
Bits Per Sample : 8
Color Components : 1
Aperture : 8.0
Image Size : 308x208
Megapixels : 0.064
Scale Factor To 35 mm Equivalent : 1.0
Shutter Speed : 1/125
Circle Of Confusion : 0.030 mm
Field Of View : 39.6 deg
Focal Length : 50.0 mm (35 mm equivalent: 50.0 mm)
Hyperfocal Distance : 10.40 m
Light Value : 12.3
Lens ID : Summilux-M 50mm f/1.4 ASPH.