Uber Exif Photo
Make : Leica Camera AG
Camera Model Name : M9 Digital Camera
Software : Adobe Photoshop Lightroom 4.3 (Macintosh)
Modify Date : 2013:01:03 23:08:09
Exposure Time : 1/25
F Number : 2.0
Exposure Program : Manual
ISO : 400
Date/Time Original : 2013:01:03 15:37:08
Create Date : 2013:01:03 15:37:08
Shutter Speed Value : 1/25
Aperture Value : 2.0
Exposure Compensation : +1
Max Aperture Value : 1.0
Metering Mode : Center-weighted average
Light Source : Unknown
Flash : No Flash
Scene Type : Directly photographed
Exposure Mode : Manual
White Balance : Auto
Digital Zoom Ratio : 0
Scene Capture Type : Standard
Serial Number : 4205726
Creator Tool : Adobe Photoshop Lightroom 4.3 (Macintosh)
Date Created : 2013:01:03 15:37:08
Format : image/jpeg
Version : 7.3
Process Version : 6.7
Color Temperature : 3000
Tint : +10
Sharpness : 25
Luminance Smoothing : 0
Color Noise Reduction : 25
Vignette Amount : 0
Shadow Tint : 0
Red Hue : 0
Red Saturation : 0
Green Hue : 0
Green Saturation : 0
Blue Hue : 0
Blue Saturation : 0
Gray Mixer Red : -29
Gray Mixer Orange : -9
Gray Mixer Yellow : +4
Gray Mixer Green : +8
Gray Mixer Aqua : +16
Gray Mixer Blue : +51
Gray Mixer Purple : +37
Gray Mixer Magenta : +48
Split Toning Shadow Hue : 0
Split Toning Shadow Saturation : 0
Split Toning Highlight Hue : 0
Split Toning Highlight Saturation : 0
Split Toning Balance : 0
Parametric Shadows : 0
Parametric Darks : 0
Parametric Lights : 0
Parametric Highlights : 0
Parametric Shadow Split : 25
Parametric Midtone Split : 50
Parametric Highlight Split : 75
Sharpen Radius : +1.0
Sharpen Detail : 25
Sharpen Edge Masking : 0
Post Crop Vignette Amount : 0
Grain Amount : 0
Color Noise Reduction Detail : 50
Lens Profile Enable : 0
Lens Manual Distortion Amount : 0
Perspective Vertical : 0
Perspective Horizontal : 0
Perspective Rotate : 0.0
Perspective Scale : 100
Auto Lateral CA : 0
Exposure 2012 : +0.45
Contrast 2012 : 0
Highlights 2012 : 0
Shadows 2012 : 0
Whites 2012 : 0
Blacks 2012 : 0
Clarity 2012 : +30
Convert To Grayscale : True
Tone Curve Name 2012 : Linear
Camera Profile : Adobe Standard
Lens Profile Setup : LensDefaults
Has Settings : True
Crop Top : 0.161044
Crop Left : 0.118545
Crop Bottom : 0.99975
Crop Right : 0.950626
Crop Angle : 0.209903
Crop Constrain To Warp : 0
Crop Width : 4347
Crop Height : 2893
Crop Unit : pixels
Has Crop : True
Already Applied : True
Tone Curve PV2012 : 0, 0, 255, 255
Tone Curve PV2012 Red : 0, 0, 255, 255
Tone Curve PV2012 Green : 0, 0, 255, 255
Tone Curve PV2012 Blue : 0, 0, 255, 255
Image Width : 300
Image Height : 200
Bits Per Sample : 8
Color Components : 1
Aperture : 2.0
Image Size : 300x200
Megapixels : 0.060
Scale Factor To 35 mm Equivalent : 17.5
Shutter Speed : 1/25
Circle Of Confusion : 0.002 mm
Light Value : 4.6