Uber Exif Photo
Keywords : Leica APO-Macro-Elmarit-R, leica, leica m9, m9
Copyright Notice : dierk topp
Copyright Flag : True
Make : Leica Camera AG
Camera Model Name : M9 Digital Camera
Software : Adobe Photoshop Lightroom 4.2 (Windows)
Modify Date : 2013:02:10 15:49:49
Copyright : dierk topp
Exposure Time : 1/90
F Number : 5.7
Exposure Program : Manual
ISO : 160
Date/Time Original : 2013:02:09 21:19:27
Create Date : 2013:02:09 21:19:27
Shutter Speed Value : 1/90
Aperture Value : 5.7
Exposure Compensation : 0
Max Aperture Value : 1.0
Metering Mode : Center-weighted average
Light Source : Unknown
Flash : No Flash
Color Space : Uncalibrated
Scene Type : Directly photographed
Exposure Mode : Manual
White Balance : Auto
Digital Zoom Ratio : 0
Scene Capture Type : Standard
Serial Number : 3834236
Profile Description : sRGB IEC61966-2.1
Format : image/jpeg
Rights : dierk topp
Subject : Leica APO-Macro-Elmarit-R, leica, leica m9, m9
Saturation : Normal
Sharpness : Hard
Date Created : 2013:02:09 21:19:27
Property Release Status : Unknown (nil)
PLUS Version : 1.2.0
Creator Tool : Adobe Photoshop Lightroom 4.2 (Windows)
Rating : 5
Marked : True
Already Applied : True
Blue Hue : 0
Blue Saturation : 0
Camera Profile : macro
Color Noise Reduction : 25
Color Noise Reduction Detail : 50
Convert To Grayscale : False
Grain Amount : 0
Green Hue : 0
Green Saturation : 0
Has Crop : False
Has Settings : True
Hue Adjustment Aqua : 0
Hue Adjustment Blue : 0
Hue Adjustment Green : 0
Hue Adjustment Magenta : 0
Hue Adjustment Orange : 0
Hue Adjustment Purple : 0
Hue Adjustment Red : 0
Hue Adjustment Yellow : 0
Lens Manual Distortion Amount : 0
Lens Profile Enable : 0
Lens Profile Setup : LensDefaults
Luminance Adjustment Aqua : 0
Luminance Adjustment Blue : 0
Luminance Adjustment Green : 0
Luminance Adjustment Magenta : 0
Luminance Adjustment Orange : 0
Luminance Adjustment Purple : 0
Luminance Adjustment Red : 0
Luminance Adjustment Yellow : 0
Luminance Smoothing : 0
Parametric Darks : +15
Parametric Highlight Split : 75
Parametric Highlights : 0
Parametric Lights : -10
Parametric Midtone Split : 50
Parametric Shadow Split : 25
Parametric Shadows : -23
Perspective Horizontal : 0
Perspective Rotate : 0.0
Perspective Scale : 100
Perspective Vertical : 0
Post Crop Vignette Amount : 0
Process Version : 6.7
Red Hue : 0
Red Saturation : 0
Saturation Adjustment Aqua : 0
Saturation Adjustment Blue : 0
Saturation Adjustment Green : 0
Saturation Adjustment Magenta : 0
Saturation Adjustment Orange : 0
Saturation Adjustment Purple : 0
Saturation Adjustment Red : 0
Saturation Adjustment Yellow : 0
Shadow Tint : 0
Sharpen Detail : 22
Sharpen Edge Masking : 56
Sharpen Radius : +1.0
Split Toning Balance : 0
Split Toning Highlight Hue : 0
Split Toning Highlight Saturation : 0
Split Toning Shadow Hue : 0
Split Toning Shadow Saturation : 0
Color Temperature : 5495
Tint : -41
Version : 7.2
Vibrance : 0
Vignette Amount : 0
Image Width : 300
Image Height : 204
Bits Per Sample : 8
Color Components : 3
Aperture : 5.7
Image Size : 300x204
Megapixels : 0.061
Scale Factor To 35 mm Equivalent : 17.4
Shutter Speed : 1/90
Circle Of Confusion : 0.002 mm
Light Value : 10.8