Uber Exif Photo
By-line : Joe Gilbert
Keywords : Linda house
Copyright Notice : Joe Gilbert
Copyright Flag : True
URL : www.joegilbertphoto.com
Photometric Interpretation : RGB
Make : FUJIFILM
Camera Model Name : X-Pro1
Orientation : Horizontal (normal)
Planar Configuration : Chunky
Software : Adobe Photoshop CS4 Macintosh
Modify Date : 2013:02:10 15:01:37
Artist : Joe Gilbert
Copyright : Joe Gilbert
Exposure Time : 1/60
Exposure Program : Manual
ISO : 1600
Date/Time Original : 2013:02:06 16:01:03
Create Date : 2013:02:06 16:01:03
Shutter Speed Value : 1/60
Brightness Value : -3.34
Exposure Compensation : 0
Metering Mode : Multi-segment
Light Source : Unknown
Focal Length : 50.0 mm
Color Space : sRGB
Exif Image Width : 804
Exif Image Height : 1004
Sensing Method : One-chip color area
Scene Type : Directly photographed
Exposure Mode : Manual
White Balance : Auto
Sharpness : Normal
Subject Distance Range : Unknown
Profile Description : sRGB IEC61966-2.1
Date Created : 2013:02:06
Color Mode : RGB
ICC Profile Name : sRGB IEC61966-2.1
Format : image/jpeg
Date/Time Digitized : 2013:02:06 16:01:03-06:00
Lens Info : 50mm f/?
Lens : 50.0 mm
Flash Compensation : 0
Samples Per Pixel : 3
Creator Tool : Adobe Photoshop Lightroom
Marked : True
Web Statement : www.joegilbertphoto.com
Version : 5.7
Incremental Temperature : 0
Incremental Tint : +4
Exposure : 0.00
Shadows : 1
Brightness : +30
Contrast : +2
Saturation : -9
Luminance Smoothing : 22
Color Noise Reduction : 25
Chromatic Aberration R : 0
Chromatic Aberration B : 0
Vignette Amount : 0
Shadow Tint : 0
Red Hue : 0
Red Saturation : 0
Green Hue : 0
Green Saturation : 0
Blue Hue : 0
Blue Saturation : 0
Fill Light : 0
Vibrance : 0
Highlight Recovery : 4
Clarity : +6
Defringe : 0
Hue Adjustment Red : 0
Hue Adjustment Orange : 0
Hue Adjustment Yellow : 0
Hue Adjustment Green : 0
Hue Adjustment Aqua : 0
Hue Adjustment Blue : 0
Hue Adjustment Purple : 0
Hue Adjustment Magenta : 0
Saturation Adjustment Red : -25
Saturation Adjustment Orange : 0
Saturation Adjustment Yellow : 0
Saturation Adjustment Green : -24
Saturation Adjustment Aqua : 0
Saturation Adjustment Blue : -21
Saturation Adjustment Purple : 0
Saturation Adjustment Magenta : 0
Luminance Adjustment Red : 0
Luminance Adjustment Orange : 0
Luminance Adjustment Yellow : 0
Luminance Adjustment Green : 0
Luminance Adjustment Aqua : 0
Luminance Adjustment Blue : 0
Luminance Adjustment Purple : 0
Luminance Adjustment Magenta : 0
Split Toning Shadow Hue : 0
Split Toning Shadow Saturation : 0
Split Toning Highlight Hue : 0
Split Toning Highlight Saturation : 0
Split Toning Balance : 0
Parametric Shadows : 0
Parametric Darks : 0
Parametric Lights : +17
Parametric Highlights : 0
Parametric Shadow Split : 25
Parametric Midtone Split : 50
Parametric Highlight Split : 75
Sharpen Radius : +1.0
Sharpen Detail : 25
Sharpen Edge Masking : 0
Post Crop Vignette Amount : -26
Post Crop Vignette Midpoint : 50
Post Crop Vignette Feather : 100
Post Crop Vignette Roundness : 0
Convert To Grayscale : False
Tone Curve Name : Medium Contrast
Camera Profile : Embedded
Has Settings : True
Crop Top : 0.033308
Crop Left : 0
Crop Bottom : 0.864865
Crop Right : 0.997868
Crop Angle : 0
Crop Width : 2400
Crop Height : 3000
Crop Unit : pixels
Has Crop : True
Already Applied : True
Creator : Joe Gilbert
Rights : Joe Gilbert
Subject : Linda house
Flash Fired : False
Flash Return : No return detection
Flash Mode : Off
Flash Function : False
Flash Red Eye Mode : False
Creator Postal Code : 70808
Creator Region : LA
Creator City : Baton Rouge
Creator Address : 8867 Highland Road, Box 272
Creator Work URL : www.joegilbertphoto.com
Tone Curve : 0, 0, 32, 22, 64, 56, 128, 128, 192, 196, 255, 255
Image Width : 240
Image Height : 300
Bits Per Sample : 8
Color Components : 3
Image Size : 240x300
Megapixels : 0.072
Shutter Speed : 1/60
Flash : Off, Did not fire
Lens ID : 50.0mm