Uber Exif Photo
Copyright Flag : False
Photometric Interpretation : BlackIsZero
Make : Kodak
Camera Model Name : DCS Pro 14N
Orientation : Horizontal (normal)
Software : Adobe Photoshop CS3 Macintosh
Modify Date : 2013:02:18 13:11:09
Exposure Time : 1/6
F Number : 8.0
Exposure Program : Aperture-priority AE
ISO : 125
Date/Time Original : 2013:01:23 16:03:57
Shutter Speed Value : 1/6
Aperture Value : 8.0
Exposure Compensation : 0
Max Aperture Value : 2.6
Metering Mode : Spot
Light Source : Unknown
Focal Length : 200.0 mm
Color Space : Uncalibrated
Exif Image Width : 4500
Exif Image Height : 3000
Exposure Index : 125
Sensing Method : One-chip color area
Samples Per Pixel : 1
Create Date : 2013:02:18 13:11:09-05:00
Creator Tool : Adobe Photoshop CS3 Macintosh
Rating : 0
Serial Number : P14N-15795
Image Number : 4998
Raw File Name : D6ZP4998.DCR
Version : 4.6
White Balance : Auto
Color Temperature : 4700
Tint : +12
Exposure : +1.75
Shadows : 6
Brightness : +28
Contrast : +49
Saturation : +18
Sharpness : 0
Luminance Smoothing : 0
Color Noise Reduction : 25
Chromatic Aberration R : 0
Chromatic Aberration B : 0
Vignette Amount : 0
Shadow Tint : 0
Red Hue : 0
Red Saturation : 0
Green Hue : 0
Green Saturation : 0
Blue Hue : 0
Blue Saturation : 0
Fill Light : 6
Vibrance : +19
Highlight Recovery : 0
Clarity : +58
Defringe : 0
Hue Adjustment Red : 0
Hue Adjustment Orange : 0
Hue Adjustment Yellow : 0
Hue Adjustment Green : 0
Hue Adjustment Aqua : 0
Hue Adjustment Blue : 0
Hue Adjustment Purple : 0
Hue Adjustment Magenta : 0
Saturation Adjustment Red : 0
Saturation Adjustment Orange : 0
Saturation Adjustment Yellow : 0
Saturation Adjustment Green : 0
Saturation Adjustment Aqua : 0
Saturation Adjustment Blue : 0
Saturation Adjustment Purple : 0
Saturation Adjustment Magenta : 0
Luminance Adjustment Red : 0
Luminance Adjustment Orange : 0
Luminance Adjustment Yellow : 0
Luminance Adjustment Green : 0
Luminance Adjustment Aqua : 0
Luminance Adjustment Blue : 0
Luminance Adjustment Purple : 0
Luminance Adjustment Magenta : 0
Split Toning Shadow Hue : 0
Split Toning Shadow Saturation : 0
Split Toning Highlight Hue : 0
Split Toning Highlight Saturation : 0
Split Toning Balance : 0
Parametric Shadows : 0
Parametric Darks : 0
Parametric Lights : 0
Parametric Highlights : 0
Parametric Shadow Split : 25
Parametric Midtone Split : 50
Parametric Highlight Split : 75
Sharpen Radius : +1.0
Sharpen Detail : 25
Sharpen Edge Masking : 0
Post Crop Vignette Amount : 0
Convert To Grayscale : False
Tone Curve Name : Medium Contrast
Camera Profile : ACR 4.4
Has Settings : True
Has Crop : False
Already Applied : True
Sidecar For Extension : DCR
Color Mode : Grayscale
ICC Profile Name : Dot Gain 20%
Format : image/jpeg
Flash Fired : False
Tone Curve : 0, 0, 32, 22, 64, 56, 128, 128, 192, 196, 255, 255
Image Width : 300
Image Height : 200
Bits Per Sample : 8
Color Components : 1
Aperture : 8.0
Image Size : 300x200
Megapixels : 0.060
Shutter Speed : 1/6
Flash : No Flash
Light Value : 8.3