Uber Exif Photo
By-line : Rocky's
Copyright Notice : (c) coprighted rocky tomar 2011
Photometric Interpretation : BlackIsZero
Make : Canon
Camera Model Name : Canon EOS 550D
Orientation : Horizontal (normal)
Software : Adobe Photoshop CS6 (Windows)
Modify Date : 2013:02:26 19:54:13
Artist : Rocky's
Copyright : (c) coprighted rocky tomar 2011
Exposure Time : 1/80
F Number : 8.0
Exposure Program : Manual
ISO : 400
Date/Time Original : 2012:02:23 05:39:50
Create Date : 2012:02:23 05:39:50
Shutter Speed Value : 1/80
Aperture Value : 8.0
Exposure Compensation : 0
Max Aperture Value : 3.5
Subject Distance : 4294967295 m
Metering Mode : Multi-segment
Flash : Off, Did not fire
Focal Length : 18.0 mm
Color Space : sRGB
Exif Image Width : 3600
Exif Image Height : 2400
Custom Rendered : Normal
Exposure Mode : Manual
White Balance : Auto
Scene Capture Type : Standard
Owner Name : Sanjay
Serial Number : 1833903526
Lens Info : 18-55mm f/?
Lens Model : EF-S18-55mm f/3.5-5.6 IS
Format : image/jpeg
Lens : EF-S18-55mm f/3.5-5.6 IS
Image Number : 0
Approximate Focus Distance : 4294967295
Flash Compensation : 0
Firmware : 1.0.9
Rating : 0
Creator Tool : Adobe Photoshop CS6 (Windows)
Date Created : 2012:02:23 05:39:50.053
Color Mode : RGB
ICC Profile Name : sRGB IEC61966-2.1
Raw File Name : _MG_8402.CR2
Version : 6.5
Process Version : 5.7
Color Temperature : 4150
Tint : +1
Exposure : +0.80
Shadows : 3
Brightness : +56
Contrast : +31
Saturation : 0
Sharpness : 25
Luminance Smoothing : 20
Color Noise Reduction : 35
Chromatic Aberration R : 0
Chromatic Aberration B : 0
Vignette Amount : 0
Shadow Tint : 0
Red Hue : 0
Red Saturation : 0
Green Hue : 0
Green Saturation : 0
Blue Hue : 0
Blue Saturation : 0
Fill Light : 12
Vibrance : 0
Highlight Recovery : 24
Clarity : +5
Defringe : 0
Hue Adjustment Red : 0
Hue Adjustment Orange : 0
Hue Adjustment Yellow : 0
Hue Adjustment Green : 0
Hue Adjustment Aqua : 0
Hue Adjustment Blue : 0
Hue Adjustment Purple : 0
Hue Adjustment Magenta : 0
Saturation Adjustment Red : 0
Saturation Adjustment Orange : 0
Saturation Adjustment Yellow : 0
Saturation Adjustment Green : 0
Saturation Adjustment Aqua : 0
Saturation Adjustment Blue : 0
Saturation Adjustment Purple : 0
Saturation Adjustment Magenta : 0
Luminance Adjustment Red : 0
Luminance Adjustment Orange : 0
Luminance Adjustment Yellow : 0
Luminance Adjustment Green : 0
Luminance Adjustment Aqua : 0
Luminance Adjustment Blue : 0
Luminance Adjustment Purple : 0
Luminance Adjustment Magenta : 0
Split Toning Shadow Hue : 0
Split Toning Shadow Saturation : 0
Split Toning Highlight Hue : 0
Split Toning Highlight Saturation : 0
Split Toning Balance : 0
Parametric Shadows : 0
Parametric Darks : 0
Parametric Lights : 0
Parametric Highlights : 0
Parametric Shadow Split : 25
Parametric Midtone Split : 50
Parametric Highlight Split : 75
Sharpen Radius : +1.0
Sharpen Detail : 25
Sharpen Edge Masking : 0
Post Crop Vignette Amount : 0
Grain Amount : 0
Luminance Noise Reduction Detail : 50
Color Noise Reduction Detail : 50
Luminance Noise Reduction Contrast : 0
Lens Profile Enable : 1
Lens Manual Distortion Amount : 0
Perspective Vertical : 0
Perspective Horizontal : 0
Perspective Rotate : 0.0
Perspective Scale : 100
Convert To Grayscale : False
Tone Curve Name : Medium Contrast
Camera Profile : Adobe Standard
Lens Profile Setup : LensDefaults
Lens Profile Name : Adobe (Canon EF-S 18-55mm f/3.5-5.6 IS)
Lens Profile Filename : Canon EOS 50D (Canon EF-S 18-55mm f3.5-5.6 IS) - RAW.lcp
Lens Profile Distortion Scale : 100
Lens Profile Chromatic Aberration Scale : 100
Lens Profile Vignetting Scale : 100
Has Settings : True
Crop Top : 0
Crop Left : 0.097928
Crop Bottom : 0.966008
Crop Right : 0.966522
Crop Angle : 2.864448
Crop Constrain To Warp : 1
Has Crop : True
Already Applied : True
Creator : Rocky's
Rights : (c) coprighted rocky tomar 2011
Tone Curve : 0, 0, 32, 22, 64, 56, 128, 128, 192, 196, 255, 255
Image Width : 300
Image Height : 200
Bits Per Sample : 8
Color Components : 1
Aperture : 8.0
Image Size : 300x200
Megapixels : 0.060
Scale Factor To 35 mm Equivalent : 1.6
Shutter Speed : 1/80
Create Date : 2012:02:23 05:39:50.53
Date/Time Original : 2012:02:23 05:39:50.53
Modify Date : 2013:02:26 19:54:13.53
Circle Of Confusion : 0.019 mm
Depth Of Field : inf (2.12 m - inf)
Field Of View : 64.9 deg
Focal Length : 18.0 mm (35 mm equivalent: 28.3 mm)
Hyperfocal Distance : 2.12 m
Light Value : 10.3
Lens ID : Canon EF-S 18-55mm f/3.5-5.6 IS