Uber Exif Photo
By-line : Bon Tot
Copyright Notice : Rahmat Isnaini
Make : Canon
Camera Model Name : Canon EOS 7D
Software : Digital Photo Professional
Modify Date : 2013:02:28 13:11:01
Artist : Bon Tot
Copyright : Rahmat Isnaini
Exposure Time : 1/4
F Number : 14.0
ISO : 100
Date/Time Original : 2012:12:16 13:11:15
Create Date : 2012:12:16 13:11:15
Shutter Speed Value : 1/4
Aperture Value : 14.0
Exposure Compensation : 0
Max Aperture Value : 5.2
Subject Distance : 7.76 m
Focal Length : 55.0 mm
Custom Rendered : Normal
Exposure Mode : Manual
White Balance : Manual
Scene Capture Type : Standard
Profile Description : sRGB IEC61966-2.1
Date/Time Digitized : 2012:12:16 13:11:15+07:00
Exif Image Width : 1500
Exif Image Height : 1000
Creator Tool : Adobe Photoshop Lightroom
Serial Number : 2681200189
Lens Info : 18-135mm f/?
Lens : EF-S18-135mm f/3.5-5.6 IS
Image Number : 0
Flash Compensation : 0
Firmware : 1.2.5
Version : 5.7
Incremental Temperature : 0
Incremental Tint : 0
Exposure : 0.00
Shadows : 0
Brightness : 0
Contrast : 0
Saturation : 0
Sharpness : 0
Luminance Smoothing : 0
Color Noise Reduction : 0
Chromatic Aberration R : 0
Chromatic Aberration B : 0
Vignette Amount : 0
Shadow Tint : 0
Red Hue : 0
Red Saturation : 0
Green Hue : 0
Green Saturation : 0
Blue Hue : 0
Blue Saturation : 0
Fill Light : 0
Vibrance : 0
Highlight Recovery : 0
Clarity : +100
Defringe : 0
Hue Adjustment Red : 0
Hue Adjustment Orange : 0
Hue Adjustment Yellow : 0
Hue Adjustment Green : 0
Hue Adjustment Aqua : 0
Hue Adjustment Blue : 0
Hue Adjustment Purple : 0
Hue Adjustment Magenta : 0
Saturation Adjustment Red : 0
Saturation Adjustment Orange : 0
Saturation Adjustment Yellow : 0
Saturation Adjustment Green : 0
Saturation Adjustment Aqua : 0
Saturation Adjustment Blue : 0
Saturation Adjustment Purple : 0
Saturation Adjustment Magenta : 0
Luminance Adjustment Red : 0
Luminance Adjustment Orange : 0
Luminance Adjustment Yellow : 0
Luminance Adjustment Green : 0
Luminance Adjustment Aqua : 0
Luminance Adjustment Blue : 0
Luminance Adjustment Purple : 0
Luminance Adjustment Magenta : 0
Split Toning Shadow Hue : 0
Split Toning Shadow Saturation : 0
Split Toning Highlight Hue : 0
Split Toning Highlight Saturation : 0
Split Toning Balance : 0
Parametric Shadows : -26
Parametric Darks : 0
Parametric Lights : 0
Parametric Highlights : 0
Parametric Shadow Split : 25
Parametric Midtone Split : 50
Parametric Highlight Split : 75
Sharpen Radius : +1.0
Sharpen Detail : 25
Sharpen Edge Masking : 0
Post Crop Vignette Amount : 0
Convert To Grayscale : False
Tone Curve Name : Linear
Camera Profile : Embedded
Has Settings : True
Crop Top : 0.050007
Crop Left : 0.050007
Crop Bottom : 1
Crop Right : 1
Crop Angle : 0
Crop Width : 1500
Crop Height : 1000
Crop Unit : pixels
Has Crop : True
Already Applied : True
Flash Fired : False
Flash Return : No return detection
Flash Mode : Off
Flash Function : False
Flash Red Eye Mode : False
Creator : Bon Tot
Rights : Rahmat Isnaini
Tone Curve : 0, 0, 255, 255
Image Width : 300
Image Height : 200
Bits Per Sample : 8
Color Components : 3
Aperture : 14.0
Image Size : 300x200
Megapixels : 0.060
Scale Factor To 35 mm Equivalent : 1.6
Shutter Speed : 1/4
Flash : Off, Did not fire
Circle Of Confusion : 0.019 mm
Depth Of Field : 19.81 m (4.61 - 24.43 m)
Field Of View : 23.5 deg
Focal Length : 55.0 mm (35 mm equivalent: 86.4 mm)
Hyperfocal Distance : 11.29 m
Light Value : 9.6
Lens ID : Unknown 18-135mm