Uber Exif Photo
By-line : Bon Tot
Copyright Notice : Rahmat Isnaini
Make : Canon
Camera Model Name : Canon EOS 7D
Modify Date : 2013:02:28 13:58:06
Artist : Bon Tot
Copyright : Rahmat Isnaini
Exposure Time : 1/30
F Number : 8.0
Exposure Program : Aperture-priority AE
ISO : 800
Date/Time Original : 2013:01:27 11:03:14
Create Date : 2013:01:27 11:03:14
Shutter Speed Value : 1/30
Aperture Value : 8.0
Exposure Compensation : 0
Max Aperture Value : 5.4
Subject Distance : 1.55 m
Metering Mode : Multi-segment
Focal Length : 67.0 mm
Custom Rendered : Normal
Exposure Mode : Auto
White Balance : Manual
Scene Capture Type : Standard
Date/Time Digitized : 2013:01:27 11:03:14.00+07:00
Exif Image Width : 1500
Exif Image Height : 1000
Creator Tool : Adobe Photoshop Lightroom
Serial Number : 2681200189
Lens Info : 18-135mm f/?
Lens : EF-S18-135mm f/3.5-5.6 IS
Image Number : 0
Flash Compensation : 0
Firmware : 1.2.5
Version : 5.7
Incremental Temperature : 0
Incremental Tint : 0
Exposure : 0.00
Shadows : 38
Brightness : -7
Contrast : +48
Sharpness : 0
Luminance Smoothing : 0
Color Noise Reduction : 0
Chromatic Aberration R : 0
Chromatic Aberration B : 0
Vignette Amount : 0
Shadow Tint : 0
Red Hue : 0
Red Saturation : 0
Green Hue : 0
Green Saturation : 0
Blue Hue : 0
Blue Saturation : 0
Fill Light : 36
Highlight Recovery : 62
Clarity : +28
Defringe : 0
Gray Mixer Red : -9
Gray Mixer Orange : -18
Gray Mixer Yellow : -21
Gray Mixer Green : -26
Gray Mixer Aqua : -18
Gray Mixer Blue : +8
Gray Mixer Purple : +14
Gray Mixer Magenta : +3
Split Toning Shadow Hue : 0
Split Toning Shadow Saturation : 0
Split Toning Highlight Hue : 0
Split Toning Highlight Saturation : 0
Split Toning Balance : 0
Parametric Shadows : -16
Parametric Darks : 0
Parametric Lights : 0
Parametric Highlights : 0
Parametric Shadow Split : 25
Parametric Midtone Split : 50
Parametric Highlight Split : 75
Sharpen Radius : +1.0
Sharpen Detail : 25
Sharpen Edge Masking : 0
Post Crop Vignette Amount : 0
Convert To Grayscale : True
Tone Curve Name : Linear
Camera Profile : Embedded
Has Settings : True
Has Crop : False
Already Applied : True
Flash Fired : False
Flash Return : No return detection
Flash Mode : Off
Flash Function : False
Flash Red Eye Mode : False
Creator : Bon Tot
Rights : Rahmat Isnaini
Tone Curve : 0, 0, 255, 255
Image Width : 300
Image Height : 200
Bits Per Sample : 8
Color Components : 1
Aperture : 8.0
Image Size : 300x200
Megapixels : 0.060
Scale Factor To 35 mm Equivalent : 1.6
Shutter Speed : 1/30
Create Date : 2013:01:27 11:03:14.00
Date/Time Original : 2013:01:27 11:03:14.00
Flash : Off, Did not fire
Circle Of Confusion : 0.019 mm
Depth Of Field : 0.16 m (1.48 - 1.63 m)
Field Of View : 19.4 deg
Focal Length : 67.0 mm (35 mm equivalent: 105.2 mm)
Hyperfocal Distance : 29.33 m
Light Value : 7.9
Lens ID : Canon EF-S 18-135mm f/3.5-5.6 IS