Uber Exif Photo
By-line : Bon Tot
Copyright Notice : Rahmat Isnaini
Make : Canon
Camera Model Name : Canon EOS 7D
Modify Date : 2013:02:28 13:39:48
Artist : Bon Tot
Copyright : Rahmat Isnaini
Exposure Time : 1/200
F Number : 5.6
Exposure Program : Aperture-priority AE
ISO : 800
Date/Time Original : 2013:01:27 11:14:59
Create Date : 2013:01:27 11:14:59
Shutter Speed Value : 1/200
Aperture Value : 5.6
Exposure Compensation : 0
Max Aperture Value : 4.6
Subject Distance : 4.22 m
Metering Mode : Multi-segment
Focal Length : 37.0 mm
Custom Rendered : Normal
Exposure Mode : Auto
White Balance : Manual
Scene Capture Type : Standard
Date/Time Digitized : 2013:01:27 11:14:59.53+07:00
Exif Image Width : 1500
Exif Image Height : 1000
Creator Tool : Adobe Photoshop Lightroom
Serial Number : 2681200189
Lens Info : 18-135mm f/?
Lens : EF-S18-135mm f/3.5-5.6 IS
Image Number : 0
Flash Compensation : 0
Firmware : 1.2.5
Version : 5.7
Incremental Temperature : 0
Incremental Tint : 0
Exposure : 0.00
Shadows : 3
Brightness : 0
Contrast : 0
Sharpness : 0
Luminance Smoothing : 0
Color Noise Reduction : 0
Chromatic Aberration R : 0
Chromatic Aberration B : 0
Vignette Amount : 0
Shadow Tint : 0
Red Hue : 0
Red Saturation : 0
Green Hue : 0
Green Saturation : 0
Blue Hue : 0
Blue Saturation : 0
Fill Light : 13
Highlight Recovery : 0
Clarity : +100
Defringe : 0
Gray Mixer Red : -6
Gray Mixer Orange : -14
Gray Mixer Yellow : -18
Gray Mixer Green : -23
Gray Mixer Aqua : -19
Gray Mixer Blue : +6
Gray Mixer Purple : +12
Gray Mixer Magenta : +4
Split Toning Shadow Hue : 0
Split Toning Shadow Saturation : 0
Split Toning Highlight Hue : 0
Split Toning Highlight Saturation : 0
Split Toning Balance : 0
Parametric Shadows : 0
Parametric Darks : 0
Parametric Lights : 0
Parametric Highlights : 0
Parametric Shadow Split : 25
Parametric Midtone Split : 50
Parametric Highlight Split : 75
Sharpen Radius : +1.0
Sharpen Detail : 25
Sharpen Edge Masking : 0
Post Crop Vignette Amount : 0
Convert To Grayscale : True
Tone Curve Name : Linear
Camera Profile : Embedded
Has Settings : True
Crop Top : 0.003974
Crop Left : 0.05729
Crop Bottom : 0.988092
Crop Right : 0.940961
Crop Angle : 2.90181
Crop Width : 1500
Crop Height : 1000
Crop Unit : pixels
Has Crop : True
Already Applied : True
Flash Fired : False
Flash Return : No return detection
Flash Mode : Off
Flash Function : False
Flash Red Eye Mode : False
Creator : Bon Tot
Rights : Rahmat Isnaini
Tone Curve : 0, 0, 255, 255
Image Width : 300
Image Height : 200
Bits Per Sample : 8
Color Components : 1
Aperture : 5.6
Image Size : 300x200
Megapixels : 0.060
Scale Factor To 35 mm Equivalent : 1.6
Shutter Speed : 1/200
Create Date : 2013:01:27 11:14:59.53
Date/Time Original : 2013:01:27 11:14:59.53
Flash : Off, Did not fire
Circle Of Confusion : 0.019 mm
Depth Of Field : 3.09 m (3.18 - 6.27 m)
Field Of View : 34.4 deg
Focal Length : 37.0 mm (35 mm equivalent: 58.1 mm)
Hyperfocal Distance : 12.78 m
Light Value : 9.6
Lens ID : Canon EF-S 18-135mm f/3.5-5.6 IS