Uber Exif Photo
By-line : ruggeroranzani
Copyright Notice : Copyright 2012
Copyright Flag : True
Make : Epson
Camera Model Name : PerfectionV600
Orientation : Horizontal (normal)
Software : Google Silver Efex Pro 2 2.2.24.12
Modify Date : 2016:04:24 17:49:31
Artist : ruggeroranzani
Copyright : Copyright 2012
Exif Image Width : 685
Exif Image Height : 1000
Already Applied : True
Blacks 2012 : -35
Brightness : 0
Clarity : 0
Clarity 2012 : +49
Contrast : 0
Contrast 2012 : +47
Crop Angle : 0.840465
Crop Bottom : 0.999828
Crop Constrain To Warp : 0
Crop Height : 685
Crop Left : 0.034213
Crop Right : 0.981709
Crop Top : 0.018498
Crop Unit : pixels
Crop Width : 1000
Exposure : 0.00
Exposure 2012 : 0.00
Fill Light : 0
Grain Amount : 0
Has Crop : True
Has Settings : True
Highlight Recovery : 0
Highlights 2012 : 0
Lens Manual Distortion Amount : 0
Lens Profile Enable : 0
Lens Profile Setup : LensDefaults
Luminance Smoothing : 0
Parametric Darks : 0
Parametric Highlight Split : 75
Parametric Highlights : 0
Parametric Lights : 0
Parametric Midtone Split : 50
Parametric Shadow Split : 25
Parametric Shadows : 0
Perspective Horizontal : 0
Perspective Rotate : 0.0
Perspective Scale : 100
Perspective Vertical : 0
Post Crop Vignette Amount : 0
Process Version : 6.7
Shadows : 0
Shadows 2012 : -33
Sharpen Detail : 25
Sharpen Edge Masking : 0
Sharpen Radius : +1.0
Sharpness : 31
Split Toning Balance : 0
Split Toning Highlight Hue : 0
Split Toning Highlight Saturation : 0
Split Toning Shadow Hue : 0
Split Toning Shadow Saturation : 0
Tone Curve Name : Linear
Tone Curve Name 2012 : Medium Contrast
Version : 7.0
Vignette Amount : 0
Whites 2012 : 0
Format : image/jpeg
Create Date : 2016:04:23 17:41:16
Creator Tool : Google Silver Efex Pro 2 2.2.24.12
Category : people
Marked : True
Tone Curve : 0, 0, 255, 255
Tone Curve Blue : 0, 0, 255, 255
Tone Curve Green : 0, 0, 255, 255
Tone Curve PV2012 : 0, 0, 32, 22, 64, 56, 128, 128, 192, 196, 255, 255
Tone Curve PV2012 Blue : 0, 0, 255, 255
Tone Curve PV2012 Green : 0, 0, 255, 255
Tone Curve PV2012 Red : 0, 0, 255, 255
Tone Curve Red : 0, 0, 255, 255
Creator : ruggeroranzani
Rights : Copyright 2012
Image Width : 308
Image Height : 446
Bits Per Sample : 8
Color Components : 1
Image Size : 308x446
Megapixels : 0.137