Uber Exif Photo
Keywords : 2011, bw, canada, holiday
By-line : Peetu Santalahti
Copyright Notice : Peetu Santalahti
Copyright Flag : True
Make : LEICA CAMERA AG
Camera Model Name : LEICA X1
Software : Adobe Photoshop Lightroom 4.2 (Macintosh)
Modify Date : 2013:03:13 20:35:56
Artist : Peetu Santalahti
Copyright : Peetu Santalahti
Exposure Time : 1/2000
F Number : 2.8
Exposure Program : Aperture-priority AE
ISO : 100
Date/Time Original : 2011:06:26 11:21:32
Create Date : 2011:06:26 11:21:32
Shutter Speed Value : 1/2000
Aperture Value : 2.8
Exposure Compensation : +0.3
Max Aperture Value : 2.8
Subject Distance : 4 m
Metering Mode : Multi-segment
Light Source : Unknown
Flash : Off, Did not fire
Focal Length : 24.0 mm
Original File Name : L9995616.DNG
Original Directory : 999LEICA
Focus Distance : 4 m
Exposure Mode : Aperture-priority AE (1)
File Index : 5616
Film Mode : Vivid *
WB RGB Levels : 0.5256673511 1.036437247 0.7852760736
Internal Serial Number : 000000000000
Sensing Method : One-chip color area
Custom Rendered : Custom
White Balance : Auto
Digital Zoom Ratio : 1
Focal Length In 35mm Format : 36 mm
Scene Capture Type : Landscape
Contrast : High
Saturation : Normal
Sharpness : Hard
Serial Number : 000003812768
Lens Info : 24mm f/2.8
Lens Model : 24.0 mm f/2.8
Maker Note Safety : Safe
Profile Description : sRGB IEC61966-2.1
Creator Tool : Adobe Photoshop Lightroom 4.2 (Macintosh)
Rating : 5
Lens : 24.0 mm f/2.8
Approximate Focus Distance : 4
Marked : True
Format : image/jpeg
Date Created : 2011:06:26 11:21:32+03:00
Version : 7.2
Process Version : 6.7
Color Temperature : 5700
Tint : +16
Luminance Smoothing : 0
Color Noise Reduction : 25
Vignette Amount : 0
Shadow Tint : 0
Red Hue : 0
Red Saturation : 0
Green Hue : 0
Green Saturation : 0
Blue Hue : 0
Blue Saturation : 0
Gray Mixer Red : -10
Gray Mixer Orange : -20
Gray Mixer Yellow : -25
Gray Mixer Green : -28
Gray Mixer Aqua : -18
Gray Mixer Blue : +12
Gray Mixer Purple : +18
Gray Mixer Magenta : +5
Split Toning Shadow Hue : 0
Split Toning Shadow Saturation : 0
Split Toning Highlight Hue : 218
Split Toning Highlight Saturation : 18
Split Toning Balance : 0
Parametric Shadows : -30
Parametric Darks : 0
Parametric Lights : 0
Parametric Highlights : +34
Parametric Shadow Split : 25
Parametric Midtone Split : 50
Parametric Highlight Split : 75
Sharpen Radius : +1.5
Sharpen Detail : 29
Sharpen Edge Masking : 34
Post Crop Vignette Amount : 0
Grain Amount : 0
Color Noise Reduction Detail : 50
Lens Profile Enable : 0
Lens Manual Distortion Amount : 0
Perspective Vertical : 0
Perspective Horizontal : 0
Perspective Rotate : 0.0
Perspective Scale : 100
Auto Lateral CA : 0
Exposure 2012 : 0.00
Contrast 2012 : +15
Highlights 2012 : +20
Shadows 2012 : 0
Whites 2012 : 0
Blacks 2012 : 0
Clarity 2012 : 0
Convert To Grayscale : True
Tone Curve Name 2012 : Linear
Camera Profile : Adobe Standard
Lens Profile Setup : LensDefaults
Has Settings : True
Crop Top : 0.135712
Crop Left : 0
Crop Bottom : 0.945291
Crop Right : 0.865977
Crop Angle : 0
Crop Constrain To Warp : 0
Crop Width : 1788
Crop Height : 1117
Crop Unit : pixels
Has Crop : True
Already Applied : True
Creator : Peetu Santalahti
Rights : Peetu Santalahti
Subject : 2011, bw, canada, holiday
Tone Curve PV2012 : 0, 0, 255, 255
Tone Curve PV2012 Red : 0, 0, 255, 255
Tone Curve PV2012 Green : 0, 0, 255, 255
Tone Curve PV2012 Blue : 0, 0, 255, 255
Image Width : 300
Image Height : 187
Bits Per Sample : 8
Color Components : 3
Aperture : 2.8
Blue Balance : 0.757669
Image Size : 300x187
Megapixels : 0.056
Red Balance : 0.507187
Scale Factor To 35 mm Equivalent : 1.5
Shutter Speed : 1/2000
Circle Of Confusion : 0.020 mm
Depth Of Field : 3.64 m (2.88 - 6.53 m)
Field Of View : 52.9 deg (3.98 m)
Focal Length : 24.0 mm (35 mm equivalent: 36.0 mm)
Hyperfocal Distance : 10.27 m
Light Value : 13.9
Lens ID : 24.0mm f/2.8