Uber Exif Photo
By-line : ruggeroranzani
Copyright Notice : x-default
Copyright Flag : True
Make : Epson
Camera Model Name : PerfectionV600
Orientation : Horizontal (normal)
Software : Google Silver Efex Pro 2 2.2.24.12
Modify Date : 2016:05:28 18:15:14
Artist : ruggeroranzani
Copyright : x-default
Color Space : Uncalibrated
Exif Image Width : 969
Exif Image Height : 1000
Already Applied : True
Blacks 2012 : +1
Brightness : 0
Clarity : 0
Clarity 2012 : +35
Contrast : 0
Contrast 2012 : -5
Crop Angle : 2.80981
Crop Bottom : 0.990408
Crop Constrain To Warp : 0
Crop Height : 1000
Crop Left : 0.050967
Crop Right : 0.940333
Crop Top : 0.10279
Crop Unit : pixels
Crop Width : 969
Exposure : 0.00
Exposure 2012 : +0.45
Fill Light : 0
Grain Amount : 0
Has Crop : True
Has Settings : True
Highlight Recovery : 0
Highlights 2012 : 0
Lens Manual Distortion Amount : 0
Lens Profile Enable : 0
Lens Profile Setup : LensDefaults
Luminance Noise Reduction Contrast : 0
Luminance Noise Reduction Detail : 50
Luminance Smoothing : 12
Parametric Darks : 0
Parametric Highlight Split : 75
Parametric Highlights : 0
Parametric Lights : 0
Parametric Midtone Split : 50
Parametric Shadow Split : 25
Parametric Shadows : 0
Perspective Horizontal : 0
Perspective Rotate : 0.0
Perspective Scale : 100
Perspective Vertical : 0
Post Crop Vignette Amount : 0
Process Version : 6.7
Shadows : 0
Shadows 2012 : 0
Sharpen Detail : 25
Sharpen Edge Masking : 9
Sharpen Radius : +1.0
Sharpness : 68
Split Toning Balance : 0
Split Toning Highlight Hue : 0
Split Toning Highlight Saturation : 0
Split Toning Shadow Hue : 0
Split Toning Shadow Saturation : 0
Tone Curve Name : Linear
Tone Curve Name 2012 : Strong Contrast
Version : 7.0
Vignette Amount : 0
Whites 2012 : +10
Format : image/jpeg
Create Date : 2016:05:28 18:00:01
Creator Tool : Google Silver Efex Pro 2 2.2.24.12
Category : people
Marked : True
Tone Curve : 0, 0, 255, 255
Tone Curve Blue : 0, 0, 255, 255
Tone Curve Green : 0, 0, 255, 255
Tone Curve PV2012 : 0, 0, 32, 16, 64, 50, 128, 128, 192, 202, 255, 255
Tone Curve PV2012 Blue : 0, 0, 255, 255
Tone Curve PV2012 Green : 0, 0, 255, 255
Tone Curve PV2012 Red : 0, 0, 255, 255
Tone Curve Red : 0, 0, 255, 255
Creator : ruggeroranzani
Rights : x-default
Image Width : 308
Image Height : 318
Bits Per Sample : 8
Color Components : 1
Image Size : 308x318
Megapixels : 0.098