Uber Exif Photo
By-line : ruggeroranzani
Copyright Notice : Copyright 2012
Copyright Flag : True
Make : Leica Camera AG
Camera Model Name : M9 Digital Camera
Orientation : Horizontal (normal)
Software : Google Silver Efex Pro 2 2.2.24.12
Modify Date : 2016:06:10 09:17:50
Artist : ruggeroranzani
Copyright : Copyright 2012
Exposure Time : 1/125
F Number : 8.0
Exposure Program : Manual
ISO : 400
Date/Time Original : 2016:06:07 10:25:01
Shutter Speed Value : 1/125
Aperture Value : 8.0
Exposure Compensation : +2
Max Aperture Value : 2.0
Metering Mode : Center-weighted average
Light Source : Daylight
Flash : No Flash
Focal Length : 35.0 mm
Exif Image Width : 1000
Exif Image Height : 690
Scene Type : Directly photographed
Exposure Mode : Manual
White Balance : Manual
Digital Zoom Ratio : 0
Focal Length In 35mm Format : 35 mm
Scene Capture Type : Standard
Serial Number : 4422048
Lens Model : Leica Summicron-M 35mm f/2 (IV)
Lens : Leica Summicron-M 35mm f/2 (IV)
Already Applied : True
Auto Lateral CA : 0
Blacks 2012 : -17
Blue Hue : 0
Blue Saturation : 0
Brightness : +50
Camera Profile : Adobe Standard
Clarity : 0
Clarity 2012 : +19
Color Noise Reduction : 25
Color Noise Reduction Detail : 50
Contrast : +25
Contrast 2012 : +11
Convert To Grayscale : True
Crop Angle : 0
Crop Bottom : 1
Crop Constrain To Warp : 0
Crop Height : 690
Crop Left : 0.035903
Crop Right : 1
Crop Top : 0
Crop Unit : pixels
Crop Width : 1000
Defringe : 0
Exposure : 0.00
Exposure 2012 : +0.45
Fill Light : 0
Grain Amount : 0
Gray Mixer Aqua : +87
Gray Mixer Blue : +26
Gray Mixer Green : -27
Gray Mixer Magenta : +35
Gray Mixer Orange : +33
Gray Mixer Purple : +4
Gray Mixer Red : -9
Gray Mixer Yellow : -35
Green Hue : 0
Green Saturation : 0
Has Crop : True
Has Settings : True
Highlight Recovery : 0
Highlights 2012 : 0
Lens Manual Distortion Amount : 0
Lens Profile Enable : 0
Lens Profile Setup : LensDefaults
Luminance Smoothing : 0
Parametric Darks : 0
Parametric Highlight Split : 75
Parametric Highlights : 0
Parametric Lights : 0
Parametric Midtone Split : 50
Parametric Shadow Split : 25
Parametric Shadows : 0
Perspective Horizontal : 0
Perspective Rotate : 0.0
Perspective Scale : 100
Perspective Vertical : 0
Post Crop Vignette Amount : 0
Process Version : 6.7
Red Hue : 0
Red Saturation : 0
Shadow Tint : 0
Shadows : 5
Shadows 2012 : 0
Sharpen Detail : 25
Sharpen Edge Masking : 0
Sharpen Radius : +1.0
Sharpness : 25
Split Toning Balance : 0
Split Toning Highlight Hue : 0
Split Toning Highlight Saturation : 0
Split Toning Shadow Hue : 0
Split Toning Shadow Saturation : 0
Color Temperature : 4550
Tint : -4
Tone Curve Name : Linear
Tone Curve Name 2012 : Linear
Version : 7.0
Vignette Amount : 0
Whites 2012 : +23
Format : image/jpeg
Create Date : 2016:06:07 10:25:01
Creator Tool : Google Silver Efex Pro 2 2.2.24.12
Category : people
Date Created : 2016:06:07 10:25:01
Marked : True
Photographic Sensitivity : 400
Tone Curve : 0, 0, 255, 255
Tone Curve Blue : 0, 0, 255, 255
Tone Curve Green : 0, 0, 255, 255
Tone Curve PV2012 : 0, 0, 255, 255
Tone Curve PV2012 Blue : 0, 0, 255, 255
Tone Curve PV2012 Green : 0, 0, 255, 255
Tone Curve PV2012 Red : 0, 0, 255, 255
Tone Curve Red : 0, 0, 255, 255
Creator : ruggeroranzani
Rights : Copyright 2012
Image Width : 308
Image Height : 215
Bits Per Sample : 8
Color Components : 1
Aperture : 8.0
Image Size : 308x215
Megapixels : 0.066
Scale Factor To 35 mm Equivalent : 1.0
Shutter Speed : 1/125
Circle Of Confusion : 0.030 mm
Field Of View : 54.4 deg
Focal Length : 35.0 mm (35 mm equivalent: 35.0 mm)
Hyperfocal Distance : 5.10 m
Light Value : 11.0
Lens ID : Summicron-M 35mm f/2 (IV)