Uber Exif Photo
By-line : ruggeroranzani
Copyright Notice : Copyright 2012
Copyright Flag : True
Make : Leica Camera AG
Camera Model Name : M9 Digital Camera
Orientation : Horizontal (normal)
Software : Google Silver Efex Pro 2 2.2.24.12
Modify Date : 2016:06:15 14:33:59
Artist : ruggeroranzani
Copyright : Copyright 2012
Exposure Time : 1/125
F Number : 13.0
Exposure Program : Manual
ISO : 400
Date/Time Original : 2016:06:15 11:28:22
Shutter Speed Value : 1/125
Aperture Value : 13.0
Exposure Compensation : +2.33
Max Aperture Value : 2.8
Metering Mode : Center-weighted average
Light Source : Daylight
Flash : No Flash
Focal Length : 50.0 mm
Exif Image Width : 1000
Exif Image Height : 729
Scene Type : Directly photographed
Exposure Mode : Manual
White Balance : Manual
Digital Zoom Ratio : 0
Focal Length In 35mm Format : 50 mm
Scene Capture Type : Standard
Serial Number : 4422048
Lens Model : Leica Elmar-M 50mm f/2.8
Lens : Leica Elmar-M 50mm f/2.8
Already Applied : True
Auto Lateral CA : 0
Blacks 2012 : -6
Blue Hue : 0
Blue Saturation : 0
Brightness : +50
Camera Profile : Adobe Standard
Clarity : 0
Clarity 2012 : +21
Color Noise Reduction : 25
Color Noise Reduction Detail : 50
Contrast : +25
Contrast 2012 : -5
Convert To Grayscale : True
Crop Angle : -0.301554
Crop Bottom : 0.976923
Crop Constrain To Warp : 0
Crop Height : 729
Crop Left : 0.005765
Crop Right : 0.894789
Crop Top : 0.013168
Crop Unit : pixels
Crop Width : 1000
Defringe : 0
Exposure : 0.00
Exposure 2012 : -1.70
Fill Light : 0
Grain Amount : 0
Gray Mixer Aqua : +33
Gray Mixer Blue : +39
Gray Mixer Green : -7
Gray Mixer Magenta : -7
Gray Mixer Orange : -37
Gray Mixer Purple : +61
Gray Mixer Red : +72
Gray Mixer Yellow : +20
Green Hue : 0
Green Saturation : 0
Has Crop : True
Has Settings : True
Highlight Recovery : 0
Highlights 2012 : -19
Lens Manual Distortion Amount : 0
Lens Profile Enable : 0
Lens Profile Setup : LensDefaults
Luminance Smoothing : 0
Parametric Darks : 0
Parametric Highlight Split : 75
Parametric Highlights : 0
Parametric Lights : 0
Parametric Midtone Split : 50
Parametric Shadow Split : 25
Parametric Shadows : 0
Perspective Horizontal : 0
Perspective Rotate : 0.0
Perspective Scale : 100
Perspective Vertical : 0
Post Crop Vignette Amount : 0
Process Version : 6.7
Red Hue : 0
Red Saturation : 0
Shadow Tint : 0
Shadows : 5
Shadows 2012 : -28
Sharpen Detail : 25
Sharpen Edge Masking : 0
Sharpen Radius : +1.0
Sharpness : 25
Split Toning Balance : 0
Split Toning Highlight Hue : 0
Split Toning Highlight Saturation : 0
Split Toning Shadow Hue : 0
Split Toning Shadow Saturation : 0
Color Temperature : 4550
Tint : -4
Tone Curve Name : Linear
Tone Curve Name 2012 : Medium Contrast
Version : 7.0
Vignette Amount : 0
Whites 2012 : +22
Format : image/jpeg
Create Date : 2016:06:15 11:28:22
Creator Tool : Google Silver Efex Pro 2 2.2.24.12
Category : people
Date Created : 2016:06:15 11:28:22
Marked : True
Photographic Sensitivity : 400
Tone Curve : 0, 0, 255, 255
Tone Curve Blue : 0, 0, 255, 255
Tone Curve Green : 0, 0, 255, 255
Tone Curve PV2012 : 0, 0, 32, 22, 64, 56, 128, 128, 192, 196, 255, 255
Tone Curve PV2012 Blue : 0, 0, 255, 255
Tone Curve PV2012 Green : 0, 0, 255, 255
Tone Curve PV2012 Red : 0, 0, 255, 255
Tone Curve Red : 0, 0, 255, 255
Creator : ruggeroranzani
Rights : Copyright 2012
Image Width : 308
Image Height : 227
Bits Per Sample : 8
Color Components : 1
Aperture : 13.0
Image Size : 308x227
Megapixels : 0.070
Scale Factor To 35 mm Equivalent : 1.0
Shutter Speed : 1/125
Circle Of Confusion : 0.030 mm
Field Of View : 39.6 deg
Focal Length : 50.0 mm (35 mm equivalent: 50.0 mm)
Hyperfocal Distance : 6.40 m
Light Value : 12.4
Lens ID : Elmar-M 50mm f/2.8