Uber Exif Photo
Make : NIKON CORPORATION
Camera Model Name : NIKON D7000
Software : Adobe Photoshop Lightroom 6.6 (Windows)
Modify Date : 2016:07:12 13:48:06
Exposure Time : 1/4000
F Number : 2.8
Exposure Program : Aperture-priority AE
ISO : 1600
Sensitivity Type : Recommended Exposure Index
Date/Time Original : 2016:06:26 21:11:54
Create Date : 2016:06:26 21:11:54
Shutter Speed Value : 1/4000
Aperture Value : 2.8
Exposure Compensation : +1
Max Aperture Value : 2.8
Metering Mode : Multi-segment
Light Source : Unknown
Flash : Off, Did not fire
Focal Length : 55.0 mm
Color Space : sRGB
Sensing Method : One-chip color area
Scene Type : Directly photographed
CFA Pattern : [Red,Green][Green,Blue]
Custom Rendered : Normal
Exposure Mode : Auto
White Balance : Auto
Digital Zoom Ratio : 1
Focal Length In 35mm Format : 82 mm
Scene Capture Type : Standard
Gain Control : High gain up
Contrast : Normal
Saturation : High
Sharpness : Hard
Subject Distance Range : Unknown
Serial Number : 3274367
Lens Info : 17-55mm f/2.8
Lens Model : 17.0-55.0 mm f/2.8
Profile Description : sRGB IEC61966-2.1
Creator Tool : Adobe Photoshop Lightroom 6.6 (Windows)
Lens : 17.0-55.0 mm f/2.8
Image Number : 7260
Approximate Focus Distance : 2.51
Date Created : 2016:06:26 21:11:54.80
Format : image/jpeg
Version : 9.6
Process Version : 6.7
Auto White Version : 134348800
Color Temperature : 6550
Tint : +7
Luminance Smoothing : 27
Color Noise Reduction : 25
Vignette Amount : 0
Shadow Tint : 0
Red Hue : 0
Red Saturation : 0
Green Hue : 0
Green Saturation : 0
Blue Hue : 0
Blue Saturation : 0
Vibrance : +16
Hue Adjustment Red : 0
Hue Adjustment Orange : 0
Hue Adjustment Yellow : 0
Hue Adjustment Green : 0
Hue Adjustment Aqua : 0
Hue Adjustment Blue : 0
Hue Adjustment Purple : 0
Hue Adjustment Magenta : 0
Saturation Adjustment Red : 0
Saturation Adjustment Orange : 0
Saturation Adjustment Yellow : 0
Saturation Adjustment Green : 0
Saturation Adjustment Aqua : 0
Saturation Adjustment Blue : 0
Saturation Adjustment Purple : 0
Saturation Adjustment Magenta : 0
Luminance Adjustment Red : 0
Luminance Adjustment Orange : 0
Luminance Adjustment Yellow : 0
Luminance Adjustment Green : 0
Luminance Adjustment Aqua : 0
Luminance Adjustment Blue : 0
Luminance Adjustment Purple : 0
Luminance Adjustment Magenta : 0
Split Toning Shadow Hue : 0
Split Toning Shadow Saturation : 0
Split Toning Highlight Hue : 0
Split Toning Highlight Saturation : 0
Split Toning Balance : 0
Parametric Shadows : 0
Parametric Darks : 0
Parametric Lights : 0
Parametric Highlights : 0
Parametric Shadow Split : 25
Parametric Midtone Split : 50
Parametric Highlight Split : 75
Sharpen Radius : +1.0
Sharpen Detail : 25
Sharpen Edge Masking : 0
Post Crop Vignette Amount : 0
Grain Amount : 0
Luminance Noise Reduction Detail : 50
Color Noise Reduction Detail : 50
Luminance Noise Reduction Contrast : 0
Color Noise Reduction Smoothness : 50
Lens Profile Enable : 1
Lens Manual Distortion Amount : 0
Perspective Vertical : 0
Perspective Horizontal : 0
Perspective Rotate : 0.0
Perspective Scale : 100
Perspective Aspect : 0
Perspective Upright : Off
Perspective X : 0.00
Perspective Y : 0.00
Auto Lateral CA : 1
Exposure 2012 : 0.00
Contrast 2012 : 0
Highlights 2012 : -18
Shadows 2012 : 0
Whites 2012 : 0
Blacks 2012 : -6
Clarity 2012 : 0
Defringe Purple Amount : 0
Defringe Purple Hue Lo : 30
Defringe Purple Hue Hi : 70
Defringe Green Amount : 0
Defringe Green Hue Lo : 40
Defringe Green Hue Hi : 60
Dehaze : 0
Tone Map Strength : 0
Convert To Grayscale : False
Tone Curve Name : Linear
Tone Curve Name 2012 : Linear
Camera Profile : Adobe Standard
Lens Profile Setup : LensDefaults
Lens Profile Name : Adobe (Nikon AF-S DX Zoom-Nikkor 17-55mm f/2.8G IF-ED)
Lens Profile Filename : NIKON D90 (Nikon AF-S DX Zoom-NIKKOR 17-55mm f2.8G IF-ED) - RAW.lcp
Lens Profile Distortion Scale : 100
Lens Profile Chromatic Aberration Scale : 100
Lens Profile Vignetting Scale : 100
Has Settings : True
Crop Top : 0.068269
Crop Left : 0.063567
Crop Bottom : 0.93044
Crop Right : 0.73755
Crop Angle : 1.61389
Crop Constrain To Warp : 0
Has Crop : True
Already Applied : True
Tone Curve : 0, 0, 255, 255
Tone Curve Red : 0, 0, 255, 255
Tone Curve Green : 0, 0, 255, 255
Tone Curve Blue : 0, 0, 255, 255
Tone Curve PV2012 : 0, 0, 255, 255
Tone Curve PV2012 Red : 0, 0, 255, 255
Tone Curve PV2012 Green : 0, 0, 255, 255
Tone Curve PV2012 Blue : 0, 0, 255, 255
Image Width : 300
Image Height : 375
Bits Per Sample : 8
Color Components : 3
Aperture : 2.8
Image Size : 300x375
Megapixels : 0.113
Scale Factor To 35 mm Equivalent : 1.5
Shutter Speed : 1/4000
Create Date : 2016:06:26 21:11:54.80
Date/Time Original : 2016:06:26 21:11:54.8
Circle Of Confusion : 0.020 mm
Depth Of Field : 0.23 m (2.40 - 2.63 m)
Field Of View : 24.8 deg
Focal Length : 55.0 mm (35 mm equivalent: 82.0 mm)
Hyperfocal Distance : 53.61 m
Light Value : 10.9
Lens ID : AF-S DX Zoom-Nikkor 17-55mm f/2.8G IF-ED