Uber Exif Photo
Make : Leica Camera AG
Camera Model Name : M9 Digital Camera
Software : Adobe Photoshop Lightroom 4.4 (Macintosh)
Modify Date : 2013:04:25 21:19:48
Exposure Time : 1/30
F Number : 4.0
Exposure Program : Aperture-priority AE
ISO : 800
Date/Time Original : 2013:04:22 18:37:59
Create Date : 2013:04:22 18:37:59
Shutter Speed Value : 1/30
Aperture Value : 4.0
Exposure Compensation : 0
Max Aperture Value : 2.0
Metering Mode : Center-weighted average
Light Source : Unknown
Flash : No Flash
Focal Length : 35.0 mm
Scene Type : Directly photographed
Exposure Mode : Manual
White Balance : Auto
Digital Zoom Ratio : 0
Focal Length In 35mm Format : 35 mm
Scene Capture Type : Standard
Serial Number : 4208419
Lens Model : Leica Summicron-M 35mm f/2 ASPH.
Profile Description : sRGB IEC61966-2.1
Creator Tool : Adobe Photoshop Lightroom 4.4 (Macintosh)
Lens : Leica Summicron-M 35mm f/2 ASPH.
Date Created : 2013:04:22 18:37:59
Format : image/jpeg
Version : 7.4
Process Version : 6.7
Color Temperature : 3500
Tint : -3
Sharpness : 72
Luminance Smoothing : 73
Color Noise Reduction : 59
Vignette Amount : -82
Vignette Midpoint : 79
Shadow Tint : 0
Red Hue : 0
Red Saturation : 0
Green Hue : 0
Green Saturation : 0
Blue Hue : 0
Blue Saturation : 0
Gray Mixer Red : -11
Gray Mixer Orange : -21
Gray Mixer Yellow : -25
Gray Mixer Green : -28
Gray Mixer Aqua : -16
Gray Mixer Blue : +14
Gray Mixer Purple : +18
Gray Mixer Magenta : +4
Split Toning Shadow Hue : 0
Split Toning Shadow Saturation : 0
Split Toning Highlight Hue : 0
Split Toning Highlight Saturation : 0
Split Toning Balance : 0
Parametric Shadows : 0
Parametric Darks : 0
Parametric Lights : 0
Parametric Highlights : 0
Parametric Shadow Split : 25
Parametric Midtone Split : 50
Parametric Highlight Split : 75
Sharpen Radius : +1.6
Sharpen Detail : 54
Sharpen Edge Masking : 54
Post Crop Vignette Amount : 0
Grain Amount : 0
Luminance Noise Reduction Detail : 50
Color Noise Reduction Detail : 54
Luminance Noise Reduction Contrast : 50
Lens Profile Enable : 0
Lens Manual Distortion Amount : 0
Perspective Vertical : 0
Perspective Horizontal : 0
Perspective Rotate : 0.0
Perspective Scale : 131
Auto Lateral CA : 0
Exposure 2012 : 0.00
Contrast 2012 : -27
Highlights 2012 : 0
Shadows 2012 : 0
Whites 2012 : +36
Blacks 2012 : -44
Clarity 2012 : +56
Convert To Grayscale : True
Tone Curve Name 2012 : Linear
Camera Profile : Adobe Standard
Lens Profile Setup : LensDefaults
Has Settings : True
Has Crop : False
Already Applied : True
Tone Curve PV2012 : 0, 0, 255, 255
Tone Curve PV2012 Red : 0, 0, 255, 255
Tone Curve PV2012 Green : 0, 0, 255, 255
Tone Curve PV2012 Blue : 0, 0, 255, 255
Image Width : 300
Image Height : 200
Bits Per Sample : 8
Color Components : 3
Aperture : 4.0
Image Size : 300x200
Megapixels : 0.060
Scale Factor To 35 mm Equivalent : 1.0
Shutter Speed : 1/30
Circle Of Confusion : 0.030 mm
Field Of View : 54.4 deg
Focal Length : 35.0 mm (35 mm equivalent: 35.0 mm)
Hyperfocal Distance : 10.19 m
Light Value : 5.9
Lens ID : Summicron-M 35mm f/2 ASPH.