Uber Exif Photo
By-line : Eric Odinski
Copyright Notice : ©Eric Odinski
Copyright Flag : True
Make : NIKON CORPORATION
Camera Model Name : NIKON D300
Orientation : Horizontal (normal)
Software : Adobe Photoshop Elements 10.0 Macintosh
Modify Date : 2016:09:28 19:50:35
Artist : Eric Odinski
Copyright : ©Eric Odinski
Exposure Time : 1/5
F Number : 9.0
Exposure Program : Aperture-priority AE
ISO : 3200
Date/Time Original : 2016:04:02 14:23:57
Create Date : 2016:04:02 14:23:57
Shutter Speed Value : 1/5
Aperture Value : 9.0
Exposure Compensation : 0
Max Aperture Value : 4.0
Metering Mode : Multi-segment
Light Source : Unknown
Focal Length : 24.0 mm
Color Space : sRGB
Exif Image Width : 2144
Exif Image Height : 1424
Sensing Method : One-chip color area
Scene Type : Directly photographed
CFA Pattern : [Red,Green][Green,Blue]
Custom Rendered : Custom
Exposure Mode : Auto
White Balance : Auto
Digital Zoom Ratio : 1
Focal Length In 35mm Format : 36 mm
Scene Capture Type : Standard
Gain Control : High gain up
Contrast : Normal
Saturation : Normal
Sharpness : Normal
Subject Distance Range : Unknown
Serial Number : 3194338
Lens Info : 16-85mm f/3.5-5.6
Lens Model : 16.0-85.0 mm f/3.5-5.6
Profile Description : sRGB IEC61966-2.1
Creator Tool : Adobe Photoshop Lightroom 5.7 (Macintosh)
Lens : 16.0-85.0 mm f/3.5-5.6
Image Number : 148068
Approximate Focus Distance : 1
Date Created : 2016:04:02
Color Mode : RGB
ICC Profile Name : sRGB IEC61966-2.1
Format : image/jpeg
Marked : True
Version : 8.7
Process Version : 6.7
Auto White Version : 134348800
Color Temperature : 3250
Tint : -2
Luminance Smoothing : 0
Color Noise Reduction : 25
Vignette Amount : 0
Shadow Tint : 0
Red Hue : 0
Red Saturation : 0
Green Hue : 0
Green Saturation : 0
Blue Hue : 0
Blue Saturation : 0
Gray Mixer Red : -6
Gray Mixer Orange : -22
Gray Mixer Yellow : -19
Gray Mixer Green : -24
Gray Mixer Aqua : -19
Gray Mixer Blue : +6
Gray Mixer Purple : +13
Gray Mixer Magenta : +5
Split Toning Shadow Hue : 0
Split Toning Shadow Saturation : 0
Split Toning Highlight Hue : 0
Split Toning Highlight Saturation : 0
Split Toning Balance : 0
Parametric Shadows : -4
Parametric Darks : +8
Parametric Lights : -76
Parametric Highlights : 0
Parametric Shadow Split : 25
Parametric Midtone Split : 50
Parametric Highlight Split : 75
Sharpen Radius : +1.0
Sharpen Detail : 25
Sharpen Edge Masking : 0
Post Crop Vignette Amount : 0
Grain Amount : 64
Grain Size : 57
Grain Frequency : 50
Color Noise Reduction Detail : 50
Color Noise Reduction Smoothness : 50
Lens Profile Enable : 0
Lens Manual Distortion Amount : 0
Perspective Vertical : 0
Perspective Horizontal : 0
Perspective Rotate : 0.0
Perspective Scale : 100
Perspective Aspect : 0
Perspective Upright : Off
Auto Lateral CA : 0
Exposure 2012 : 0.00
Contrast 2012 : 0
Highlights 2012 : 0
Shadows 2012 : 0
Whites 2012 : 0
Blacks 2012 : 0
Clarity 2012 : 0
Convert To Grayscale : True
Tone Curve Name : Linear
Tone Curve Name 2012 : Linear
Camera Profile : Adobe Standard
Lens Profile Setup : LensDefaults
Has Settings : True
Has Crop : False
Already Applied : True
Creator : Eric Odinski
Rights : ©Eric Odinski
Tone Curve : 0, 0, 255, 255
Tone Curve Red : 0, 0, 255, 255
Tone Curve Green : 0, 0, 255, 255
Tone Curve Blue : 0, 0, 255, 255
Tone Curve PV2012 : 0, 0, 255, 255
Tone Curve PV2012 Red : 0, 0, 255, 255
Tone Curve PV2012 Green : 0, 0, 255, 255
Tone Curve PV2012 Blue : 0, 0, 255, 255
Creator City : Washington
Creator Region : DC
Creator Work Email : eod1052@gmail.com
Flash Fired : False
Flash Return : No return detection
Flash Mode : Unknown
Flash Function : False
Flash Red Eye Mode : False
Image Width : 300
Image Height : 199
Bits Per Sample : 8
Color Components : 3
Aperture : 9.0
Image Size : 300x199
Megapixels : 0.060
Scale Factor To 35 mm Equivalent : 1.5
Shutter Speed : 1/5
Create Date : 2016:04:02 14:23:57.81
Date/Time Original : 2016:04:02 14:23:57.81
Flash : No Flash
Circle Of Confusion : 0.020 mm
Depth Of Field : 0.67 m (0.77 - 1.44 m)
Field Of View : 53.1 deg
Focal Length : 24.0 mm (35 mm equivalent: 36.0 mm)
Hyperfocal Distance : 3.20 m
Light Value : 3.7
Lens ID : AF-S DX VR Zoom-Nikkor 16-85mm f/3.5-5.6G ED