Uber Exif Photo
Make : LEICA CAMERA AG
Camera Model Name : LEICA X1
Orientation : Horizontal (normal)
Software : Adobe Photoshop CS4 Windows
Modify Date : 2013:05:17 23:17:39
Maker Note Safety : Safe
Exposure Time : 1/640
F Number : 6.3
Exposure Program : Program AE
ISO : 100
Date/Time Original : 2013:05:15 12:40:27
Create Date : 2013:05:15 12:40:27
Shutter Speed Value : 1/640
Aperture Value : 6.3
Exposure Compensation : 0
Max Aperture Value : 2.8
Metering Mode : Multi-segment
Light Source : Unknown
Focal Length : 24.0 mm
Color Space : Uncalibrated
Exif Image Width : 1200
Exif Image Height : 828
Sensing Method : One-chip color area
Custom Rendered : Custom
White Balance : Auto
Digital Zoom Ratio : 1
Focal Length In 35mm Format : 36 mm
Scene Capture Type : Landscape
Contrast : High
Saturation : High
Sharpness : Hard
Serial Number : 000003814138
Lens Info : 24mm f/2.8
Lens Model : 24.0 mm f/2.8
Creator Tool : Adobe Photoshop Lightroom 5.0 (Windows)
Label : Yellow
Rating : 1
Lens : 24.0 mm f/2.8
Approximate Focus Distance : 2.5
Date Created : 2013:05:15
Color Mode : RGB
ICC Profile Name : Adobe RGB (1998)
Format : image/jpeg
Version : 8.1
Process Version : 6.7
Color Temperature : 5150
Tint : +15
Luminance Smoothing : 0
Color Noise Reduction : 25
Vignette Amount : 0
Shadow Tint : 0
Red Hue : 0
Red Saturation : 0
Green Hue : 0
Green Saturation : 0
Blue Hue : 0
Blue Saturation : 0
Gray Mixer Red : -10
Gray Mixer Orange : -20
Gray Mixer Yellow : -24
Gray Mixer Green : -28
Gray Mixer Aqua : -18
Gray Mixer Blue : +12
Gray Mixer Purple : +18
Gray Mixer Magenta : +5
Split Toning Shadow Hue : 0
Split Toning Shadow Saturation : 0
Split Toning Highlight Hue : 0
Split Toning Highlight Saturation : 0
Split Toning Balance : 0
Parametric Shadows : 0
Parametric Darks : 0
Parametric Lights : 0
Parametric Highlights : 0
Parametric Shadow Split : 25
Parametric Midtone Split : 50
Parametric Highlight Split : 75
Sharpen Radius : +2.0
Sharpen Detail : 50
Sharpen Edge Masking : 37
Post Crop Vignette Amount : 0
Grain Amount : 0
Color Noise Reduction Detail : 50
Lens Profile Enable : 0
Lens Manual Distortion Amount : 0
Perspective Vertical : 0
Perspective Horizontal : 0
Perspective Rotate : 0.0
Perspective Scale : 100
Perspective Aspect : 0
Perspective Upright : Off
Auto Lateral CA : 0
Exposure 2012 : -2.09
Contrast 2012 : +18
Highlights 2012 : +79
Shadows 2012 : 0
Whites 2012 : 0
Blacks 2012 : 0
Clarity 2012 : +44
Convert To Grayscale : True
Tone Curve Name 2012 : Linear
Camera Profile : Adobe Standard
Lens Profile Setup : LensDefaults
Has Settings : True
Crop Top : 0
Crop Left : 0.054244
Crop Bottom : 1
Crop Right : 0.945188
Crop Angle : 3.48829
Crop Constrain To Warp : 0
Has Crop : True
Already Applied : True
Raw File Name : L9993269.psd
Date/Time Digitized : 2013:05:15 12:40:27+02:00
Tone Curve PV2012 : 0, 0, 255, 255
Tone Curve PV2012 Red : 0, 0, 255, 255
Tone Curve PV2012 Green : 0, 0, 255, 255
Tone Curve PV2012 Blue : 0, 0, 255, 255
Gradient Based Corr What : Correction
Gradient Based Corr Amount : 1.000000
Gradient Based Corr Active : true
Gradient Based Corr Saturation : 0.000000
Gradient Based Corr Sharpness : 0.000000
Gradient Based Corr Brightness : 0.000000
Gradient Based Corr Toning Hue : 0.000000
Gradient Based Corr Toning Saturation : 0.000000
Gradient Based Corr Exposure 2012 : 0.472750
Gradient Based Corr Contrast 2012 : 0.000000
Gradient Based Corr Highlights 2012 : 0.010000
Gradient Based Corr Shadows 2012 : 0.000000
Gradient Based Corr Clarity 2012 : 0.000000
Gradient Based Corr Luminance Noise : 0.000000
Gradient Based Corr Moire : 0.000000
Gradient Based Corr Defringe : 0.000000
Gradient Based Corr Temperature : 0.000000
Gradient Based Corr Tint : 0.000000
Gradient Based Corr Mask What : Mask/Gradient
Gradient Based Corr Mask Value : 1.000000
Gradient Based Corr Mask Zero X : 0.160494
Gradient Based Corr Mask Zero Y : 1.123480
Gradient Based Corr Mask Full X : 0.102755
Gradient Based Corr Mask Full Y : 0.007532
Flash Fired : False
Flash Return : No return detection
Flash Mode : Off
Flash Function : False
Flash Red Eye Mode : False
Image Width : 300
Image Height : 207
Bits Per Sample : 8
Color Components : 1
Aperture : 6.3
Image Size : 300x207
Megapixels : 0.062
Scale Factor To 35 mm Equivalent : 1.5
Shutter Speed : 1/640
Flash : Off, Did not fire
Circle Of Confusion : 0.020 mm
Depth Of Field : 3.84 m (1.62 - 5.46 m)
Field Of View : 53.1 deg
Focal Length : 24.0 mm (35 mm equivalent: 36.0 mm)
Hyperfocal Distance : 4.56 m
Light Value : 14.6
Lens ID : 24.0mm f/2.8