Uber Exif Photo
By-line : Richard Berter
Copyright Notice : © Richard Berter
Copyright Flag : False
URL : © Richard Berter
Make : FUJIFILM
Camera Model Name : X-Pro1
Software : Adobe Photoshop Lightroom 4.4 (Windows)
Modify Date : 2016:05:29 19:33:25
Artist : Richard Berter
Copyright : © Richard Berter
Exposure Time : 1/125
F Number : 2.8
Exposure Program : Program AE
ISO : 1250
Sensitivity Type : Standard Output Sensitivity
Date/Time Original : 2016:05:29 12:14:51
Create Date : 2016:05:29 12:14:51
Shutter Speed Value : 1/125
Aperture Value : 2.8
Brightness Value : 1.25
Exposure Compensation : -0.33
Max Aperture Value : 2.8
Metering Mode : Multi-segment
Light Source : Unknown
Flash : Off, Did not fire
Focal Length : 27.0 mm
Sensing Method : One-chip color area
Scene Type : Directly photographed
Custom Rendered : Normal
Exposure Mode : Auto
White Balance : Auto
Focal Length In 35mm Format : 41 mm
Scene Capture Type : Standard
Sharpness : Hard
Subject Distance Range : Unknown
Lens Info : 27mm f/2.8
Lens Make : FUJIFILM
Lens Model : XF27mmF2.8
Lens Serial Number : 53A11918
Profile Description : sRGB IEC61966-2.1
Creator Tool : Adobe Photoshop Lightroom 4.4 (Windows)
Rating : 5
Lens : XF27mmF2.8
Date Created : 2016:05:29 12:14:51
Format : image/jpeg
Marked : False
Web Statement : © Richard Berter
Version : 7.4
Process Version : 6.7
Color Temperature : 3100
Tint : +30
Luminance Smoothing : 0
Color Noise Reduction : 0
Vignette Amount : 0
Shadow Tint : 0
Red Hue : 0
Red Saturation : 0
Green Hue : 0
Green Saturation : 0
Blue Hue : 0
Blue Saturation : 0
Gray Mixer Red : -9
Gray Mixer Orange : -19
Gray Mixer Yellow : -23
Gray Mixer Green : -27
Gray Mixer Aqua : -18
Gray Mixer Blue : +11
Gray Mixer Purple : +17
Gray Mixer Magenta : +5
Split Toning Shadow Hue : 0
Split Toning Shadow Saturation : 0
Split Toning Highlight Hue : 0
Split Toning Highlight Saturation : 0
Split Toning Balance : 0
Parametric Shadows : +20
Parametric Darks : +20
Parametric Lights : -17
Parametric Highlights : 0
Parametric Shadow Split : 23
Parametric Midtone Split : 50
Parametric Highlight Split : 75
Sharpen Radius : +1.0
Sharpen Detail : 25
Sharpen Edge Masking : 0
Post Crop Vignette Amount : -35
Post Crop Vignette Midpoint : 50
Post Crop Vignette Feather : 50
Post Crop Vignette Roundness : 0
Post Crop Vignette Style : Highlight Priority
Post Crop Vignette Highlight Contrast : 0
Grain Amount : 0
Lens Profile Enable : 0
Lens Manual Distortion Amount : 0
Perspective Vertical : 0
Perspective Horizontal : 0
Perspective Rotate : 0.0
Perspective Scale : 100
Auto Lateral CA : 0
Exposure 2012 : +0.84
Contrast 2012 : +57
Highlights 2012 : -100
Shadows 2012 : +100
Whites 2012 : -100
Blacks 2012 : -40
Clarity 2012 : +79
Convert To Grayscale : True
Tone Curve Name 2012 : Linear
Camera Profile : Adobe Standard
Lens Profile Setup : LensDefaults
Has Settings : True
Crop Top : 0
Crop Left : 0.059167
Crop Bottom : 1
Crop Right : 0.725833
Crop Angle : 0
Crop Constrain To Warp : 0
Crop Width : 600
Crop Height : 600
Crop Unit : pixels
Has Crop : True
Already Applied : True
Creator : Richard Berter
Rights : © Richard Berter
Usage Terms : © Richard Berter
Creator Postal Code : 45217
Creator Work Telephone : 513-309-3522
Creator Region : Ohio
Creator Work Email : rberter60@gmail.com
Creator Country : U.S.A
Creator City : Cincinnati
Creator Address : 628 e Ross Ave.
Tone Curve PV2012 : 0, 0, 255, 255
Tone Curve PV2012 Red : 0, 0, 255, 255
Tone Curve PV2012 Green : 0, 0, 255, 255
Tone Curve PV2012 Blue : 0, 0, 255, 255
Paint Correction What : Correction
Paint Correction Amount : 1.000000
Paint Correction Active : true
Paint Correction Saturation : 0.126440
Paint Correction Sharpness : 0.000000
Paint Correction Brightness : 0.000000
Paint Correction Toning Hue : 240.000000
Paint Correction Toning Saturation : 0.000000
Paint Correction Exposure 2012 : -1.000000
Paint Correction Contrast 2012 : -0.126440
Paint Correction Highlights 2012 : 0.000000
Paint Correction Shadows 2012 : 0.908050
Paint Correction Clarity 2012 : 0.000000
Paint Correction Luminance Noise : 0.000000
Paint Correction Moire : 0.000000
Paint Correction Defringe : 0.000000
Paint Correction Temperature : 0.000000
Paint Correction Tint : 0.000000
Paint Correction Mask What : Mask/Paint
Paint Correction Mask Value : 1.000000
Paint Correction Mask Radius : 0.081431
Paint Correction Mask Flow : 0.344000
Paint Correction Mask Center Weight : 0.033675
Image Width : 300
Image Height : 300
Bits Per Sample : 8
Color Components : 3
Aperture : 2.8
Image Size : 300x300
Megapixels : 0.090
Scale Factor To 35 mm Equivalent : 1.5
Shutter Speed : 1/125
Circle Of Confusion : 0.020 mm
Field Of View : 47.4 deg
Focal Length : 27.0 mm (35 mm equivalent: 41.0 mm)
Hyperfocal Distance : 13.16 m
Light Value : 6.3
Lens ID : XF27mm F2.8