Uber Exif Photo
By-line : Richard Berter
Copyright Notice : © Richard Berter
Copyright Flag : False
URL : © Richard Berter
Make : FUJIFILM
Camera Model Name : X-Pro1
Software : Adobe Photoshop Lightroom 4.4 (Windows)
Modify Date : 2016:07:02 11:18:20
Artist : Richard Berter
Copyright : © Richard Berter
Exposure Time : 1/450
F Number : 4.0
Exposure Program : Aperture-priority AE
ISO : 200
Sensitivity Type : Standard Output Sensitivity
Date/Time Original : 2016:06:23 21:09:08
Create Date : 2016:06:23 21:09:08
Shutter Speed Value : 1/450
Aperture Value : 4.0
Brightness Value : 6.24
Exposure Compensation : -1
Max Aperture Value : 2.8
Metering Mode : Multi-segment
Light Source : Unknown
Flash : Off, Did not fire
Focal Length : 27.0 mm
Sensing Method : One-chip color area
Scene Type : Directly photographed
Custom Rendered : Normal
Exposure Mode : Auto
White Balance : Auto
Focal Length In 35mm Format : 41 mm
Scene Capture Type : Standard
Sharpness : Hard
Subject Distance Range : Unknown
Lens Info : 27mm f/2.8
Lens Make : FUJIFILM
Lens Model : XF27mmF2.8
Lens Serial Number : 53A11918
Profile Description : sRGB IEC61966-2.1
Creator Tool : Adobe Photoshop Lightroom 4.4 (Windows)
Rating : 5
Lens : XF27mmF2.8
Date Created : 2016:06:23 21:09:08
Format : image/jpeg
Marked : False
Web Statement : © Richard Berter
Version : 7.4
Process Version : 6.7
Color Temperature : 4800
Tint : +3
Luminance Smoothing : 0
Color Noise Reduction : 25
Vignette Amount : 0
Shadow Tint : 0
Red Hue : 0
Red Saturation : 0
Green Hue : 0
Green Saturation : 0
Blue Hue : 0
Blue Saturation : 0
Gray Mixer Red : -4
Gray Mixer Orange : -13
Gray Mixer Yellow : -17
Gray Mixer Green : -24
Gray Mixer Aqua : -20
Gray Mixer Blue : +5
Gray Mixer Purple : +13
Gray Mixer Magenta : +6
Split Toning Shadow Hue : 0
Split Toning Shadow Saturation : 0
Split Toning Highlight Hue : 0
Split Toning Highlight Saturation : 0
Split Toning Balance : 0
Parametric Shadows : 0
Parametric Darks : 0
Parametric Lights : 0
Parametric Highlights : 0
Parametric Shadow Split : 25
Parametric Midtone Split : 50
Parametric Highlight Split : 75
Sharpen Radius : +1.0
Sharpen Detail : 25
Sharpen Edge Masking : 0
Post Crop Vignette Amount : 0
Grain Amount : 0
Color Noise Reduction Detail : 50
Lens Profile Enable : 1
Lens Manual Distortion Amount : 0
Perspective Vertical : 0
Perspective Horizontal : 0
Perspective Rotate : 0.0
Perspective Scale : 100
Auto Lateral CA : 0
Exposure 2012 : +0.20
Contrast 2012 : +15
Highlights 2012 : -50
Shadows 2012 : -30
Whites 2012 : 0
Blacks 2012 : -20
Clarity 2012 : +30
Convert To Grayscale : True
Tone Curve Name 2012 : Strong Contrast
Camera Profile : Adobe Standard
Lens Profile Setup : Custom
Lens Profile Name : Adobe (Fujifilm FinePix X100)
Lens Profile Filename : Fujifilm FinePix X100.lcp
Lens Profile Distortion Scale : 100
Lens Profile Chromatic Aberration Scale : 100
Lens Profile Vignetting Scale : 100
Has Settings : True
Crop Top : 0.039119
Crop Left : 0.112888
Crop Bottom : 0.649837
Crop Right : 0.755081
Crop Angle : -1.31576
Crop Constrain To Warp : 0
Crop Width : 600
Crop Height : 400
Crop Unit : pixels
Has Crop : True
Already Applied : True
Creator : Richard Berter
Rights : © Richard Berter
Usage Terms : © Richard Berter
Creator Postal Code : 45217
Creator Work Telephone : 513-309-3522
Creator Region : Ohio
Creator Work Email : rberter60@gmail.com
Creator Country : U.S.A
Creator City : Cincinnati
Creator Address : 628 e Ross Ave.
Tone Curve PV2012 : 0, 0, 32, 16, 64, 50, 128, 128, 192, 202, 255, 255
Tone Curve PV2012 Red : 0, 0, 255, 255
Tone Curve PV2012 Green : 0, 0, 255, 255
Tone Curve PV2012 Blue : 0, 0, 255, 255
Image Width : 300
Image Height : 200
Bits Per Sample : 8
Color Components : 3
Aperture : 4.0
Image Size : 300x200
Megapixels : 0.060
Scale Factor To 35 mm Equivalent : 1.5
Shutter Speed : 1/450
Circle Of Confusion : 0.020 mm
Field Of View : 47.4 deg
Focal Length : 27.0 mm (35 mm equivalent: 41.0 mm)
Hyperfocal Distance : 9.21 m
Light Value : 11.8
Lens ID : XF27mm F2.8