Uber Exif Photo
By-line : Richard Berter
Copyright Notice : © Richard Berter
Copyright Flag : False
URL : © Richard Berter
Make : FUJIFILM
Camera Model Name : X-Pro1
Software : Adobe Photoshop Lightroom 4.4 (Windows)
Modify Date : 2016:05:25 20:23:05
Artist : Richard Berter
Copyright : © Richard Berter
Exposure Time : 1/60
F Number : 5.0
Exposure Program : Aperture-priority AE
ISO : 1250
Sensitivity Type : Standard Output Sensitivity
Date/Time Original : 2016:05:22 13:03:59
Create Date : 2016:05:22 13:03:59
Shutter Speed Value : 1/60
Aperture Value : 5.0
Brightness Value : 2.13
Exposure Compensation : 0
Max Aperture Value : 2.8
Metering Mode : Multi-segment
Light Source : Unknown
Flash : Off, Did not fire
Focal Length : 27.0 mm
Sensing Method : One-chip color area
Scene Type : Directly photographed
Custom Rendered : Normal
Exposure Mode : Auto
White Balance : Auto
Focal Length In 35mm Format : 41 mm
Scene Capture Type : Standard
Sharpness : Normal
Subject Distance Range : Unknown
Lens Info : 27mm f/2.8
Lens Make : FUJIFILM
Lens Model : XF27mmF2.8
Lens Serial Number : 53A11918
Profile Description : sRGB IEC61966-2.1
Creator Tool : Adobe Photoshop Lightroom 4.4 (Windows)
Rating : 5
Lens : XF27mmF2.8
Date Created : 2016:05:22 13:03:59
Format : image/jpeg
Marked : False
Web Statement : © Richard Berter
Version : 7.4
Process Version : 6.7
Color Temperature : 3850
Tint : +12
Luminance Smoothing : 0
Color Noise Reduction : 25
Vignette Amount : 0
Shadow Tint : 0
Red Hue : 0
Red Saturation : 0
Green Hue : 0
Green Saturation : 0
Blue Hue : 0
Blue Saturation : 0
Gray Mixer Red : -11
Gray Mixer Orange : -20
Gray Mixer Yellow : -24
Gray Mixer Green : -27
Gray Mixer Aqua : -17
Gray Mixer Blue : +12
Gray Mixer Purple : +17
Gray Mixer Magenta : +4
Split Toning Shadow Hue : 0
Split Toning Shadow Saturation : 0
Split Toning Highlight Hue : 0
Split Toning Highlight Saturation : 0
Split Toning Balance : 0
Parametric Shadows : 0
Parametric Darks : 0
Parametric Lights : 0
Parametric Highlights : 0
Parametric Shadow Split : 25
Parametric Midtone Split : 50
Parametric Highlight Split : 75
Sharpen Radius : +1.0
Sharpen Detail : 25
Sharpen Edge Masking : 0
Post Crop Vignette Amount : -9
Post Crop Vignette Midpoint : 50
Post Crop Vignette Feather : 50
Post Crop Vignette Roundness : 0
Post Crop Vignette Style : Highlight Priority
Post Crop Vignette Highlight Contrast : 0
Grain Amount : 60
Grain Size : 25
Grain Frequency : 50
Color Noise Reduction Detail : 50
Lens Profile Enable : 0
Lens Manual Distortion Amount : 0
Perspective Vertical : 0
Perspective Horizontal : 0
Perspective Rotate : 0.0
Perspective Scale : 100
Auto Lateral CA : 0
Exposure 2012 : 0.00
Contrast 2012 : +15
Highlights 2012 : -50
Shadows 2012 : +43
Whites 2012 : 0
Blacks 2012 : -20
Clarity 2012 : +30
Convert To Grayscale : True
Tone Curve Name 2012 : Strong Contrast
Camera Profile : Adobe Standard
Lens Profile Setup : LensDefaults
Has Settings : True
Crop Top : 0.009048
Crop Left : 0
Crop Bottom : 0.793193
Crop Right : 0.744622
Crop Angle : -0.466845
Crop Constrain To Warp : 0
Crop Width : 600
Crop Height : 429
Crop Unit : pixels
Has Crop : True
Already Applied : True
Creator : Richard Berter
Rights : © Richard Berter
Usage Terms : © Richard Berter
Creator Postal Code : 45217
Creator Work Telephone : 513-309-3522
Creator Region : Ohio
Creator Work Email : rberter60@gmail.com
Creator Country : U.S.A
Creator City : Cincinnati
Creator Address : 628 e Ross Ave.
Tone Curve PV2012 : 0, 0, 32, 16, 64, 50, 128, 128, 192, 202, 255, 255
Tone Curve PV2012 Red : 0, 0, 255, 255
Tone Curve PV2012 Green : 0, 0, 255, 255
Tone Curve PV2012 Blue : 0, 0, 255, 255
Image Width : 300
Image Height : 215
Bits Per Sample : 8
Color Components : 3
Aperture : 5.0
Image Size : 300x215
Megapixels : 0.065
Scale Factor To 35 mm Equivalent : 1.5
Shutter Speed : 1/60
Circle Of Confusion : 0.020 mm
Field Of View : 47.4 deg
Focal Length : 27.0 mm (35 mm equivalent: 41.0 mm)
Hyperfocal Distance : 7.37 m
Light Value : 6.9
Lens ID : XF27mm F2.8