Uber Exif Photo
By-line : Jim Craig
Copyright Notice : DaMessenjah. All rights reserved. Can't Stop Screamin' It
Make : Canon
Camera Model Name : Canon EOS 7D
Software : Adobe Photoshop Lightroom 4.4 (Windows)
Modify Date : 2016:11:23 10:24:36
Artist : Jim Craig
Copyright : DaMessenjah. All rights reserved. Can't Stop Screamin' It
Exposure Time : 1/125
F Number : 8.0
Exposure Program : Manual
ISO : 400
Sensitivity Type : Recommended Exposure Index
Recommended Exposure Index : 400
Date/Time Original : 2016:11:20 16:34:13
Create Date : 2016:11:20 16:34:13
Shutter Speed Value : 1/125
Aperture Value : 8.0
Exposure Compensation : 0
Max Aperture Value : 2.0
Metering Mode : Center-weighted average
Flash : Off, Did not fire
Focal Length : 100.0 mm
Custom Rendered : Normal
Exposure Mode : Manual
White Balance : Auto
Scene Capture Type : Standard
Serial Number : 1780908873
Lens Info : 100mm f/?
Lens Model : Zeiss Makro-Planar T* 2/100 ZE
Profile Description : sRGB IEC61966-2.1
Creator Tool : Adobe Photoshop Lightroom 4.4 (Windows)
Format : image/jpeg
Lens : Zeiss Makro-Planar T* 2/100 ZE
Image Number : 0
Flash Compensation : 0
Firmware : 2.0.3
Date Created : 2016:11:20 16:34:13.95
Version : 7.4
Process Version : 6.7
Color Temperature : 6500
Tint : +10
Saturation : 0
Sharpness : 45
Luminance Smoothing : 20
Color Noise Reduction : 25
Vignette Amount : 0
Shadow Tint : 0
Red Hue : 0
Red Saturation : 0
Green Hue : 0
Green Saturation : 0
Blue Hue : 0
Blue Saturation : 0
Vibrance : +5
Hue Adjustment Red : 0
Hue Adjustment Orange : 0
Hue Adjustment Yellow : 0
Hue Adjustment Green : 0
Hue Adjustment Aqua : 0
Hue Adjustment Blue : 0
Hue Adjustment Purple : 0
Hue Adjustment Magenta : 0
Saturation Adjustment Red : -100
Saturation Adjustment Orange : -100
Saturation Adjustment Yellow : -100
Saturation Adjustment Green : -100
Saturation Adjustment Aqua : -100
Saturation Adjustment Blue : -100
Saturation Adjustment Purple : -100
Saturation Adjustment Magenta : -100
Luminance Adjustment Red : +20
Luminance Adjustment Orange : +29
Luminance Adjustment Yellow : +2
Luminance Adjustment Green : -20
Luminance Adjustment Aqua : -13
Luminance Adjustment Blue : +18
Luminance Adjustment Purple : +11
Luminance Adjustment Magenta : 0
Split Toning Shadow Hue : 0
Split Toning Shadow Saturation : 0
Split Toning Highlight Hue : 0
Split Toning Highlight Saturation : 0
Split Toning Balance : 0
Parametric Shadows : +48
Parametric Darks : +18
Parametric Lights : +34
Parametric Highlights : +36
Parametric Shadow Split : 25
Parametric Midtone Split : 50
Parametric Highlight Split : 75
Sharpen Radius : +1.0
Sharpen Detail : 25
Sharpen Edge Masking : 0
Post Crop Vignette Amount : -17
Post Crop Vignette Midpoint : 50
Post Crop Vignette Feather : 50
Post Crop Vignette Roundness : 0
Post Crop Vignette Style : Highlight Priority
Post Crop Vignette Highlight Contrast : 0
Grain Amount : 0
Luminance Noise Reduction Detail : 50
Color Noise Reduction Detail : 50
Luminance Noise Reduction Contrast : 0
Lens Profile Enable : 0
Lens Manual Distortion Amount : 0
Perspective Vertical : 0
Perspective Horizontal : 0
Perspective Rotate : 0.0
Perspective Scale : 50
Auto Lateral CA : 0
Exposure 2012 : +0.20
Contrast 2012 : +24
Highlights 2012 : 0
Shadows 2012 : +31
Whites 2012 : +10
Blacks 2012 : -12
Clarity 2012 : +10
Defringe Purple Amount : 0
Defringe Purple Hue Lo : 30
Defringe Purple Hue Hi : 70
Defringe Green Amount : 0
Defringe Green Hue Lo : 40
Defringe Green Hue Hi : 60
Convert To Grayscale : False
Tone Curve Name 2012 : Strong Contrast
Camera Profile : Camera Portrait
Lens Profile Setup : LensDefaults
Has Settings : True
Crop Top : 0.25
Crop Left : 0.25
Crop Bottom : 0.75
Crop Right : 0.75
Crop Angle : 0
Crop Constrain To Warp : 1
Crop Width : 2592
Crop Height : 1728
Crop Unit : pixels
Has Crop : True
Already Applied : True
Creator : Jim Craig
Rights : DaMessenjah. All rights reserved. Can't Stop Screamin' It
Tone Curve PV2012 : 0, 0, 32, 16, 64, 50, 128, 128, 192, 202, 255, 255
Tone Curve PV2012 Red : 0, 0, 255, 255
Tone Curve PV2012 Green : 0, 0, 255, 255
Tone Curve PV2012 Blue : 0, 0, 255, 255
Image Width : 308
Image Height : 458
Bits Per Sample : 8
Color Components : 3
Aperture : 8.0
Image Size : 308x458
Megapixels : 0.141
Scale Factor To 35 mm Equivalent : 1.6
Shutter Speed : 1/125
Create Date : 2016:11:20 16:34:13.95
Date/Time Original : 2016:11:20 16:34:13.95
Circle Of Confusion : 0.019 mm
Field Of View : 13.1 deg
Focal Length : 100.0 mm (35 mm equivalent: 157.0 mm)
Hyperfocal Distance : 65.33 m
Light Value : 11.0
Lens ID : Carl Zeiss Makro-Planar T* 100mm f/2 ZE