Uber Exif Photo
By-line : Duane Pandorf
Copyright Notice : Copyright © 2013 Duane Pandorf
Copyright Flag : True
URL : http://www.duanepandorf.com/useage
Make : Leica Camera AG
Camera Model Name : M9 Digital Camera
Software : Adobe Photoshop Lightroom 5.0 (Macintosh)
Modify Date : 2013:06:13 05:38:34
Artist : Duane Pandorf
Copyright : Copyright © 2013 Duane Pandorf
Exposure Time : 1/125
F Number : 2.0
Exposure Program : Aperture-priority AE
ISO : 160
Date/Time Original : 2013:06:09 19:27:23
Create Date : 2013:06:09 19:27:23
Shutter Speed Value : 1/125
Aperture Value : 2.0
Exposure Compensation : 0
Max Aperture Value : 1.4
Metering Mode : Center-weighted average
Light Source : Unknown
Flash : No Flash
Focal Length : 35.0 mm
Contrast : Normal
Sharpening : Normal
Saturation : Normal
White Balance : Auto
JPEG Quality : Fine
WB RGB Levels : 0.4350620038 1 0.7976242637
User Profile : 35mm
JPEG Size : 5216x3472
Firmware Version : 1.196
Base ISO : 160
Sensor Width : 5270
Sensor Height : 3516
Sensor Bit Depth : 14
Camera Temperature : 28 C
Lens Type : Summilux-M 35mm f/1.4
Approximate F Number : 2.0
Measured LV : 4.02
External Sensor Brightness Value : 1.89
Scene Type : Directly photographed
Exposure Mode : Manual
Digital Zoom Ratio : 0
Focal Length In 35mm Format : 35 mm
Scene Capture Type : Standard
Serial Number : 4422760
Lens Model : Leica Summicron-M 35mm f/2 (IV)
Maker Note Safety : Safe
Creator Tool : Adobe Photoshop Lightroom 5.0 (Macintosh)
Lens : Leica Summicron-M 35mm f/2 (IV)
Date Created : 2013:06:09 19:27:23
Format : image/jpeg
Marked : True
Web Statement : http://www.duanepandorf.com/useage
Version : 8.1
Process Version : 6.7
Color Temperature : 6150
Tint : +31
Sharpness : 53
Luminance Smoothing : 0
Color Noise Reduction : 25
Vignette Amount : 0
Shadow Tint : 0
Red Hue : 0
Red Saturation : 0
Green Hue : 0
Green Saturation : 0
Blue Hue : 0
Blue Saturation : 0
Gray Mixer Red : -2
Gray Mixer Orange : -25
Gray Mixer Yellow : -67
Gray Mixer Green : +39
Gray Mixer Aqua : -72
Gray Mixer Blue : -100
Gray Mixer Purple : +1
Gray Mixer Magenta : 0
Split Toning Shadow Hue : 0
Split Toning Shadow Saturation : 0
Split Toning Highlight Hue : 0
Split Toning Highlight Saturation : 0
Split Toning Balance : 0
Parametric Shadows : -10
Parametric Darks : +10
Parametric Lights : +2
Parametric Highlights : -18
Parametric Shadow Split : 25
Parametric Midtone Split : 50
Parametric Highlight Split : 75
Sharpen Radius : +0.9
Sharpen Detail : 30
Sharpen Edge Masking : 0
Post Crop Vignette Amount : -16
Post Crop Vignette Midpoint : 50
Post Crop Vignette Feather : 50
Post Crop Vignette Roundness : 0
Post Crop Vignette Style : Color Priority
Post Crop Vignette Highlight Contrast : 0
Grain Amount : 0
Color Noise Reduction Detail : 50
Lens Profile Enable : 0
Lens Manual Distortion Amount : 0
Perspective Vertical : 0
Perspective Horizontal : 0
Perspective Rotate : 0.0
Perspective Scale : 100
Perspective Aspect : 0
Perspective Upright : Off
Auto Lateral CA : 0
Exposure 2012 : 0.00
Contrast 2012 : 0
Highlights 2012 : -100
Shadows 2012 : +58
Whites 2012 : +7
Blacks 2012 : 0
Clarity 2012 : +75
Convert To Grayscale : True
Tone Curve Name 2012 : Linear
Camera Profile : Huelight CF Standard V25
Lens Profile Setup : LensDefaults
Has Settings : True
Crop Top : 0.019294
Crop Left : 0.006301
Crop Bottom : 0.780642
Crop Right : 0.991819
Crop Angle : -0.693778
Crop Constrain To Warp : 0
Has Crop : True
Already Applied : True
Creator : Duane Pandorf
Rights : Copyright © 2013 Duane Pandorf
Usage Terms : All rights reserved. No reproduction of any kind.
Creator Postal Code : 28712
Creator Work Telephone : +1 828-212-9106
Creator Region : NC
Creator Country : USA
Creator Work Email : duane@duanepandorf.com
Creator City : Brevard
Creator Address : 289 Middle Connestee Trail
Creator Work URL : http://www.duanepandorf.com
Tone Curve PV2012 : 0, 0, 255, 255
Tone Curve PV2012 Red : 0, 0, 255, 255
Tone Curve PV2012 Green : 0, 0, 255, 255
Tone Curve PV2012 Blue : 0, 0, 255, 255
Paint Correction What : Correction
Paint Correction Amount : 1.000000
Paint Correction Active : true
Paint Correction Saturation : 0.000000
Paint Correction Sharpness : 0.000000
Paint Correction Brightness : 0.000000
Paint Correction Toning Hue : 240.000000
Paint Correction Toning Saturation : 0.000000
Paint Correction Exposure 2012 : 0.062500
Paint Correction Contrast 2012 : 0.000000
Paint Correction Highlights 2012 : 0.000000
Paint Correction Shadows 2012 : 0.000000
Paint Correction Clarity 2012 : 0.000000
Paint Correction Luminance Noise : 0.000000
Paint Correction Moire : 0.000000
Paint Correction Defringe : 0.000000
Paint Correction Temperature : 0.000000
Paint Correction Tint : 0.000000
Paint Correction Mask What : Mask/Paint
Paint Correction Mask Value : 1.000000
Paint Correction Mask Radius : 0.027125
Paint Correction Mask Flow : 1.000000
Paint Correction Mask Center Weight : 0.000000
Image Width : 300
Image Height : 159
Bits Per Sample : 8
Color Components : 1
Aperture : 2.0
Blue Balance : 0.797624
Image Size : 300x159
Lens ID : Summilux-M 35mm f/1.4
Megapixels : 0.048
Red Balance : 0.435062
Scale Factor To 35 mm Equivalent : 1.0
Shutter Speed : 1/125
Circle Of Confusion : 0.030 mm
Field Of View : 54.4 deg
Focal Length : 35.0 mm (35 mm equivalent: 35.0 mm)
Hyperfocal Distance : 20.39 m
Light Value : 8.3