Uber Exif Photo
By-line : YURI-KRUZHNOV
Copyright Notice : yuriylux
Photometric Interpretation : RGB
Make : NIKON CORPORATION
Camera Model Name : NIKON D3
Orientation : Horizontal (normal)
Samples Per Pixel : 3
Software : Adobe Photoshop CC 2017 (Macintosh)
Modify Date : 2017:10:28 09:50:00
Artist : YURI-KRUZHNOV
Copyright : yuriylux
Exposure Time : 1/400
F Number : 10.0
Exposure Program : Aperture-priority AE
ISO : 200
Date/Time Original : 2017:10:14 11:00:31
Create Date : 2017:10:14 11:00:31
Shutter Speed Value : 1/400
Aperture Value : 10.0
Exposure Compensation : 0
Max Aperture Value : 2.8
Metering Mode : Multi-segment
Light Source : Unknown
Flash : No Flash
Focal Length : 35.0 mm
Color Space : sRGB
Exif Image Width : 1978
Exif Image Height : 2894
Sensing Method : One-chip color area
Scene Type : Directly photographed
CFA Pattern : [Red,Green][Green,Blue]
Custom Rendered : Normal
Exposure Mode : Auto
White Balance : Auto
Digital Zoom Ratio : 1
Focal Length In 35mm Format : 35 mm
Scene Capture Type : Standard
Gain Control : None
Contrast : Normal
Saturation : Normal
Sharpness : Normal
Subject Distance Range : Unknown
Serial Number : 2057367
Lens Info : 17-35mm f/2.8
Lens Model : 17.0-35.0 mm f/2.8
Profile Description : sRGB IEC61966-2.1
Format : image/jpeg
Creator Tool : Adobe Photoshop CC 2017 (Macintosh)
Lens : 17.0-35.0 mm f/2.8
Image Number : 76118
Approximate Focus Distance : 2
Date Created : 2017:10:14 11:00:31.075
Color Mode : RGB
ICC Profile Name : sRGB IEC61966-2.1
Version : 9.4
Process Version : 6.7
Auto White Version : 134348800
Color Temperature : 5150
Tint : -5
Luminance Smoothing : 0
Color Noise Reduction : 25
Vignette Amount : 0
Shadow Tint : 0
Red Hue : 0
Red Saturation : 0
Green Hue : 0
Green Saturation : 0
Blue Hue : 0
Blue Saturation : 0
Vibrance : 0
Hue Adjustment Red : 0
Hue Adjustment Orange : 0
Hue Adjustment Yellow : 0
Hue Adjustment Green : 0
Hue Adjustment Aqua : 0
Hue Adjustment Blue : 0
Hue Adjustment Purple : 0
Hue Adjustment Magenta : 0
Saturation Adjustment Red : 0
Saturation Adjustment Orange : 0
Saturation Adjustment Yellow : 0
Saturation Adjustment Green : 0
Saturation Adjustment Aqua : 0
Saturation Adjustment Blue : 0
Saturation Adjustment Purple : 0
Saturation Adjustment Magenta : 0
Luminance Adjustment Red : 0
Luminance Adjustment Orange : 0
Luminance Adjustment Yellow : 0
Luminance Adjustment Green : 0
Luminance Adjustment Aqua : 0
Luminance Adjustment Blue : 0
Luminance Adjustment Purple : 0
Luminance Adjustment Magenta : 0
Split Toning Shadow Hue : 0
Split Toning Shadow Saturation : 0
Split Toning Highlight Hue : 0
Split Toning Highlight Saturation : 0
Split Toning Balance : 0
Parametric Shadows : 0
Parametric Darks : 0
Parametric Lights : 0
Parametric Highlights : 0
Parametric Shadow Split : 25
Parametric Midtone Split : 50
Parametric Highlight Split : 75
Sharpen Radius : +1.0
Sharpen Detail : 25
Sharpen Edge Masking : 0
Post Crop Vignette Amount : 0
Grain Amount : 0
Color Noise Reduction Detail : 50
Color Noise Reduction Smoothness : 50
Lens Profile Enable : 0
Lens Manual Distortion Amount : 0
Perspective Vertical : 0
Perspective Horizontal : 0
Perspective Rotate : 0.0
Perspective Scale : 100
Perspective Aspect : 0
Perspective Upright : Off
Auto Lateral CA : 0
Exposure 2012 : +0.45
Contrast 2012 : -25
Highlights 2012 : -9
Shadows 2012 : +9
Whites 2012 : +32
Blacks 2012 : -6
Clarity 2012 : 0
Defringe Purple Amount : 0
Defringe Purple Hue Lo : 30
Defringe Purple Hue Hi : 70
Defringe Green Amount : 0
Defringe Green Hue Lo : 40
Defringe Green Hue Hi : 60
Dehaze : 0
Tone Map Strength : 0
Convert To Grayscale : False
Tone Curve Name : Linear
Tone Curve Name 2012 : Linear
Camera Profile : Adobe Standard
Lens Profile Setup : LensDefaults
Has Settings : True
Has Crop : False
Already Applied : True
Creator : YURI-KRUZHNOV
Rights : yuriylux
Tone Curve : 0, 0, 255, 255
Tone Curve Red : 0, 0, 255, 255
Tone Curve Green : 0, 0, 255, 255
Tone Curve Blue : 0, 0, 255, 255
Tone Curve PV2012 : 0, 0, 255, 255
Tone Curve PV2012 Red : 0, 0, 255, 255
Tone Curve PV2012 Green : 0, 0, 255, 255
Tone Curve PV2012 Blue : 0, 0, 255, 255
Image Width : 300
Image Height : 439
Bits Per Sample : 8
Color Components : 3
Aperture : 10.0
Image Size : 300x439
Megapixels : 0.132
Scale Factor To 35 mm Equivalent : 1.0
Shutter Speed : 1/400
Create Date : 2017:10:14 11:00:31.75
Date/Time Original : 2017:10:14 11:00:31.75
Circle Of Confusion : 0.030 mm
Depth Of Field : 2.51 m (1.35 - 3.86 m)
Field Of View : 54.4 deg
Focal Length : 35.0 mm (35 mm equivalent: 35.0 mm)
Hyperfocal Distance : 4.08 m
Light Value : 14.3
Lens ID : AF-S Nikkor 17-35mm f/2.8D IF-ED