Uber Exif Photo
Photometric Interpretation : RGB
Make : NIKON CORPORATION
Camera Model Name : NIKON D5500
Orientation : Horizontal (normal)
Samples Per Pixel : 3
Software : Adobe Photoshop CC 2017 (Macintosh)
Modify Date : 2018:05:17 16:22:29
Exposure Time : 1/60
F Number : 5.6
Exposure Program : Aperture-priority AE
ISO : 100
Sensitivity Type : Recommended Exposure Index
Date/Time Original : 2016:05:19 15:01:46
Create Date : 2016:05:19 15:01:46
Shutter Speed Value : 1/60
Aperture Value : 5.6
Exposure Compensation : 0
Max Aperture Value : 2.8
Metering Mode : Multi-segment
Light Source : Unknown
Flash : On, Red-eye reduction, Return detected
Focal Length : 28.0 mm
Color Space : sRGB
Exif Image Width : 2303
Exif Image Height : 1616
Sensing Method : One-chip color area
Scene Type : Directly photographed
CFA Pattern : [Red,Green][Green,Blue]
Custom Rendered : Normal
Exposure Mode : Auto
White Balance : Auto
Digital Zoom Ratio : 1
Focal Length In 35mm Format : 42 mm
Scene Capture Type : Standard
Gain Control : None
Contrast : Normal
Saturation : Normal
Sharpness : Normal
Subject Distance Range : Unknown
Serial Number : 6121241
Lens Info : 17-35mm f/2.8
Lens Model : 17.0-35.0 mm f/2.8
Profile Description : sRGB IEC61966-2.1
Creator Tool : Adobe Photoshop CC (Macintosh)
Lens : 17.0-35.0 mm f/2.8
Image Number : 974
Approximate Focus Distance : 1.5
Date Created : 2016:05:19 15:01:46.079
Color Mode : RGB
ICC Profile Name : sRGB IEC61966-2.1
Format : image/jpeg
Version : 9.4
Process Version : 6.7
Auto White Version : 134348800
Color Temperature : 6200
Tint : +4
Luminance Smoothing : 0
Color Noise Reduction : 25
Vignette Amount : 0
Shadow Tint : 0
Red Hue : 0
Red Saturation : 0
Green Hue : 0
Green Saturation : 0
Blue Hue : 0
Blue Saturation : 0
Vibrance : +15
Hue Adjustment Red : 0
Hue Adjustment Orange : 0
Hue Adjustment Yellow : 0
Hue Adjustment Green : 0
Hue Adjustment Aqua : 0
Hue Adjustment Blue : 0
Hue Adjustment Purple : 0
Hue Adjustment Magenta : 0
Saturation Adjustment Red : 0
Saturation Adjustment Orange : 0
Saturation Adjustment Yellow : 0
Saturation Adjustment Green : 0
Saturation Adjustment Aqua : 0
Saturation Adjustment Blue : 0
Saturation Adjustment Purple : 0
Saturation Adjustment Magenta : 0
Luminance Adjustment Red : 0
Luminance Adjustment Orange : 0
Luminance Adjustment Yellow : 0
Luminance Adjustment Green : 0
Luminance Adjustment Aqua : 0
Luminance Adjustment Blue : 0
Luminance Adjustment Purple : 0
Luminance Adjustment Magenta : 0
Split Toning Shadow Hue : 0
Split Toning Shadow Saturation : 0
Split Toning Highlight Hue : 0
Split Toning Highlight Saturation : 0
Split Toning Balance : 0
Parametric Shadows : 0
Parametric Darks : 0
Parametric Lights : 0
Parametric Highlights : 0
Parametric Shadow Split : 25
Parametric Midtone Split : 50
Parametric Highlight Split : 75
Sharpen Radius : +1.0
Sharpen Detail : 25
Sharpen Edge Masking : 0
Post Crop Vignette Amount : 0
Grain Amount : 0
Color Noise Reduction Detail : 50
Color Noise Reduction Smoothness : 50
Lens Profile Enable : 1
Lens Manual Distortion Amount : 0
Perspective Vertical : 0
Perspective Horizontal : 0
Perspective Rotate : 0.0
Perspective Scale : 100
Perspective Aspect : 0
Perspective Upright : Full
Auto Lateral CA : 1
Exposure 2012 : -0.20
Contrast 2012 : -9
Highlights 2012 : -3
Shadows 2012 : +100
Whites 2012 : +33
Blacks 2012 : -12
Clarity 2012 : 0
Defringe Purple Amount : 0
Defringe Purple Hue Lo : 30
Defringe Purple Hue Hi : 70
Defringe Green Amount : 0
Defringe Green Hue Lo : 40
Defringe Green Hue Hi : 60
Dehaze : 0
Tone Map Strength : 0
Convert To Grayscale : False
Tone Curve Name : Linear
Tone Curve Name 2012 : Linear
Camera Profile : Adobe Standard
Lens Profile Setup : LensDefaults
Lens Profile Name : Adobe (Nikon AF-S Zoom-Nikkor 17-35mm f/2.8D IF-ED)
Lens Profile Filename : NIKON D3X (Nikon AF-S Zoom-Nikkor 17-35mm f2.8D IF-ED) - RAW.lcp
Lens Profile Distortion Scale : 100
Lens Profile Chromatic Aberration Scale : 100
Lens Profile Vignetting Scale : 100
Has Settings : True
Has Crop : False
Already Applied : True
Tone Curve : 0, 0, 255, 255
Tone Curve Red : 0, 0, 255, 255
Tone Curve Green : 0, 0, 255, 255
Tone Curve Blue : 0, 0, 255, 255
Tone Curve PV2012 : 0, 0, 255, 255
Tone Curve PV2012 Red : 0, 0, 255, 255
Tone Curve PV2012 Green : 0, 0, 255, 255
Tone Curve PV2012 Blue : 0, 0, 255, 255
Image Width : 300
Image Height : 211
Bits Per Sample : 8
Color Components : 3
Aperture : 5.6
Image Size : 300x211
Megapixels : 0.063
Scale Factor To 35 mm Equivalent : 1.5
Shutter Speed : 1/60
Create Date : 2016:05:19 15:01:46.79
Date/Time Original : 2016:05:19 15:01:46.79
Circle Of Confusion : 0.020 mm
Depth Of Field : 0.66 m (1.24 - 1.90 m)
Field Of View : 46.4 deg
Focal Length : 28.0 mm (35 mm equivalent: 42.0 mm)
Hyperfocal Distance : 6.99 m
Light Value : 10.9
Lens ID : AF-S Nikkor 17-35mm f/2.8D IF-ED