Uber Exif Photo
Keywords : test omd
Caption-Abstract : OLYMPUS DIGITAL CAMERA
Image Description : OLYMPUS DIGITAL CAMERA
Make : OLYMPUS IMAGING CORP.
Camera Model Name : E-M5
Software : Adobe Photoshop Lightroom 4.4 (Macintosh)
Modify Date : 2013:08:05 23:16:39
Exposure Time : 1/13
F Number : 1.4
Exposure Program : Program AE
ISO : 200
Sensitivity Type : Standard Output Sensitivity
Date/Time Original : 2012:07:05 06:12:44
Create Date : 2012:07:05 06:12:44
Shutter Speed Value : 1/13
Aperture Value : 1.4
Exposure Compensation : 0
Max Aperture Value : 1.4
Metering Mode : Multi-segment
Light Source : Unknown
Flash : Auto, Did not fire
Focal Length : 25.0 mm
CFA Pattern : [Red,Green][Green,Blue]
Custom Rendered : Normal
Exposure Mode : Auto
White Balance : Auto
Digital Zoom Ratio : 1
Focal Length In 35mm Format : 50 mm
Scene Capture Type : Standard
Gain Control : None
Contrast : Normal
Saturation : Normal
Sharpness : Normal
Serial Number : BF6502089
Lens Info : 25mm f/1.4
Lens Model : LEICA DG SUMMILUX 25/F1.4
Lens Serial Number : 11111104372
Profile Description : sRGB IEC61966-2.1
Format : image/jpeg
Creator Tool : Adobe Photoshop Lightroom 4.4 (Macintosh)
Lens : LEICA DG SUMMILUX 25/F1.4
Approximate Focus Distance : 1.35
Flash Compensation : 0
Date Created : 2012:07:05 06:12:44
Version : 7.4
Process Version : 6.7
Color Temperature : 2900
Tint : -5
Luminance Smoothing : 0
Color Noise Reduction : 25
Vignette Amount : 0
Shadow Tint : 0
Red Hue : 0
Red Saturation : 0
Green Hue : 0
Green Saturation : 0
Blue Hue : 0
Blue Saturation : 0
Vibrance : +52
Hue Adjustment Red : 0
Hue Adjustment Orange : 0
Hue Adjustment Yellow : 0
Hue Adjustment Green : 0
Hue Adjustment Aqua : 0
Hue Adjustment Blue : 0
Hue Adjustment Purple : 0
Hue Adjustment Magenta : 0
Saturation Adjustment Red : 0
Saturation Adjustment Orange : 0
Saturation Adjustment Yellow : 0
Saturation Adjustment Green : 0
Saturation Adjustment Aqua : 0
Saturation Adjustment Blue : 0
Saturation Adjustment Purple : 0
Saturation Adjustment Magenta : 0
Luminance Adjustment Red : 0
Luminance Adjustment Orange : 0
Luminance Adjustment Yellow : 0
Luminance Adjustment Green : 0
Luminance Adjustment Aqua : 0
Luminance Adjustment Blue : 0
Luminance Adjustment Purple : 0
Luminance Adjustment Magenta : 0
Split Toning Shadow Hue : 0
Split Toning Shadow Saturation : 0
Split Toning Highlight Hue : 0
Split Toning Highlight Saturation : 0
Split Toning Balance : 0
Parametric Shadows : 0
Parametric Darks : 0
Parametric Lights : 0
Parametric Highlights : 0
Parametric Shadow Split : 25
Parametric Midtone Split : 50
Parametric Highlight Split : 75
Sharpen Radius : +1.0
Sharpen Detail : 25
Sharpen Edge Masking : 0
Post Crop Vignette Amount : 0
Grain Amount : 0
Color Noise Reduction Detail : 50
Lens Profile Enable : 0
Lens Manual Distortion Amount : 0
Perspective Vertical : 0
Perspective Horizontal : 0
Perspective Rotate : 0.0
Perspective Scale : 100
Auto Lateral CA : 0
Exposure 2012 : 0.00
Contrast 2012 : 0
Highlights 2012 : -15
Shadows 2012 : +39
Whites 2012 : -9
Blacks 2012 : 0
Clarity 2012 : +30
Defringe Purple Amount : 0
Defringe Purple Hue Lo : 30
Defringe Purple Hue Hi : 70
Defringe Green Amount : 0
Defringe Green Hue Lo : 40
Defringe Green Hue Hi : 60
Convert To Grayscale : False
Tone Curve Name 2012 : Linear
Camera Profile : Adobe Standard
Lens Profile Setup : LensDefaults
Has Settings : True
Has Crop : False
Already Applied : True
Subject : test omd
Description : OLYMPUS DIGITAL CAMERA
Tone Curve PV2012 : 0, 0, 255, 255
Tone Curve PV2012 Red : 0, 0, 255, 255
Tone Curve PV2012 Green : 0, 0, 255, 255
Tone Curve PV2012 Blue : 0, 0, 255, 255
Image Width : 225
Image Height : 300
Bits Per Sample : 8
Color Components : 3
Aperture : 1.4
Image Size : 225x300
Megapixels : 0.068
Scale Factor To 35 mm Equivalent : 2.0
Shutter Speed : 1/13
Circle Of Confusion : 0.015 mm
Depth Of Field : 0.12 m (1.29 - 1.41 m)
Field Of View : 39.6 deg
Focal Length : 25.0 mm (35 mm equivalent: 50.0 mm)
Hyperfocal Distance : 29.72 m
Light Value : 3.7
Lens ID : LEICA DG SUMMILUX 25mm F1.4