Uber Exif Photo
Make : LEICA CAMERA AG
Camera Model Name : LEICA X2
Software : Adobe Photoshop Lightroom 4.3 (Macintosh)
Modify Date : 2013:08:05 14:07:27
Exposure Time : 1/2000
F Number : 8.0
Exposure Program : Manual
ISO : 400
Date/Time Original : 2013:07:24 18:24:37
Create Date : 2013:07:24 18:24:37
Shutter Speed Value : 1/2000
Aperture Value : 8.0
Exposure Compensation : 0
Max Aperture Value : 2.8
Metering Mode : Center-weighted average
Light Source : Unknown
Flash : Off, Did not fire
Focal Length : 24.0 mm
Sensing Method : One-chip color area
Custom Rendered : Custom
White Balance : Auto
Digital Zoom Ratio : 1
Focal Length In 35mm Format : 36 mm
Scene Capture Type : Landscape
Contrast : High
Saturation : Normal
Sharpness : Hard
Profile Description : sRGB IEC61966-2.1
Creator Tool : Adobe Photoshop Lightroom 4.3 (Macintosh)
Approximate Focus Distance : 1.8
Date Created : 2013:07:24 18:24:37
Format : image/jpeg
Version : 7.3
Process Version : 6.7
Incremental Temperature : 0
Incremental Tint : 0
Luminance Smoothing : 0
Color Noise Reduction : 0
Vignette Amount : 0
Shadow Tint : 0
Red Hue : 0
Red Saturation : 0
Green Hue : 0
Green Saturation : 0
Blue Hue : 0
Blue Saturation : 0
Vibrance : 0
Hue Adjustment Red : 0
Hue Adjustment Orange : 0
Hue Adjustment Yellow : 0
Hue Adjustment Green : 0
Hue Adjustment Aqua : 0
Hue Adjustment Blue : 0
Hue Adjustment Purple : 0
Hue Adjustment Magenta : 0
Saturation Adjustment Red : 0
Saturation Adjustment Orange : 0
Saturation Adjustment Yellow : 0
Saturation Adjustment Green : 0
Saturation Adjustment Aqua : 0
Saturation Adjustment Blue : 0
Saturation Adjustment Purple : 0
Saturation Adjustment Magenta : 0
Luminance Adjustment Red : 0
Luminance Adjustment Orange : 0
Luminance Adjustment Yellow : 0
Luminance Adjustment Green : 0
Luminance Adjustment Aqua : 0
Luminance Adjustment Blue : 0
Luminance Adjustment Purple : 0
Luminance Adjustment Magenta : 0
Split Toning Shadow Hue : 0
Split Toning Shadow Saturation : 0
Split Toning Highlight Hue : 0
Split Toning Highlight Saturation : 0
Split Toning Balance : 0
Parametric Shadows : 0
Parametric Darks : 0
Parametric Lights : 0
Parametric Highlights : 0
Parametric Shadow Split : 25
Parametric Midtone Split : 50
Parametric Highlight Split : 75
Sharpen Radius : +1.0
Sharpen Detail : 25
Sharpen Edge Masking : 0
Post Crop Vignette Amount : 0
Grain Amount : 0
Lens Profile Enable : 0
Lens Manual Distortion Amount : 0
Perspective Vertical : 0
Perspective Horizontal : 0
Perspective Rotate : 0.0
Perspective Scale : 100
Auto Lateral CA : 0
Exposure 2012 : -0.30
Contrast 2012 : -25
Highlights 2012 : -50
Shadows 2012 : +50
Whites 2012 : +14
Blacks 2012 : +1
Clarity 2012 : 0
Defringe Purple Amount : 0
Defringe Purple Hue Lo : 30
Defringe Purple Hue Hi : 70
Defringe Green Amount : 0
Defringe Green Hue Lo : 40
Defringe Green Hue Hi : 60
Convert To Grayscale : False
Tone Curve Name 2012 : Linear
Camera Profile : Embedded
Lens Profile Setup : LensDefaults
Has Settings : True
Has Crop : False
Already Applied : True
Tone Curve PV2012 : 0, 0, 255, 255
Tone Curve PV2012 Red : 0, 0, 255, 255
Tone Curve PV2012 Green : 0, 0, 255, 255
Tone Curve PV2012 Blue : 0, 0, 255, 255
Image Width : 300
Image Height : 199
Bits Per Sample : 8
Color Components : 3
Aperture : 8.0
Image Size : 300x199
Megapixels : 0.060
Scale Factor To 35 mm Equivalent : 1.5
Shutter Speed : 1/2000
Circle Of Confusion : 0.020 mm
Depth Of Field : 2.35 m (1.20 - 3.56 m)
Field Of View : 53.1 deg
Focal Length : 24.0 mm (35 mm equivalent: 36.0 mm)
Hyperfocal Distance : 3.59 m
Light Value : 15.0