Uber Exif Photo
Make : PENTAX
Camera Model Name : PENTAX 645D
Software : Adobe Photoshop Lightroom 4.4 (Macintosh)
Modify Date : 2013:07:04 09:56:46
Exposure Time : 1/25
F Number : 3.5
Exposure Program : Aperture-priority AE
ISO : 400
Date/Time Original : 2010:03:27 05:23:39
Create Date : 2010:03:27 05:23:39
Shutter Speed Value : 1/25
Aperture Value : 3.5
Exposure Compensation : 0
Metering Mode : Multi-segment
Flash : Off, Did not fire
Focal Length : 55.0 mm
Sensing Method : One-chip color area
Scene Type : Directly photographed
Custom Rendered : Normal
Exposure Mode : Auto
White Balance : Auto
Focal Length In 35mm Format : 43 mm
Scene Capture Type : Standard
Contrast : Normal
Saturation : Normal
Sharpness : Normal
Subject Distance Range : Distant
Lens Info : 55mm f/2.8
Lens Model : smc PENTAX-D FA645 55mm F2.8 AL [IF] SDM AW
Creator Tool : Adobe Photoshop Lightroom 4.4 (Macintosh)
Rating : 5
Lens : smc PENTAX-D FA645 55mm F2.8 AL [IF] SDM AW
Approximate Focus Distance : 4
Date Created : 2010:03:27 05:23:39
Version : 7.4
Process Version : 5.7
Incremental Temperature : 0
Incremental Tint : 0
Exposure : 0.00
Shadows : 10
Brightness : 0
Luminance Smoothing : 0
Color Noise Reduction : 0
Vignette Amount : 0
Shadow Tint : 0
Red Hue : 0
Red Saturation : 0
Green Hue : 0
Green Saturation : 0
Blue Hue : 0
Blue Saturation : 0
Fill Light : 0
Highlight Recovery : 0
Clarity : +50
Gray Mixer Red : -13
Gray Mixer Orange : -13
Gray Mixer Yellow : -31
Gray Mixer Green : +42
Gray Mixer Aqua : -17
Gray Mixer Blue : -46
Gray Mixer Purple : -25
Gray Mixer Magenta : +3
Split Toning Shadow Hue : 0
Split Toning Shadow Saturation : 0
Split Toning Highlight Hue : 0
Split Toning Highlight Saturation : 0
Split Toning Balance : 0
Parametric Shadows : +13
Parametric Darks : -3
Parametric Lights : 0
Parametric Highlights : -19
Parametric Shadow Split : 25
Parametric Midtone Split : 50
Parametric Highlight Split : 75
Sharpen Radius : +1.2
Sharpen Detail : 25
Sharpen Edge Masking : 0
Post Crop Vignette Amount : 0
Grain Amount : 0
Lens Profile Enable : 0
Lens Manual Distortion Amount : 0
Perspective Vertical : 0
Perspective Horizontal : 0
Perspective Rotate : 0.0
Perspective Scale : 100
Auto Lateral CA : 0
Convert To Grayscale : True
Tone Curve Name : Linear
Camera Profile : Embedded
Lens Profile Setup : LensDefaults
Has Settings : True
Crop Top : 0
Crop Left : 0.016652
Crop Bottom : 1
Crop Right : 0.888278
Crop Angle : 1.05873
Crop Constrain To Warp : 0
Crop Width : 1280
Crop Height : 1059
Crop Unit : pixels
Has Crop : True
Already Applied : True
Format : image/jpeg
Tone Curve : 0, 0, 255, 255
Tone Curve Red : 0, 0, 255, 255
Tone Curve Green : 0, 0, 255, 255
Tone Curve Blue : 0, 0, 255, 255
Derived From :
Image Width : 300
Image Height : 248
Bits Per Sample : 8
Color Components : 1
Aperture : 3.5
Image Size : 300x248
Megapixels : 0.074
Scale Factor To 35 mm Equivalent : 0.8
Shutter Speed : 1/25
Circle Of Confusion : 0.038 mm
Depth Of Field : 1.45 m (3.40 - 4.85 m)
Field Of View : 45.4 deg
Focal Length : 55.0 mm (35 mm equivalent: 43.0 mm)
Hyperfocal Distance : 22.49 m
Light Value : 6.3
Lens ID : smc PENTAX-D FA 645 55mm F2.8 AL [IF] SDM AW