Uber Exif Photo
Make : Panasonic
Camera Model Name : DMC-GX1
Orientation : Horizontal (normal)
Software : Adobe Photoshop CS4 Windows
Modify Date : 2012:10:19 15:36:35
Exposure Time : 1/125
F Number : 11.0
Exposure Program : Aperture-priority AE
ISO : 160
Date/Time Original : 2012:10:17 14:56:55
Create Date : 2012:10:17 14:56:55
Shutter Speed Value : 1/125
Aperture Value : 11.0
Exposure Compensation : +0.66
Max Aperture Value : 2.5
Metering Mode : Multi-segment
Light Source : Fine Weather
Focal Length : 14.0 mm
Color Space : sRGB
Exif Image Width : 1599
Exif Image Height : 1200
Sensing Method : One-chip color area
Scene Type : Directly photographed
Custom Rendered : Normal
Exposure Mode : Auto bracket
White Balance : Manual
Digital Zoom Ratio : 0
Focal Length In 35mm Format : 28 mm
Scene Capture Type : Standard
Gain Control : Low gain up
Contrast : Normal
Saturation : High
Sharpness : Hard
Lens Model : LUMIX G 14/F2.5
Lens Serial Number : 00KG6021711R
Profile Description : sRGB IEC61966-2.1
Lens : LUMIX G 14/F2.5
Creator Tool : Adobe Photoshop Lightroom 4.2 (Windows)
Date Created : 2012:10:17
Color Mode : RGB
ICC Profile Name : sRGB IEC61966-2.1
Format : image/jpeg
Version : 7.2
Process Version : 6.7
Color Temperature : 5810
Tint : 0
Luminance Smoothing : 0
Color Noise Reduction : 25
Vignette Amount : 0
Shadow Tint : 0
Red Hue : 0
Red Saturation : 0
Green Hue : 0
Green Saturation : 0
Blue Hue : 0
Blue Saturation : 0
Vibrance : 0
Hue Adjustment Red : 0
Hue Adjustment Orange : 0
Hue Adjustment Yellow : 0
Hue Adjustment Green : 0
Hue Adjustment Aqua : 0
Hue Adjustment Blue : 0
Hue Adjustment Purple : 0
Hue Adjustment Magenta : 0
Saturation Adjustment Red : +36
Saturation Adjustment Orange : 0
Saturation Adjustment Yellow : 0
Saturation Adjustment Green : 0
Saturation Adjustment Aqua : 0
Saturation Adjustment Blue : 0
Saturation Adjustment Purple : 0
Saturation Adjustment Magenta : 0
Luminance Adjustment Red : +56
Luminance Adjustment Orange : 0
Luminance Adjustment Yellow : 0
Luminance Adjustment Green : 0
Luminance Adjustment Aqua : 0
Luminance Adjustment Blue : 0
Luminance Adjustment Purple : 0
Luminance Adjustment Magenta : 0
Split Toning Shadow Hue : 0
Split Toning Shadow Saturation : 0
Split Toning Highlight Hue : 0
Split Toning Highlight Saturation : 0
Split Toning Balance : 0
Parametric Shadows : 0
Parametric Darks : 0
Parametric Lights : +13
Parametric Highlights : 0
Parametric Shadow Split : 25
Parametric Midtone Split : 50
Parametric Highlight Split : 75
Sharpen Radius : +1.0
Sharpen Detail : 25
Sharpen Edge Masking : 0
Post Crop Vignette Amount : 0
Grain Amount : 0
Color Noise Reduction Detail : 50
Lens Profile Enable : 0
Lens Manual Distortion Amount : 0
Perspective Vertical : 0
Perspective Horizontal : 0
Perspective Rotate : 0.0
Perspective Scale : 100
Auto Lateral CA : 0
Exposure 2012 : 0.00
Contrast 2012 : 0
Highlights 2012 : 0
Shadows 2012 : 0
Whites 2012 : +10
Blacks 2012 : -48
Clarity 2012 : +29
Defringe Purple Amount : 0
Defringe Purple Hue Lo : 30
Defringe Purple Hue Hi : 70
Defringe Green Amount : 0
Defringe Green Hue Lo : 40
Defringe Green Hue Hi : 60
Convert To Grayscale : False
Tone Curve Name 2012 : Linear
Camera Profile : Adobe Standard
Lens Profile Setup : LensDefaults
Has Settings : True
Crop Top : 0.098171
Crop Left : 0.266277
Crop Bottom : 0.72807
Crop Right : 0.896174
Crop Angle : 0
Crop Constrain To Warp : 0
Crop Width : 2892
Crop Height : 2172
Crop Unit : pixels
Has Crop : True
Already Applied : True
Date/Time Digitized : 2012:10:17 14:56:55-04:00
Tone Curve PV2012 : 0, 0, 255, 255
Tone Curve PV2012 Red : 0, 0, 255, 255
Tone Curve PV2012 Green : 0, 0, 255, 255
Tone Curve PV2012 Blue : 0, 0, 255, 255
Flash Fired : False
Flash Return : No return detection
Flash Mode : Off
Flash Function : False
Flash Red Eye Mode : False
Image Width : 300
Image Height : 225
Bits Per Sample : 8
Color Components : 3
Aperture : 11.0
Image Size : 300x225
Megapixels : 0.068
Scale Factor To 35 mm Equivalent : 2.0
Shutter Speed : 1/125
Flash : Off, Did not fire
Circle Of Confusion : 0.015 mm
Field Of View : 65.5 deg
Focal Length : 14.0 mm (35 mm equivalent: 28.0 mm)
Hyperfocal Distance : 1.19 m
Light Value : 13.2
Lens ID : LUMIX G 14mm F2.5